PDS_VERSION_ID = PDS3
/* FILE DATA ELEMENTS */
RECORD_TYPE = STREAM
/* POINTERS TO DATA OBJECTS */
^COMPRESSED_FILE = "H1372_0001_SR3.JP2"
/* IDENTIFICATION DATA ELEMENTS */
DATA_SET_ID = "MEX-M-HRSC-5-REFDR-MAPPROJECTED-V3.0"
DATA_SET_NAME = "MARS EXPRESS HRSC MAP PROJECTED REFDR V3.0"
DETECTOR_ID = MEX_HRSC_SRC
EVENT_TYPE = "MARS-REGIONAL-STEREO-Vo-Te-Fl"
INSTRUMENT_HOST_ID = MEX
INSTRUMENT_HOST_NAME = "MARS EXPRESS"
INSTRUMENT_ID = HRSC
INSTRUMENT_NAME = "HIGH RESOLUTION STEREO CAMERA"
MISSION_NAME = "MARS EXPRESS"
MISSION_PHASE_NAME = MR_Phase_4
PROCESSING_LEVEL_ID = 3
PRODUCT_CREATION_TIME = 2016-03-05T01:52:25.000Z
PRODUCT_ID = "H1372_0001_SR3.JP2"
RELEASE_ID = 0018
REVISION_ID = 0000
/* QUALITY DATA ELEMENTS */
DATA_QUALITY_ID = 1
DATA_QUALITY_DESC = "Data calculated based on original SPICE kernels"
/* TIME DATA ELEMENTS */
SPACECRAFT_CLOCK_START_COUNT = "1/0056153454.57154"
SPACECRAFT_CLOCK_STOP_COUNT = "1/0056154078.48708"
IMAGE_TIME = 2005-02-10T22:13:24.500Z
START_TIME = 2005-02-10T22:13:24.242Z
STOP_TIME = 2005-02-10T22:13:24.758Z
/* ORBITAL DATA ELEMENTS */
ASCENDING_NODE_LONGITUDE = 199.79
MAXIMUM_RESOLUTION = 5.316
FOOTPRINT_POINT_LATITUDE = (25.1382,25.1352,25.133,25.1293,25.1268 ,25.123,25.1203,25.1168,25.1125,25.1077 ,25.1047,25.0993,25.0951,25.0922, 25.0886,25.0863,25.0813,25.078,25.0758, 25.0721,25.0676,25.0627,25.0588,25.0543 ,25.0511,25.0511,25.0512,25.0512, 25.0512,25.0512,25.0512,25.0512,25.0512 ,25.0512,25.0512,25.0512,25.0512, 25.0512,25.0512,25.0512,25.0513,25.0513 ,25.0513,25.0513,25.0513,25.0513, 25.0513,25.0513,25.0513,25.0532,25.0573 ,25.0597,25.0637,25.0664,25.0714, 25.0745,25.0778,25.0823,25.086,25.0891, 25.0926,25.0953,25.0982,25.1032,25.1064 ,25.1109,25.1159,25.119,25.1237,25.1278 ,25.1307,25.1338,25.136,25.1386,25.1418 ,25.1418,25.1418,25.1418,25.1418, 25.1418,25.1418,25.1418,25.1418,25.1418 ,25.1418,25.1418,25.1418,25.1417, 25.1417,25.1417,25.1417,25.1417,25.1417 ,25.1417,25.1416,25.1416,25.1416, 25.1416,25.1416,25.1382)
FOOTPRINT_POINT_LONGITUDE = (137.043,137.043,137.043,137.043, 137.043,137.043,137.043,137.043,137.043 ,137.043,137.043,137.043,137.043, 137.043,137.043,137.043,137.043,137.043 ,137.043,137.043,137.043,137.043, 137.043,137.043,137.041,137.037,137.033 ,137.029,137.025,137.021,137.017, 137.013,137.009,137.005,137.001,136.995 ,136.991,136.987,136.983,136.979, 136.975,136.971,136.967,136.963,136.959 ,136.955,136.951,136.947,136.944, 136.942,136.942,136.942,136.942,136.942 ,136.942,136.942,136.942,136.942, 136.942,136.942,136.942,136.942,136.942 ,136.942,136.942,136.942,136.942, 136.942,136.942,136.942,136.942,136.942 ,136.942,136.942,136.943,136.947, 136.951,136.955,136.959,136.963,136.967 ,136.971,136.975,136.979,136.983, 136.987,136.991,136.995,137.001,137.004 ,137.008,137.012,137.016,137.02,137.024 ,137.028,137.032,137.036,137.04, 137.043)
ORBIT_NUMBER = 1372
ORBITAL_ECCENTRICITY = 0.567
ORBITAL_INCLINATION = 86.59
ORBITAL_SEMIMAJOR_AXIS = 8556.28
PERIAPSIS_ALTITUDE = 319.83
PERIAPSIS_ARGUMENT_ANGLE = 119.19
PERIAPSIS_TIME = 2005-02-10T22:03:58.000Z
SPACECRAFT_ORIENTATION = (0.0,1.0,0.0)
^MEX_ORIENTATION_DESC = "MEX_ORIENTATION_DESC.TXT"
SPACECRAFT_POINTING_MODE = ACROSSTRACK
^MEX_POINTING_DESC = "MEX_POINTING_DESC.TXT"
RIGHT_ASCENSION = -1e+32
DECLINATION = -1e+32
OFFSET_ANGLE = 0.45
SPACECRAFT_SOLAR_DISTANCE = 2.27001e+08
TARGET_NAME = MARS
/* CAMERA DATA ELEMENTS */
BUFFER_MODE_ID = BUFFER_8
EXPOSURE_DURATION = 516.096
INST_CMPRS_NAME = NONE
INST_CMPRS_RATIO = 1.0
INST_CMPRS_QUALITY = -2147483648
INST_CMPRS_QUANTZ_TBL_ID = -2147483648
INSTRUMENT_TEMPERATURE = 8.18182
MISSING_FRAMES = 0
START_BIT = 0
/* RADIOMETRIC DATA ELEMENTS */
BANDWIDTH = 250.0
CENTER_FILTER_WAVELENGTH = 600.0
RADIANCE_OFFSET = -9.99e+31
RADIANCE_SCALING_FACTOR = -9.99e+31
REFLECTANCE_SCALING_FACTOR = -9.99e+31
MEX:REFLECTANCE_OFFSET = -9.99e+31
/* IMAGE OBJECT DEFINITIONS */
OBJECT = IMAGE
  INTERCHANGE_FORMAT = BINARY
  LINES = 1123
  LINE_SAMPLES = 1136
  SAMPLE_TYPE = UNSIGNED_INTEGER
  SAMPLE_BITS = 8
  BANDS = 1
  BAND_STORAGE_TYPE = BAND_SEQUENTIAL
  MAXIMUM = 7172
  MEAN = 1121.51
  MINIMUM = 0
  STANDARD_DEVIATION = 2511.31
END_OBJECT = IMAGE
/* MAP OBJECT DEFINITIONS */
OBJECT = IMAGE_MAP_PROJECTION
  ^DATA_SET_MAP_PROJECTION_CATALOG= "DSMAP.CAT"
  A_AXIS_RADIUS = 3396.19
  B_AXIS_RADIUS = 3396.19
  C_AXIS_RADIUS = 3396.19
  CENTER_LATITUDE = 0.0
  CENTER_LONGITUDE = 137.0
  COORDINATE_SYSTEM_NAME = PLANETOGRAPHIC
  COORDINATE_SYSTEM_TYPE = "BODY-FIXED ROTATING"
  EASTERNMOST_LONGITUDE = 137.043
  FIRST_STANDARD_PARALLEL = "N/A"
  LINE_FIRST_PIXEL = 1
  LINE_LAST_PIXEL = 1123
  LINE_PROJECTION_OFFSET = 297967.0
  MAP_PROJECTION_ROTATION = 0.0
  MAP_PROJECTION_TYPE = SINUSOIDAL
  MAP_RESOLUTION = 11854.9393024378
  MAP_SCALE = 0.005
  MAXIMUM_LATITUDE = 25.1418
  MINIMUM_LATITUDE = 25.0511
  POSITIVE_LONGITUDE_DIRECTION = EAST
  REFERENCE_LATITUDE = "N/A"
  REFERENCE_LONGITUDE = "N/A"
  SAMPLE_FIRST_PIXEL = 1
  SAMPLE_LAST_PIXEL = 1136
  SAMPLE_PROJECTION_OFFSET = 610.0
  SECOND_STANDARD_PARALLEL = "N/A"
  WESTERNMOST_LONGITUDE = 136.942
END_OBJECT = IMAGE_MAP_PROJECTION
/* The JPEG2000 image data file associated with this label. */
OBJECT = COMPRESSED_FILE
  FILE_NAME = "H1372_0001_SR3.JP2"
  RECORD_TYPE = UNDEFINED
  FILE_RECORDS = UNK
  ENCODING_TYPE = "JP2"
  INTERCHANGE_FORMAT = BINARY
  UNCOMPRESSED_FILE_NAME = "H1372_0001_SR3.IMG"
  REQUIRED_STORAGE_BYTES = "1295040"
  ^DESCRIPTION = "JP2INFO.TXT"
END_OBJECT = COMPRESSED_FILE
END
