PDS_VERSION_ID = PDS3
/* FILE DATA ELEMENTS */
RECORD_TYPE = STREAM
/* POINTERS TO DATA OBJECTS */
^COMPRESSED_FILE = "H1373_0000_RE3.JP2"
/* IDENTIFICATION DATA ELEMENTS */
DATA_SET_ID = "MEX-M-HRSC-5-REFDR-MAPPROJECTED-V3.0"
DATA_SET_NAME = "MARS EXPRESS HRSC MAP PROJECTED REFDR V3.0"
DETECTOR_ID = MEX_HRSC_RED
EVENT_TYPE = "MARS-REGIONAL-MAPPING-Vo-Im-Fl"
INSTRUMENT_HOST_ID = MEX
INSTRUMENT_HOST_NAME = "MARS EXPRESS"
INSTRUMENT_ID = HRSC
INSTRUMENT_NAME = "HIGH RESOLUTION STEREO CAMERA"
MISSION_NAME = "MARS EXPRESS"
MISSION_PHASE_NAME = MR_Phase_4
PROCESSING_LEVEL_ID = 3
PRODUCT_CREATION_TIME = 2016-03-05T01:52:25.000Z
PRODUCT_ID = "H1373_0000_RE3.JP2"
RELEASE_ID = 0018
REVISION_ID = 0000
/* QUALITY DATA ELEMENTS */
DATA_QUALITY_ID = 1
DATA_QUALITY_DESC = "Data calculated based on original SPICE kernels"
/* TIME DATA ELEMENTS */
SPACECRAFT_CLOCK_START_COUNT = "1/0056177652.57951"
SPACECRAFT_CLOCK_STOP_COUNT = "1/0056178318.04375"
START_TIME = 2005-02-11T04:54:27.909Z
STOP_TIME = 2005-02-11T05:03:35.969Z
/* ORBITAL DATA ELEMENTS */
ASCENDING_NODE_LONGITUDE = 199.76
MAXIMUM_RESOLUTION = 78.8
FOOTPRINT_POINT_LATITUDE = (31.0244,31.0212,31.0139,30.6493, 29.9847,29.3095,28.6238,27.9272,27.2294 ,26.5374,25.8475,24.8154,23.4471, 22.7677,22.0904,21.4142,20.7347,19.7334 ,19.0655,18.4002,17.4047,16.4206, 15.7648,15.1133,14.1369,13.4916,12.8489 ,12.211,11.2541,10.3013,9.35995,8.72465 ,8.11072,7.49006,6.86459,6.24918, 5.64505,5.03563,4.42845,3.82612,2.92451 ,2.32625,1.73189,1.14025,0.551345, -0.0349433,-0.617789,-1.19941,-1.17735, -1.15788,-1.13148,-1.11067,-1.0796, -1.06035,-0.484197,0.0940872,0.676297, 1.26237,2.1395,2.73064,3.33011,4.22844, 4.82729,5.43275,6.04026,6.65124,7.26536 ,7.88144,8.50076,9.12384,9.75168, 11.0011,11.9459,12.9027,13.543,14.1889, 14.839,15.484,16.1439,16.7966,17.4525, 18.1105,18.7718,19.4353,20.1037,21.1035 ,21.7825,22.7959,23.4721,24.1525, 24.8357,25.8601,26.5545,27.2466,27.9413 ,28.9791,29.6603,30.3307,30.987, 31.0244)
FOOTPRINT_POINT_LONGITUDE = (38.2088,38.7762,39.3482,39.6484, 39.6601,39.6723,39.6847,39.6962,39.7092 ,39.7196,39.7296,39.7446,39.7635, 39.7717,39.7797,39.7882,39.7994,39.8087 ,39.8163,39.8238,39.8357,39.8443, 39.8513,39.8573,39.8681,39.874,39.8798, 39.8845,39.8938,39.9037,39.9112,39.921, 39.9225,39.9282,39.9372,39.943,39.945, 39.9506,39.9564,39.9613,39.9702,39.9764 ,39.9822,39.9881,39.994,40.0,40.0059, 40.0124,39.4632,39.0856,38.4713,37.9266 ,37.0093,36.3525,36.3977,36.442,36.4859 ,36.5296,36.5918,36.6332,36.6756, 36.7362,36.7748,36.8137,36.8518,36.8894 ,36.9264,36.9625,36.998,37.033,37.0679, 37.1317,37.1778,37.2237,37.2532,37.2826 ,37.3115,37.3379,37.3663,37.3915, 37.4162,37.4398,37.4628,37.4848,37.5065 ,37.5358,37.5561,37.5829,37.599,37.6145 ,37.6291,37.6482,37.6612,37.6723, 37.6823,37.6948,37.7016,37.707,37.7109, 38.2088)
ORBIT_NUMBER = 1373
ORBITAL_ECCENTRICITY = 0.568
ORBITAL_INCLINATION = 86.6
ORBITAL_SEMIMAJOR_AXIS = 8556.63
PERIAPSIS_ALTITUDE = 319.6
PERIAPSIS_ARGUMENT_ANGLE = 119.01
PERIAPSIS_TIME = 2005-02-11T04:47:17.000Z
SPACECRAFT_ORIENTATION = (0.0,1.0,0.0)
^MEX_ORIENTATION_DESC = "MEX_ORIENTATION_DESC.TXT"
SPACECRAFT_POINTING_MODE = ACROSSTRACK
^MEX_POINTING_DESC = "MEX_POINTING_DESC.TXT"
RIGHT_ASCENSION = -1e+32
DECLINATION = -1e+32
OFFSET_ANGLE = 0.44
SPACECRAFT_SOLAR_DISTANCE = 2.26946e+08
TARGET_NAME = MARS
/* CAMERA DATA ELEMENTS */
DETECTOR_TEMPERATURE = 18.1666
FOCAL_PLANE_TEMPERATURE = 7.7677
INST_CMPRS_NAME = "DISCRETE COSINE TRANSFORMATION (DCT)"
INST_CMPRS_RATIO = 29.2102
INST_CMPRS_QUALITY = 0
INST_CMPRS_QUANTZ_TBL_ID = 0
INSTRUMENT_TEMPERATURE = 10.8262
LENS_TEMPERATURE = 8.1755
MACROPIXEL_SIZE = 4
MISSING_FRAMES = 0
PIXEL_SUBSAMPLING_FLAG = N
SIGNAL_CHAIN_ID = 2
/* RADIOMETRIC DATA ELEMENTS */
BANDWIDTH = 48.0
CENTER_FILTER_WAVELENGTH = 748.0
RADIANCE_OFFSET = 2.75893
RADIANCE_SCALING_FACTOR = 0.00526731
REFLECTANCE_SCALING_FACTOR = 0.000619094
MEX:REFLECTANCE_OFFSET = 0.324271
/* IMAGE OBJECT DEFINITIONS */
OBJECT = IMAGE
  INTERCHANGE_FORMAT = BINARY
  LINES = 19068
  LINE_SAMPLES = 2517
  SAMPLE_TYPE = UNSIGNED_INTEGER
  SAMPLE_BITS = 8
  BANDS = 1
  BAND_STORAGE_TYPE = BAND_SEQUENTIAL
  MAXIMUM = 134
  MEAN = 96.1996
  MINIMUM = 60
  STANDARD_DEVIATION = 3.78151
END_OBJECT = IMAGE
/* MAP OBJECT DEFINITIONS */
OBJECT = IMAGE_MAP_PROJECTION
  ^DATA_SET_MAP_PROJECTION_CATALOG= "DSMAP.CAT"
  A_AXIS_RADIUS = 3396.0
  B_AXIS_RADIUS = 3396.0
  C_AXIS_RADIUS = 3396.0
  CENTER_LATITUDE = 0.0
  CENTER_LONGITUDE = 39.0
  COORDINATE_SYSTEM_NAME = PLANETOGRAPHIC
  COORDINATE_SYSTEM_TYPE = "BODY-FIXED ROTATING"
  EASTERNMOST_LONGITUDE = 40.0124
  FIRST_STANDARD_PARALLEL = "N/A"
  LINE_FIRST_PIXEL = 1
  LINE_LAST_PIXEL = 19068
  LINE_PROJECTION_OFFSET = 18369.625
  MAP_PROJECTION_ROTATION = 0.0
  MAP_PROJECTION_TYPE = SINUSOIDAL
  MAP_RESOLUTION = 592.713803866667
  MAP_SCALE = 0.1
  MAXIMUM_LATITUDE = 31.0244
  MINIMUM_LATITUDE = -1.19941
  POSITIVE_LONGITUDE_DIRECTION = EAST
  REFERENCE_LATITUDE = "N/A"
  REFERENCE_LONGITUDE = "N/A"
  SAMPLE_FIRST_PIXEL = 1
  SAMPLE_LAST_PIXEL = 2517
  SAMPLE_PROJECTION_OFFSET = 1749.125
  SECOND_STANDARD_PARALLEL = "N/A"
  WESTERNMOST_LONGITUDE = 36.3525
END_OBJECT = IMAGE_MAP_PROJECTION
/* The JPEG2000 image data file associated with this label. */
OBJECT = COMPRESSED_FILE
  FILE_NAME = "H1373_0000_RE3.JP2"
  RECORD_TYPE = UNDEFINED
  FILE_RECORDS = UNK
  ENCODING_TYPE = "JP2"
  INTERCHANGE_FORMAT = BINARY
  UNCOMPRESSED_FILE_NAME = "H1373_0000_RE3.IMG"
  REQUIRED_STORAGE_BYTES = "48014292"
  ^DESCRIPTION = "JP2INFO.TXT"
END_OBJECT = COMPRESSED_FILE
END
