PDS_VERSION_ID = PDS3
/* FILE DATA ELEMENTS */
RECORD_TYPE = STREAM
/* POINTERS TO DATA OBJECTS */
^COMPRESSED_FILE = "H1373_0006_SR3.JP2"
/* IDENTIFICATION DATA ELEMENTS */
DATA_SET_ID = "MEX-M-HRSC-5-REFDR-MAPPROJECTED-V3.0"
DATA_SET_NAME = "MARS EXPRESS HRSC MAP PROJECTED REFDR V3.0"
DETECTOR_ID = MEX_HRSC_SRC
EVENT_TYPE = "MARS-REGIONAL-MAPPING-Vo-Im-Fl"
INSTRUMENT_HOST_ID = MEX
INSTRUMENT_HOST_NAME = "MARS EXPRESS"
INSTRUMENT_ID = HRSC
INSTRUMENT_NAME = "HIGH RESOLUTION STEREO CAMERA"
MISSION_NAME = "MARS EXPRESS"
MISSION_PHASE_NAME = MR_Phase_4
PROCESSING_LEVEL_ID = 3
PRODUCT_CREATION_TIME = 2016-03-05T01:52:25.000Z
PRODUCT_ID = "H1373_0006_SR3.JP2"
RELEASE_ID = 0018
REVISION_ID = 0000
/* QUALITY DATA ELEMENTS */
DATA_QUALITY_ID = 1
DATA_QUALITY_DESC = "Data calculated based on original SPICE kernels"
/* TIME DATA ELEMENTS */
SPACECRAFT_CLOCK_START_COUNT = "1/0056177652.57951"
SPACECRAFT_CLOCK_STOP_COUNT = "1/0056178318.04375"
IMAGE_TIME = 2005-02-11T04:58:38.020Z
START_TIME = 2005-02-11T04:58:38.017Z
STOP_TIME = 2005-02-11T04:58:38.022Z
/* ORBITAL DATA ELEMENTS */
ASCENDING_NODE_LONGITUDE = 199.76
MAXIMUM_RESOLUTION = 6.288
FOOTPRINT_POINT_LATITUDE = (18.9808,18.9771,18.9724,18.9694, 18.9663,18.9619,18.9566,18.9513,18.9481 ,18.9436,18.9396,18.9341,18.9308, 18.9256,18.9216,18.9178,18.9145,18.9092 ,18.9053,18.9,18.8962,18.8924,18.8872, 18.8836,18.8806,18.8769,18.8747,18.8748 ,18.8748,18.8749,18.8749,18.8749,18.875 ,18.875,18.8751,18.8751,18.8752,18.8752 ,18.8753,18.8753,18.8753,18.8754, 18.8754,18.8755,18.8755,18.8756,18.8756 ,18.8756,18.8757,18.8757,18.8758, 18.8803,18.8845,18.8878,18.8915,18.896, 18.9016,18.9052,18.9107,18.9149,18.9187 ,18.9219,18.9262,18.9316,18.9352,18.94, 18.9441,18.9503,18.9554,18.9614,18.9651 ,18.9702,18.9749,18.9786,18.9827, 18.9826,18.9826,18.9826,18.9825,18.9825 ,18.9824,18.9824,18.9823,18.9823, 18.9823,18.9822,18.9822,18.9821,18.9821 ,18.9821,18.982,18.982,18.9819,18.9819, 18.9818,18.9818,18.9818,18.9817,18.9817 ,18.9808)
FOOTPRINT_POINT_LONGITUDE = (38.6763,38.6762,38.6762,38.6761, 38.6761,38.6761,38.676,38.6759,38.6759, 38.6759,38.6758,38.6757,38.6757,38.6757 ,38.6756,38.6756,38.6755,38.6755, 38.6754,38.6754,38.6753,38.6753,38.6752 ,38.6752,38.6752,38.6751,38.6716, 38.6671,38.6626,38.6581,38.6536,38.6491 ,38.6446,38.6402,38.6357,38.6312, 38.6267,38.6222,38.6177,38.6132,38.6087 ,38.6042,38.5997,38.5952,38.5907, 38.5862,38.5818,38.5773,38.5728,38.5683 ,38.5638,38.5609,38.561,38.561,38.561, 38.5611,38.5611,38.5612,38.5612,38.5613 ,38.5613,38.5613,38.5614,38.5614, 38.5615,38.5615,38.5616,38.5616,38.5617 ,38.5617,38.5618,38.5618,38.5619, 38.5619,38.5643,38.5688,38.5733,38.5778 ,38.5823,38.5868,38.5913,38.5958, 38.6003,38.6048,38.6093,38.6138,38.6183 ,38.6228,38.6273,38.6318,38.6362, 38.6407,38.6452,38.6497,38.6542,38.6587 ,38.6632,38.6677,38.6722,38.6763)
ORBIT_NUMBER = 1373
ORBITAL_ECCENTRICITY = 0.568
ORBITAL_INCLINATION = 86.6
ORBITAL_SEMIMAJOR_AXIS = 8556.63
PERIAPSIS_ALTITUDE = 319.6
PERIAPSIS_ARGUMENT_ANGLE = 119.01
PERIAPSIS_TIME = 2005-02-11T04:47:17.000Z
SPACECRAFT_ORIENTATION = (0.0,1.0,0.0)
^MEX_ORIENTATION_DESC = "MEX_ORIENTATION_DESC.TXT"
SPACECRAFT_POINTING_MODE = ACROSSTRACK
^MEX_POINTING_DESC = "MEX_POINTING_DESC.TXT"
RIGHT_ASCENSION = -1e+32
DECLINATION = -1e+32
OFFSET_ANGLE = 0.44
SPACECRAFT_SOLAR_DISTANCE = 2.26946e+08
TARGET_NAME = MARS
/* CAMERA DATA ELEMENTS */
BUFFER_MODE_ID = BUFFER_8
EXPOSURE_DURATION = 5.04
INST_CMPRS_NAME = NONE
INST_CMPRS_RATIO = 1.0
INST_CMPRS_QUALITY = -2147483648
INST_CMPRS_QUANTZ_TBL_ID = -2147483648
INSTRUMENT_TEMPERATURE = 11.2121
MISSING_FRAMES = 0
START_BIT = 0
/* RADIOMETRIC DATA ELEMENTS */
BANDWIDTH = 250.0
CENTER_FILTER_WAVELENGTH = 600.0
RADIANCE_OFFSET = -9.99e+31
RADIANCE_SCALING_FACTOR = -9.99e+31
REFLECTANCE_SCALING_FACTOR = -9.99e+31
MEX:REFLECTANCE_OFFSET = -9.99e+31
/* IMAGE OBJECT DEFINITIONS */
OBJECT = IMAGE
  INTERCHANGE_FORMAT = BINARY
  LINES = 1325
  LINE_SAMPLES = 1341
  SAMPLE_TYPE = UNSIGNED_INTEGER
  SAMPLE_BITS = 8
  BANDS = 1
  BAND_STORAGE_TYPE = BAND_SEQUENTIAL
  MAXIMUM = 11761
  MEAN = 9895.5
  MINIMUM = 0
  STANDARD_DEVIATION = 695.048
END_OBJECT = IMAGE
/* MAP OBJECT DEFINITIONS */
OBJECT = IMAGE_MAP_PROJECTION
  ^DATA_SET_MAP_PROJECTION_CATALOG= "DSMAP.CAT"
  A_AXIS_RADIUS = 3396.19
  B_AXIS_RADIUS = 3396.19
  C_AXIS_RADIUS = 3396.19
  CENTER_LATITUDE = 0.0
  CENTER_LONGITUDE = 39.0
  COORDINATE_SYSTEM_NAME = PLANETOGRAPHIC
  COORDINATE_SYSTEM_TYPE = "BODY-FIXED ROTATING"
  EASTERNMOST_LONGITUDE = 38.6763
  FIRST_STANDARD_PARALLEL = "N/A"
  LINE_FIRST_PIXEL = 1
  LINE_LAST_PIXEL = 1325
  LINE_PROJECTION_OFFSET = 225012.0
  MAP_PROJECTION_ROTATION = 0.0
  MAP_PROJECTION_TYPE = SINUSOIDAL
  MAP_RESOLUTION = 11854.9393024378
  MAP_SCALE = 0.005
  MAXIMUM_LATITUDE = 18.9827
  MINIMUM_LATITUDE = 18.8747
  POSITIVE_LONGITUDE_DIRECTION = EAST
  REFERENCE_LATITUDE = "N/A"
  REFERENCE_LONGITUDE = "N/A"
  SAMPLE_FIRST_PIXEL = 1
  SAMPLE_LAST_PIXEL = 1341
  SAMPLE_PROJECTION_OFFSET = 4927.0
  SECOND_STANDARD_PARALLEL = "N/A"
  WESTERNMOST_LONGITUDE = 38.5609
END_OBJECT = IMAGE_MAP_PROJECTION
/* The JPEG2000 image data file associated with this label. */
OBJECT = COMPRESSED_FILE
  FILE_NAME = "H1373_0006_SR3.JP2"
  RECORD_TYPE = UNDEFINED
  FILE_RECORDS = UNK
  ENCODING_TYPE = "JP2"
  INTERCHANGE_FORMAT = BINARY
  UNCOMPRESSED_FILE_NAME = "H1373_0006_SR3.IMG"
  REQUIRED_STORAGE_BYTES = "1795599"
  ^DESCRIPTION = "JP2INFO.TXT"
END_OBJECT = COMPRESSED_FILE
END
