PDS_VERSION_ID = PDS3
/* FILE DATA ELEMENTS */
RECORD_TYPE = STREAM
/* POINTERS TO DATA OBJECTS */
^COMPRESSED_FILE = "H1378_0000_BL3.JP2"
/* IDENTIFICATION DATA ELEMENTS */
DATA_SET_ID = "MEX-M-HRSC-5-REFDR-MAPPROJECTED-V3.0"
DATA_SET_NAME = "MARS EXPRESS HRSC MAP PROJECTED REFDR V3.0"
DETECTOR_ID = MEX_HRSC_BLUE
EVENT_TYPE = "MARS-REGIONAL-COLOR-Vo-Te"
INSTRUMENT_HOST_ID = MEX
INSTRUMENT_HOST_NAME = "MARS EXPRESS"
INSTRUMENT_ID = HRSC
INSTRUMENT_NAME = "HIGH RESOLUTION STEREO CAMERA"
MISSION_NAME = "MARS EXPRESS"
MISSION_PHASE_NAME = MR_Phase_4
PROCESSING_LEVEL_ID = 3
PRODUCT_CREATION_TIME = 2016-03-05T01:52:25.000Z
PRODUCT_ID = "H1378_0000_BL3.JP2"
RELEASE_ID = 0018
REVISION_ID = 0000
/* QUALITY DATA ELEMENTS */
DATA_QUALITY_ID = 1
DATA_QUALITY_DESC = "Data calculated based on original SPICE kernels"
/* TIME DATA ELEMENTS */
SPACECRAFT_CLOCK_START_COUNT = "1/0056298591.56195"
SPACECRAFT_CLOCK_STOP_COUNT = "1/0056299211.47380"
START_TIME = 2005-02-12T14:30:32.545Z
STOP_TIME = 2005-02-12T14:37:55.146Z
/* ORBITAL DATA ELEMENTS */
ASCENDING_NODE_LONGITUDE = 199.66
MAXIMUM_RESOLUTION = 34.9
FOOTPRINT_POINT_LATITUDE = (36.7231,36.7553,36.0073,35.5032,34.991 ,34.2152,33.692,33.1599,32.6245,32.0823 ,31.5418,31.0031,30.4661,29.9308, 29.3973,28.8656,28.3358,27.8083,27.2829 ,26.7596,26.2355,25.7148,25.1981,24.679 ,24.1641,23.6512,23.1403,22.6311, 22.1244,21.6196,21.1167,20.6158,20.117, 19.6201,19.1254,18.6328,18.1421,17.6536 ,17.1671,16.6828,16.2004,15.7203, 15.2422,14.7663,14.2924,13.8208,13.3512 ,12.4184,11.494,11.4932,11.5002,11.5029 ,12.4216,13.3489,13.815,14.2848,14.756, 15.2295,15.705,16.1827,16.6625,17.1444, 17.6284,18.1146,18.6028,19.0932,19.5856 ,20.0802,20.5768,21.0756,21.5764, 22.0793,22.5842,23.0911,23.6001,24.111, 24.6239,25.1387,25.6555,26.1742,26.6948 ,27.2174,27.7418,28.2681,28.7962, 29.3262,29.8579,30.3915,30.9269,31.4641 ,32.003,32.5436,33.0779,33.6088,34.1306 ,34.9047,35.4158,35.9185,36.665, 36.7231)
FOOTPRINT_POINT_LONGITUDE = (264.863,266.018,266.058,266.084,266.11 ,266.148,266.173,266.197,266.221, 266.245,266.268,266.291,266.312,266.333 ,266.354,266.374,266.393,266.412, 266.431,266.449,266.466,266.482,266.499 ,266.515,266.53,266.546,266.56,266.575, 266.589,266.602,266.616,266.629,266.641 ,266.654,266.666,266.678,266.689,266.7, 266.711,266.722,266.733,266.743,266.753 ,266.763,266.773,266.782,266.792,266.81 ,266.827,265.501,264.505,263.812, 263.857,263.901,263.919,263.942,263.961 ,263.981,263.999,264.017,264.035, 264.051,264.068,264.083,264.098,264.112 ,264.125,264.138,264.15,264.162,264.172 ,264.182,264.192,264.2,264.208,264.215, 264.22,264.225,264.229,264.232,264.234, 264.235,264.235,264.234,264.232,264.229 ,264.225,264.22,264.214,264.207,264.198 ,264.189,264.178,264.167,264.154, 264.132,264.117,264.1,264.074,264.863)
ORBIT_NUMBER = 1378
ORBITAL_ECCENTRICITY = 0.567
ORBITAL_INCLINATION = 86.59
ORBITAL_SEMIMAJOR_AXIS = 8554.02
PERIAPSIS_ALTITUDE = 319.79
PERIAPSIS_ARGUMENT_ANGLE = 118.1
PERIAPSIS_TIME = 2005-02-12T14:24:11.000Z
SPACECRAFT_ORIENTATION = (0.0,1.0,0.0)
^MEX_ORIENTATION_DESC = "MEX_ORIENTATION_DESC.TXT"
SPACECRAFT_POINTING_MODE = ACROSSTRACK
^MEX_POINTING_DESC = "MEX_POINTING_DESC.TXT"
RIGHT_ASCENSION = -1e+32
DECLINATION = -1e+32
OFFSET_ANGLE = -1.05
SPACECRAFT_SOLAR_DISTANCE = 2.26672e+08
TARGET_NAME = MARS
/* CAMERA DATA ELEMENTS */
DETECTOR_TEMPERATURE = 17.9627
FOCAL_PLANE_TEMPERATURE = 7.7677
INST_CMPRS_NAME = "DISCRETE COSINE TRANSFORMATION (DCT)"
INST_CMPRS_RATIO = 11.2158
INST_CMPRS_QUALITY = 0
INST_CMPRS_QUANTZ_TBL_ID = 0
INSTRUMENT_TEMPERATURE = 10.0106
LENS_TEMPERATURE = 8.1755
MACROPIXEL_SIZE = 2
MISSING_FRAMES = 0
PIXEL_SUBSAMPLING_FLAG = N
SIGNAL_CHAIN_ID = 2
/* RADIOMETRIC DATA ELEMENTS */
BANDWIDTH = 76.0
CENTER_FILTER_WAVELENGTH = 444.0
RADIANCE_OFFSET = 0.920535
RADIANCE_SCALING_FACTOR = 0.00339759
REFLECTANCE_SCALING_FACTOR = 0.000179358
MEX:REFLECTANCE_OFFSET = 0.0485949
/* IMAGE OBJECT DEFINITIONS */
OBJECT = IMAGE
  INTERCHANGE_FORMAT = BINARY
  LINES = 59926
  LINE_SAMPLES = 7397
  SAMPLE_TYPE = UNSIGNED_INTEGER
  SAMPLE_BITS = 8
  BANDS = 1
  BAND_STORAGE_TYPE = BAND_SEQUENTIAL
  MAXIMUM = 174
  MEAN = 74.0179
  MINIMUM = 46
  STANDARD_DEVIATION = 9.52759
END_OBJECT = IMAGE
/* MAP OBJECT DEFINITIONS */
OBJECT = IMAGE_MAP_PROJECTION
  ^DATA_SET_MAP_PROJECTION_CATALOG= "DSMAP.CAT"
  A_AXIS_RADIUS = 3396.0
  B_AXIS_RADIUS = 3396.0
  C_AXIS_RADIUS = 3396.0
  CENTER_LATITUDE = 0.0
  CENTER_LONGITUDE = 265.0
  COORDINATE_SYSTEM_NAME = PLANETOGRAPHIC
  COORDINATE_SYSTEM_TYPE = "BODY-FIXED ROTATING"
  EASTERNMOST_LONGITUDE = 266.827
  FIRST_STANDARD_PARALLEL = "N/A"
  LINE_FIRST_PIXEL = 1
  LINE_LAST_PIXEL = 59926
  LINE_PROJECTION_OFFSET = 87107.75
  MAP_PROJECTION_ROTATION = 0.0
  MAP_PROJECTION_TYPE = SINUSOIDAL
  MAP_RESOLUTION = 2370.85521546667
  MAP_SCALE = 0.025
  MAXIMUM_LATITUDE = 36.7553
  MINIMUM_LATITUDE = 11.4932
  POSITIVE_LONGITUDE_DIRECTION = EAST
  REFERENCE_LATITUDE = "N/A"
  REFERENCE_LONGITUDE = "N/A"
  SAMPLE_FIRST_PIXEL = 1
  SAMPLE_LAST_PIXEL = 7397
  SAMPLE_PROJECTION_OFFSET = 3011.25
  SECOND_STANDARD_PARALLEL = "N/A"
  WESTERNMOST_LONGITUDE = 263.812
END_OBJECT = IMAGE_MAP_PROJECTION
/* The JPEG2000 image data file associated with this label. */
OBJECT = COMPRESSED_FILE
  FILE_NAME = "H1378_0000_BL3.JP2"
  RECORD_TYPE = UNDEFINED
  FILE_RECORDS = UNK
  ENCODING_TYPE = "JP2"
  INTERCHANGE_FORMAT = BINARY
  UNCOMPRESSED_FILE_NAME = "H1378_0000_BL3.IMG"
  REQUIRED_STORAGE_BYTES = "443302210"
  ^DESCRIPTION = "JP2INFO.TXT"
END_OBJECT = COMPRESSED_FILE
END
