PDS_VERSION_ID = PDS3
/* FILE DATA ELEMENTS */
RECORD_TYPE = STREAM
/* POINTERS TO DATA OBJECTS */
^COMPRESSED_FILE = "H1383_0005_SR3.JP2"
/* IDENTIFICATION DATA ELEMENTS */
DATA_SET_ID = "MEX-M-HRSC-5-REFDR-MAPPROJECTED-V3.0"
DATA_SET_NAME = "MARS EXPRESS HRSC MAP PROJECTED REFDR V3.0"
DETECTOR_ID = MEX_HRSC_SRC
EVENT_TYPE = "MARS-REGIONAL-STEREO-Vo-Te-Fl"
INSTRUMENT_HOST_ID = MEX
INSTRUMENT_HOST_NAME = "MARS EXPRESS"
INSTRUMENT_ID = HRSC
INSTRUMENT_NAME = "HIGH RESOLUTION STEREO CAMERA"
MISSION_NAME = "MARS EXPRESS"
MISSION_PHASE_NAME = MR_Phase_4
PROCESSING_LEVEL_ID = 3
PRODUCT_CREATION_TIME = 2016-03-05T01:52:25.000Z
PRODUCT_ID = "H1383_0005_SR3.JP2"
RELEASE_ID = 0018
REVISION_ID = 0000
/* QUALITY DATA ELEMENTS */
DATA_QUALITY_ID = 1
DATA_QUALITY_DESC = "Data calculated based on original SPICE kernels"
/* TIME DATA ELEMENTS */
SPACECRAFT_CLOCK_START_COUNT = "1/0056419612.57945"
SPACECRAFT_CLOCK_STOP_COUNT = "1/0056420216.55796"
IMAGE_TIME = 2005-02-14T00:10:24.056Z
START_TIME = 2005-02-14T00:10:24.054Z
STOP_TIME = 2005-02-14T00:10:24.059Z
/* ORBITAL DATA ELEMENTS */
ASCENDING_NODE_LONGITUDE = 199.55
MAXIMUM_RESOLUTION = 5.33
FOOTPRINT_POINT_LATITUDE = (27.1574,27.1536,27.1485,27.1448,27.142 ,27.1383,27.1356,27.1327,27.1293, 27.1264,27.1225,27.1181,27.1139,27.1087 ,27.102,27.0989,27.0937,27.0893,27.0863 ,27.0835,27.0798,27.0775,27.0735, 27.0708,27.0708,27.0708,27.0708,27.0708 ,27.0708,27.0708,27.0708,27.0708, 27.0708,27.0707,27.0707,27.0707,27.0707 ,27.0707,27.0707,27.0707,27.0707, 27.0707,27.0707,27.0706,27.0706,27.0706 ,27.0706,27.0706,27.0715,27.0757, 27.0789,27.0822,27.0874,27.091,27.0941, 27.0977,27.1027,27.1052,27.1087,27.1131 ,27.1175,27.1201,27.123,27.1261,27.1314 ,27.1357,27.1382,27.141,27.1451,27.1476 ,27.1522,27.1569,27.1597,27.1614, 27.1614,27.1614,27.1614,27.1614,27.1614 ,27.1614,27.1614,27.1614,27.1615, 27.1615,27.1615,27.1615,27.1615,27.1615 ,27.1615,27.1615,27.1615,27.1615, 27.1616,27.1616,27.1616,27.1616,27.1616 ,27.1616,27.1616,27.1574)
FOOTPRINT_POINT_LONGITUDE = (135.143,135.143,135.143,135.143, 135.143,135.143,135.143,135.143,135.143 ,135.143,135.143,135.143,135.143, 135.143,135.143,135.143,135.143,135.143 ,135.143,135.143,135.143,135.144, 135.144,135.14,135.136,135.132,135.128, 135.124,135.12,135.116,135.112,135.108, 135.104,135.1,135.096,135.092,135.088, 135.084,135.08,135.076,135.072,135.067, 135.063,135.059,135.055,135.051,135.047 ,135.043,135.041,135.041,135.041, 135.041,135.041,135.04,135.04,135.04, 135.04,135.04,135.04,135.04,135.04, 135.04,135.04,135.04,135.04,135.04, 135.04,135.04,135.04,135.04,135.04, 135.04,135.04,135.042,135.046,135.05, 135.055,135.059,135.063,135.067,135.071 ,135.075,135.079,135.083,135.087, 135.091,135.095,135.099,135.103,135.107 ,135.111,135.115,135.119,135.123, 135.127,135.132,135.136,135.14,135.143, 135.143)
ORBIT_NUMBER = 1383
ORBITAL_ECCENTRICITY = 0.567
ORBITAL_INCLINATION = 86.59
ORBITAL_SEMIMAJOR_AXIS = 8553.79
PERIAPSIS_ALTITUDE = 321.17
PERIAPSIS_ARGUMENT_ANGLE = 117.22
PERIAPSIS_TIME = 2005-02-14T00:00:58.000Z
SPACECRAFT_ORIENTATION = (0.0,1.0,0.0)
^MEX_ORIENTATION_DESC = "MEX_ORIENTATION_DESC.TXT"
SPACECRAFT_POINTING_MODE = ACROSSTRACK
^MEX_POINTING_DESC = "MEX_POINTING_DESC.TXT"
RIGHT_ASCENSION = -1e+32
DECLINATION = -1e+32
OFFSET_ANGLE = 0.15
SPACECRAFT_SOLAR_DISTANCE = 2.26398e+08
TARGET_NAME = MARS
/* CAMERA DATA ELEMENTS */
BUFFER_MODE_ID = BUFFER_8
EXPOSURE_DURATION = 5.04
INST_CMPRS_NAME = NONE
INST_CMPRS_RATIO = 1.0
INST_CMPRS_QUALITY = -2147483648
INST_CMPRS_QUANTZ_TBL_ID = -2147483648
INSTRUMENT_TEMPERATURE = 11.2121
MISSING_FRAMES = 0
START_BIT = 0
/* RADIOMETRIC DATA ELEMENTS */
BANDWIDTH = 250.0
CENTER_FILTER_WAVELENGTH = 600.0
RADIANCE_OFFSET = -9.99e+31
RADIANCE_SCALING_FACTOR = -9.99e+31
REFLECTANCE_SCALING_FACTOR = -9.99e+31
MEX:REFLECTANCE_OFFSET = -9.99e+31
/* IMAGE OBJECT DEFINITIONS */
OBJECT = IMAGE
  INTERCHANGE_FORMAT = BINARY
  LINES = 1128
  LINE_SAMPLES = 1139
  SAMPLE_TYPE = UNSIGNED_INTEGER
  SAMPLE_BITS = 8
  BANDS = 1
  BAND_STORAGE_TYPE = BAND_SEQUENTIAL
  MAXIMUM = 8655
  MEAN = 7546.87
  MINIMUM = 6465
  STANDARD_DEVIATION = 223.092
END_OBJECT = IMAGE
/* MAP OBJECT DEFINITIONS */
OBJECT = IMAGE_MAP_PROJECTION
  ^DATA_SET_MAP_PROJECTION_CATALOG= "DSMAP.CAT"
  A_AXIS_RADIUS = 3396.19
  B_AXIS_RADIUS = 3396.19
  C_AXIS_RADIUS = 3396.19
  CENTER_LATITUDE = 0.0
  CENTER_LONGITUDE = 135.0
  COORDINATE_SYSTEM_NAME = PLANETOGRAPHIC
  COORDINATE_SYSTEM_TYPE = "BODY-FIXED ROTATING"
  EASTERNMOST_LONGITUDE = 135.144
  FIRST_STANDARD_PARALLEL = "N/A"
  LINE_FIRST_PIXEL = 1
  LINE_LAST_PIXEL = 1128
  LINE_PROJECTION_OFFSET = 321884.0
  MAP_PROJECTION_ROTATION = 0.0
  MAP_PROJECTION_TYPE = SINUSOIDAL
  MAP_RESOLUTION = 11854.9393024378
  MAP_SCALE = 0.005
  MAXIMUM_LATITUDE = 27.1616
  MINIMUM_LATITUDE = 27.0706
  POSITIVE_LONGITUDE_DIRECTION = EAST
  REFERENCE_LATITUDE = "N/A"
  REFERENCE_LONGITUDE = "N/A"
  SAMPLE_FIRST_PIXEL = 1
  SAMPLE_LAST_PIXEL = 1139
  SAMPLE_PROJECTION_OFFSET = -414.0
  SECOND_STANDARD_PARALLEL = "N/A"
  WESTERNMOST_LONGITUDE = 135.04
END_OBJECT = IMAGE_MAP_PROJECTION
/* The JPEG2000 image data file associated with this label. */
OBJECT = COMPRESSED_FILE
  FILE_NAME = "H1383_0005_SR3.JP2"
  RECORD_TYPE = UNDEFINED
  FILE_RECORDS = UNK
  ENCODING_TYPE = "JP2"
  INTERCHANGE_FORMAT = BINARY
  UNCOMPRESSED_FILE_NAME = "H1383_0005_SR3.IMG"
  REQUIRED_STORAGE_BYTES = "1304155"
  ^DESCRIPTION = "JP2INFO.TXT"
END_OBJECT = COMPRESSED_FILE
END
