PDS_VERSION_ID = PDS3
/* FILE DATA ELEMENTS */
RECORD_TYPE = STREAM
/* POINTERS TO DATA OBJECTS */
^COMPRESSED_FILE = "H1383_0008_SR3.JP2"
/* IDENTIFICATION DATA ELEMENTS */
DATA_SET_ID = "MEX-M-HRSC-5-REFDR-MAPPROJECTED-V3.0"
DATA_SET_NAME = "MARS EXPRESS HRSC MAP PROJECTED REFDR V3.0"
DETECTOR_ID = MEX_HRSC_SRC
EVENT_TYPE = "MARS-REGIONAL-STEREO-Vo-Te-Fl"
INSTRUMENT_HOST_ID = MEX
INSTRUMENT_HOST_NAME = "MARS EXPRESS"
INSTRUMENT_ID = HRSC
INSTRUMENT_NAME = "HIGH RESOLUTION STEREO CAMERA"
MISSION_NAME = "MARS EXPRESS"
MISSION_PHASE_NAME = MR_Phase_4
PROCESSING_LEVEL_ID = 3
PRODUCT_CREATION_TIME = 2016-03-05T01:52:25.000Z
PRODUCT_ID = "H1383_0008_SR3.JP2"
RELEASE_ID = 0018
REVISION_ID = 0000
/* QUALITY DATA ELEMENTS */
DATA_QUALITY_ID = 1
DATA_QUALITY_DESC = "Data calculated based on original SPICE kernels"
/* TIME DATA ELEMENTS */
SPACECRAFT_CLOCK_START_COUNT = "1/0056419612.57945"
SPACECRAFT_CLOCK_STOP_COUNT = "1/0056420216.55796"
IMAGE_TIME = 2005-02-14T00:10:27.326Z
START_TIME = 2005-02-14T00:10:27.324Z
STOP_TIME = 2005-02-14T00:10:27.329Z
/* ORBITAL DATA ELEMENTS */
ASCENDING_NODE_LONGITUDE = 199.55
MAXIMUM_RESOLUTION = 5.356
FOOTPRINT_POINT_LATITUDE = (26.9693,26.9667,26.9627,26.9596, 26.9559,26.9533,26.9509,26.9473,26.9441 ,26.9396,26.9364,26.9326,26.927,26.9244 ,26.9214,26.9169,26.9121,26.9094,26.904 ,26.8993,26.8941,26.8888,26.8837, 26.8837,26.8836,26.8836,26.8836,26.8836 ,26.8836,26.8836,26.8836,26.8836, 26.8836,26.8836,26.8836,26.8836,26.8835 ,26.8835,26.8835,26.8835,26.8835, 26.8835,26.8835,26.8835,26.8835,26.8835 ,26.8835,26.8834,26.8865,26.8907, 26.8937,26.8968,26.9007,26.9037,26.9084 ,26.9111,26.9148,26.9175,26.9209, 26.9235,26.9272,26.9303,26.9329,26.9362 ,26.9398,26.9427,26.947,26.9527,26.9562 ,26.9586,26.9611,26.9647,26.9689, 26.9747,26.9747,26.9747,26.9747,26.9747 ,26.9747,26.9747,26.9747,26.9747, 26.9747,26.9748,26.9748,26.9748,26.9748 ,26.9748,26.9748,26.9748,26.9748, 26.9748,26.9748,26.9748,26.9749,26.9749 ,26.9749,26.9749,26.9749,26.9693)
FOOTPRINT_POINT_LONGITUDE = (135.144,135.144,135.144,135.144, 135.144,135.144,135.144,135.144,135.144 ,135.144,135.144,135.144,135.144, 135.144,135.144,135.144,135.144,135.144 ,135.144,135.144,135.144,135.144, 135.144,135.139,135.135,135.131,135.127 ,135.123,135.119,135.114,135.11,135.106 ,135.102,135.098,135.094,135.09,135.086 ,135.082,135.078,135.074,135.07,135.066 ,135.062,135.058,135.054,135.049, 135.045,135.041,135.041,135.041,135.041 ,135.041,135.041,135.041,135.041, 135.041,135.041,135.041,135.041,135.041 ,135.041,135.041,135.041,135.041, 135.041,135.041,135.041,135.041,135.041 ,135.041,135.041,135.041,135.041, 135.041,135.045,135.049,135.053,135.057 ,135.061,135.065,135.069,135.073, 135.077,135.082,135.086,135.09,135.094, 135.098,135.102,135.106,135.11,135.114, 135.118,135.122,135.126,135.13,135.134, 135.138,135.143,135.144)
ORBIT_NUMBER = 1383
ORBITAL_ECCENTRICITY = 0.567
ORBITAL_INCLINATION = 86.59
ORBITAL_SEMIMAJOR_AXIS = 8553.79
PERIAPSIS_ALTITUDE = 321.17
PERIAPSIS_ARGUMENT_ANGLE = 117.22
PERIAPSIS_TIME = 2005-02-14T00:00:58.000Z
SPACECRAFT_ORIENTATION = (0.0,1.0,0.0)
^MEX_ORIENTATION_DESC = "MEX_ORIENTATION_DESC.TXT"
SPACECRAFT_POINTING_MODE = ACROSSTRACK
^MEX_POINTING_DESC = "MEX_POINTING_DESC.TXT"
RIGHT_ASCENSION = -1e+32
DECLINATION = -1e+32
OFFSET_ANGLE = 0.15
SPACECRAFT_SOLAR_DISTANCE = 2.26398e+08
TARGET_NAME = MARS
/* CAMERA DATA ELEMENTS */
BUFFER_MODE_ID = BUFFER_8
EXPOSURE_DURATION = 5.04
INST_CMPRS_NAME = NONE
INST_CMPRS_RATIO = 1.0
INST_CMPRS_QUALITY = -2147483648
INST_CMPRS_QUANTZ_TBL_ID = -2147483648
INSTRUMENT_TEMPERATURE = 11.2121
MISSING_FRAMES = 0
START_BIT = 0
/* RADIOMETRIC DATA ELEMENTS */
BANDWIDTH = 250.0
CENTER_FILTER_WAVELENGTH = 600.0
RADIANCE_OFFSET = -9.99e+31
RADIANCE_SCALING_FACTOR = -9.99e+31
REFLECTANCE_SCALING_FACTOR = -9.99e+31
MEX:REFLECTANCE_OFFSET = -9.99e+31
/* IMAGE OBJECT DEFINITIONS */
OBJECT = IMAGE
  INTERCHANGE_FORMAT = BINARY
  LINES = 1132
  LINE_SAMPLES = 1140
  SAMPLE_TYPE = UNSIGNED_INTEGER
  SAMPLE_BITS = 8
  BANDS = 1
  BAND_STORAGE_TYPE = BAND_SEQUENTIAL
  MAXIMUM = 8777
  MEAN = 7814.38
  MINIMUM = 6727
  STANDARD_DEVIATION = 247.034
END_OBJECT = IMAGE
/* MAP OBJECT DEFINITIONS */
OBJECT = IMAGE_MAP_PROJECTION
  ^DATA_SET_MAP_PROJECTION_CATALOG= "DSMAP.CAT"
  A_AXIS_RADIUS = 3396.19
  B_AXIS_RADIUS = 3396.19
  C_AXIS_RADIUS = 3396.19
  CENTER_LATITUDE = 0.0
  CENTER_LONGITUDE = 135.0
  COORDINATE_SYSTEM_NAME = PLANETOGRAPHIC
  COORDINATE_SYSTEM_TYPE = "BODY-FIXED ROTATING"
  EASTERNMOST_LONGITUDE = 135.144
  FIRST_STANDARD_PARALLEL = "N/A"
  LINE_FIRST_PIXEL = 1
  LINE_LAST_PIXEL = 1132
  LINE_PROJECTION_OFFSET = 319673.0
  MAP_PROJECTION_ROTATION = 0.0
  MAP_PROJECTION_TYPE = SINUSOIDAL
  MAP_RESOLUTION = 11854.9393024378
  MAP_SCALE = 0.005
  MAXIMUM_LATITUDE = 26.9749
  MINIMUM_LATITUDE = 26.8834
  POSITIVE_LONGITUDE_DIRECTION = EAST
  REFERENCE_LATITUDE = "N/A"
  REFERENCE_LONGITUDE = "N/A"
  SAMPLE_FIRST_PIXEL = 1
  SAMPLE_LAST_PIXEL = 1140
  SAMPLE_PROJECTION_OFFSET = -420.0
  SECOND_STANDARD_PARALLEL = "N/A"
  WESTERNMOST_LONGITUDE = 135.041
END_OBJECT = IMAGE_MAP_PROJECTION
/* The JPEG2000 image data file associated with this label. */
OBJECT = COMPRESSED_FILE
  FILE_NAME = "H1383_0008_SR3.JP2"
  RECORD_TYPE = UNDEFINED
  FILE_RECORDS = UNK
  ENCODING_TYPE = "JP2"
  INTERCHANGE_FORMAT = BINARY
  UNCOMPRESSED_FILE_NAME = "H1383_0008_SR3.IMG"
  REQUIRED_STORAGE_BYTES = "1309860"
  ^DESCRIPTION = "JP2INFO.TXT"
END_OBJECT = COMPRESSED_FILE
END
