PDS_VERSION_ID = PDS3
/* FILE DATA ELEMENTS */
RECORD_TYPE = STREAM
/* POINTERS TO DATA OBJECTS */
^COMPRESSED_FILE = "H1387_0000_BL3.JP2"
/* IDENTIFICATION DATA ELEMENTS */
DATA_SET_ID = "MEX-M-HRSC-5-REFDR-MAPPROJECTED-V3.0"
DATA_SET_NAME = "MARS EXPRESS HRSC MAP PROJECTED REFDR V3.0"
DETECTOR_ID = MEX_HRSC_BLUE
EVENT_TYPE = "MARS-REGIONAL-MAPPING-Vo-Te-Gl"
INSTRUMENT_HOST_ID = MEX
INSTRUMENT_HOST_NAME = "MARS EXPRESS"
INSTRUMENT_ID = HRSC
INSTRUMENT_NAME = "HIGH RESOLUTION STEREO CAMERA"
MISSION_NAME = "MARS EXPRESS"
MISSION_PHASE_NAME = MR_Phase_4
PROCESSING_LEVEL_ID = 3
PRODUCT_CREATION_TIME = 2016-03-05T01:52:25.000Z
PRODUCT_ID = "H1387_0000_BL3.JP2"
RELEASE_ID = 0018
REVISION_ID = 0000
/* QUALITY DATA ELEMENTS */
DATA_QUALITY_ID = 1
DATA_QUALITY_DESC = "Data calculated based on original SPICE kernels"
/* TIME DATA ELEMENTS */
SPACECRAFT_CLOCK_START_COUNT = "1/0056515787.56200"
SPACECRAFT_CLOCK_STOP_COUNT = "1/0056516220.48724"
START_TIME = 2005-02-15T02:50:25.500Z
STOP_TIME = 2005-02-15T02:59:32.831Z
/* ORBITAL DATA ELEMENTS */
ASCENDING_NODE_LONGITUDE = 199.47
MAXIMUM_RESOLUTION = 103.2
FOOTPRINT_POINT_LATITUDE = (78.3936,78.1202,77.3547,76.6022,75.846 ,75.1094,74.37,73.6356,72.9144,72.1911, 71.1126,70.4083,69.7023,68.995,68.2865, 67.5883,66.9012,66.2134,65.5245,64.8351 ,64.145,63.4544,62.7633,62.072,61.3804, 60.6884,59.9964,59.3045,58.6125,57.9207 ,57.2291,56.5205,55.8058,55.0916,54.378 ,53.6649,52.9527,52.2412,51.5306,50.821 ,50.1125,49.4051,48.6989,47.994,47.2904 ,46.5882,45.8876,45.1886,44.4911, 43.7954,43.0718,43.0389,43.7314,44.4254 ,45.1213,45.8188,46.5178,47.2182,47.92, 48.6231,49.3277,50.0331,50.7397,51.4473 ,52.1559,52.8652,53.5753,54.286,54.9973 ,55.7091,56.4212,57.1277,58.1611, 58.8498,59.5385,60.2273,60.9157,61.9476 ,62.9785,63.6649,64.3507,65.0353, 65.7191,66.4018,67.0832,68.1142,68.8152 ,69.5144,70.2116,70.9064,71.9683, 72.6796,73.3874,74.1066,74.8295,75.5479 ,76.2829,77.0121,77.7502,78.3936)
FOOTPRINT_POINT_LONGITUDE = (90.43,93.4987,94.2508,94.9037,95.4868, 95.9951,96.4557,96.8696,97.2401,97.5805 ,98.036,98.3055,98.556,98.7888,99.0057, 99.2053,99.389,99.5611,99.7239,99.8767, 100.021,100.157,100.286,100.407,100.522 ,100.632,100.735,100.834,100.927, 101.016,101.101,101.183,101.262,101.338 ,101.41,101.479,101.544,101.606,101.666 ,101.723,101.777,101.829,101.879, 101.927,101.972,102.016,102.058,102.098 ,102.137,102.173,101.537,100.318, 100.287,100.253,100.216,100.177,100.135 ,100.089,100.041,99.9882,99.9325, 99.8726,99.8086,99.7404,99.668,99.5907, 99.5084,99.4208,99.3277,99.2286,99.1232 ,99.0122,98.8372,98.7109,98.577,98.4352 ,98.2844,98.0404,97.7729,97.5798, 97.3747,97.1553,96.9215,96.6722,96.4053 ,95.9641,95.6355,95.282,94.9008,94.489, 93.7897,93.2679,92.6979,92.0613,91.3535 ,90.5726,89.679,88.6816,87.5364,90.43)
ORBIT_NUMBER = 1387
ORBITAL_ECCENTRICITY = 0.567
ORBITAL_INCLINATION = 86.6
ORBITAL_SEMIMAJOR_AXIS = 8554.24
PERIAPSIS_ALTITUDE = 320.21
PERIAPSIS_ARGUMENT_ANGLE = 116.48
PERIAPSIS_TIME = 2005-02-15T02:54:26.000Z
SPACECRAFT_ORIENTATION = (0.0,1.0,0.0)
^MEX_ORIENTATION_DESC = "MEX_ORIENTATION_DESC.TXT"
SPACECRAFT_POINTING_MODE = NADIR
^MEX_POINTING_DESC = "MEX_POINTING_DESC.TXT"
RIGHT_ASCENSION = -1e+32
DECLINATION = -1e+32
OFFSET_ANGLE = -1e+32
SPACECRAFT_SOLAR_DISTANCE = 2.26179e+08
TARGET_NAME = MARS
/* CAMERA DATA ELEMENTS */
DETECTOR_TEMPERATURE = 18.1666
FOCAL_PLANE_TEMPERATURE = 7.9716
INST_CMPRS_NAME = "DISCRETE COSINE TRANSFORMATION (DCT)"
INST_CMPRS_RATIO = 39.3566
INST_CMPRS_QUALITY = 0
INST_CMPRS_QUANTZ_TBL_ID = 0
INSTRUMENT_TEMPERATURE = 11.0301
LENS_TEMPERATURE = 8.9911
MACROPIXEL_SIZE = 8
MISSING_FRAMES = 0
PIXEL_SUBSAMPLING_FLAG = N
SIGNAL_CHAIN_ID = 2
/* RADIOMETRIC DATA ELEMENTS */
BANDWIDTH = 76.0
CENTER_FILTER_WAVELENGTH = 444.0
RADIANCE_OFFSET = 0.594144
RADIANCE_SCALING_FACTOR = 0.00553369
REFLECTANCE_SCALING_FACTOR = 0.000290857
MEX:REFLECTANCE_OFFSET = 0.0312289
/* IMAGE OBJECT DEFINITIONS */
OBJECT = IMAGE
  INTERCHANGE_FORMAT = BINARY
  LINES = 21032
  LINE_SAMPLES = 2548
  SAMPLE_TYPE = UNSIGNED_INTEGER
  SAMPLE_BITS = 8
  BANDS = 1
  BAND_STORAGE_TYPE = BAND_SEQUENTIAL
  MAXIMUM = 164
  MEAN = 66.2615
  MINIMUM = 47
  STANDARD_DEVIATION = 9.70445
END_OBJECT = IMAGE
/* MAP OBJECT DEFINITIONS */
OBJECT = IMAGE_MAP_PROJECTION
  ^DATA_SET_MAP_PROJECTION_CATALOG= "DSMAP.CAT"
  A_AXIS_RADIUS = 3396.0
  B_AXIS_RADIUS = 3396.0
  C_AXIS_RADIUS = 3396.0
  CENTER_LATITUDE = 0.0
  CENTER_LONGITUDE = 100.0
  COORDINATE_SYSTEM_NAME = PLANETOGRAPHIC
  COORDINATE_SYSTEM_TYPE = "BODY-FIXED ROTATING"
  EASTERNMOST_LONGITUDE = 102.173
  FIRST_STANDARD_PARALLEL = "N/A"
  LINE_FIRST_PIXEL = 1
  LINE_LAST_PIXEL = 21032
  LINE_PROJECTION_OFFSET = 46535.5625
  MAP_PROJECTION_ROTATION = 0.0
  MAP_PROJECTION_TYPE = SINUSOIDAL
  MAP_RESOLUTION = 592.713803866667
  MAP_SCALE = 0.1
  MAXIMUM_LATITUDE = 78.39360000000001
  MINIMUM_LATITUDE = 43.0389
  POSITIVE_LONGITUDE_DIRECTION = EAST
  REFERENCE_LATITUDE = "N/A"
  REFERENCE_LONGITUDE = "N/A"
  SAMPLE_FIRST_PIXEL = 1
  SAMPLE_LAST_PIXEL = 2548
  SAMPLE_PROJECTION_OFFSET = 1582.4375
  SECOND_STANDARD_PARALLEL = "N/A"
  WESTERNMOST_LONGITUDE = 87.5364
END_OBJECT = IMAGE_MAP_PROJECTION
/* The JPEG2000 image data file associated with this label. */
OBJECT = COMPRESSED_FILE
  FILE_NAME = "H1387_0000_BL3.JP2"
  RECORD_TYPE = UNDEFINED
  FILE_RECORDS = UNK
  ENCODING_TYPE = "JP2"
  INTERCHANGE_FORMAT = BINARY
  UNCOMPRESSED_FILE_NAME = "H1387_0000_BL3.IMG"
  REQUIRED_STORAGE_BYTES = "53609920"
  ^DESCRIPTION = "JP2INFO.TXT"
END_OBJECT = COMPRESSED_FILE
END
