PDS_VERSION_ID = PDS3
/* FILE DATA ELEMENTS */
RECORD_TYPE = STREAM
/* POINTERS TO DATA OBJECTS */
^COMPRESSED_FILE = "H1389_0000_P13.JP2"
/* IDENTIFICATION DATA ELEMENTS */
DATA_SET_ID = "MEX-M-HRSC-5-REFDR-MAPPROJECTED-V3.0"
DATA_SET_NAME = "MARS EXPRESS HRSC MAP PROJECTED REFDR V3.0"
DETECTOR_ID = MEX_HRSC_P1
EVENT_TYPE = "MARS-REGIONAL-MAPPING-Te-Gl-Ot"
INSTRUMENT_HOST_ID = MEX
INSTRUMENT_HOST_NAME = "MARS EXPRESS"
INSTRUMENT_ID = HRSC
INSTRUMENT_NAME = "HIGH RESOLUTION STEREO CAMERA"
MISSION_NAME = "MARS EXPRESS"
MISSION_PHASE_NAME = MR_Phase_4
PROCESSING_LEVEL_ID = 3
PRODUCT_CREATION_TIME = 2016-03-05T01:52:25.000Z
PRODUCT_ID = "H1389_0000_P13.JP2"
RELEASE_ID = 0018
REVISION_ID = 0000
/* QUALITY DATA ELEMENTS */
DATA_QUALITY_ID = 1
DATA_QUALITY_DESC = "Data calculated based on original SPICE kernels"
/* TIME DATA ELEMENTS */
SPACECRAFT_CLOCK_START_COUNT = "1/0056564144.57935"
SPACECRAFT_CLOCK_STOP_COUNT = "1/0056564587.39648"
START_TIME = 2005-02-15T16:16:54.702Z
STOP_TIME = 2005-02-15T16:25:00.078Z
/* ORBITAL DATA ELEMENTS */
ASCENDING_NODE_LONGITUDE = 199.43
MAXIMUM_RESOLUTION = 53.1
FOOTPRINT_POINT_LATITUDE = (81.0678,81.3062,81.543,81.1958,80.851, 80.1686,79.1432,78.4692,77.792,77.1293, 76.468,75.4777,74.8333,74.1871,73.5397, 72.5848,71.9565,71.3273,70.3825,69.7526 ,69.1338,68.5244,67.915,67.3057,66.3919 ,65.7831,65.1745,64.5666,63.6547, 63.0476,62.441,61.8348,61.2296,60.6246, 60.0201,59.4165,58.489,57.8675,57.2469, 56.6273,56.0098,55.3928,54.7773,54.1637 ,53.5513,52.9404,52.3311,51.7237, 51.1179,50.5135,50.1476,50.1296,50.4009 ,51.0029,51.6071,52.2129,52.82,53.429, 54.0391,54.6509,55.2639,55.8784,56.4939 ,57.1105,57.7282,58.3471,59.2726, 59.8729,60.7749,61.3766,61.9786,62.5812 ,63.1843,63.7876,64.3911,64.9948, 65.5986,66.5044,67.108,67.7114,68.3145, 68.9171,69.5268,70.149,71.0808,72.0099, 72.6275,73.2549,73.8896,74.522,75.1518, 75.7916,76.4353,77.0748,77.7211,78.3704 ,79.0129,79.6665,80.311,81.0678)
FOOTPRINT_POINT_LONGITUDE = (244.268,247.877,250.396,251.171, 251.881,253.128,254.689,255.557,256.328 ,256.999,257.602,258.396,258.856, 259.277,259.664,260.18,260.488,260.775, 261.168,261.41,261.632,261.837,262.03, 262.213,262.467,262.625,262.775,262.917 ,263.116,263.241,263.36,263.472,263.58, 263.682,263.78,263.873,264.009,264.095, 264.177,264.256,264.331,264.403,264.472 ,264.539,264.602,264.663,264.722, 264.779,264.833,264.885,264.458,263.814 ,262.912,262.854,262.792,262.726, 262.657,262.583,262.505,262.423,262.337 ,262.245,262.148,262.046,261.938, 261.824,261.642,261.515,261.313,261.169 ,261.017,260.856,260.687,260.507, 260.317,260.116,259.903,259.559,259.311 ,259.048,258.768,258.47,258.148,257.795 ,257.218,256.575,256.105,255.588, 255.019,254.4,253.727,252.974,252.138, 251.216,250.174,248.997,247.68,246.149, 244.406,244.268)
ORBIT_NUMBER = 1389
ORBITAL_ECCENTRICITY = 0.567
ORBITAL_INCLINATION = 86.59
ORBITAL_SEMIMAJOR_AXIS = 8550.77
PERIAPSIS_ALTITUDE = 320.58
PERIAPSIS_ARGUMENT_ANGLE = 116.13
PERIAPSIS_TIME = 2005-02-15T16:21:11.000Z
SPACECRAFT_ORIENTATION = (0.0,1.0,0.0)
^MEX_ORIENTATION_DESC = "MEX_ORIENTATION_DESC.TXT"
SPACECRAFT_POINTING_MODE = ACROSSTRACK
^MEX_POINTING_DESC = "MEX_POINTING_DESC.TXT"
RIGHT_ASCENSION = -1e+32
DECLINATION = -1e+32
OFFSET_ANGLE = -0.15
SPACECRAFT_SOLAR_DISTANCE = 2.2607e+08
TARGET_NAME = MARS
/* CAMERA DATA ELEMENTS */
DETECTOR_TEMPERATURE = 17.5549
FOCAL_PLANE_TEMPERATURE = 8.1755
INST_CMPRS_NAME = "DISCRETE COSINE TRANSFORMATION (DCT)"
INST_CMPRS_RATIO = 35.5643
INST_CMPRS_QUALITY = 0
INST_CMPRS_QUANTZ_TBL_ID = 0
INSTRUMENT_TEMPERATURE = 11.234
LENS_TEMPERATURE = 7.7677
MACROPIXEL_SIZE = 4
MISSING_FRAMES = 0
PIXEL_SUBSAMPLING_FLAG = N
SIGNAL_CHAIN_ID = 3
/* RADIOMETRIC DATA ELEMENTS */
BANDWIDTH = 174.0
CENTER_FILTER_WAVELENGTH = 675.0
RADIANCE_OFFSET = 2.63996
RADIANCE_SCALING_FACTOR = 0.0296205
REFLECTANCE_SCALING_FACTOR = 0.000814262
MEX:REFLECTANCE_OFFSET = 0.072572
/* IMAGE OBJECT DEFINITIONS */
OBJECT = IMAGE
  INTERCHANGE_FORMAT = BINARY
  LINES = 37272
  LINE_SAMPLES = 6437
  SAMPLE_TYPE = UNSIGNED_INTEGER
  SAMPLE_BITS = 8
  BANDS = 1
  BAND_STORAGE_TYPE = BAND_SEQUENTIAL
  MAXIMUM = 151
  MEAN = 82.6865
  MINIMUM = 36
  STANDARD_DEVIATION = 20.2423
END_OBJECT = IMAGE
/* MAP OBJECT DEFINITIONS */
OBJECT = IMAGE_MAP_PROJECTION
  ^DATA_SET_MAP_PROJECTION_CATALOG= "DSMAP.CAT"
  A_AXIS_RADIUS = 3396.0
  B_AXIS_RADIUS = 3396.0
  C_AXIS_RADIUS = 3396.0
  CENTER_LATITUDE = 0.0
  CENTER_LONGITUDE = 261.0
  COORDINATE_SYSTEM_NAME = PLANETOGRAPHIC
  COORDINATE_SYSTEM_TYPE = "BODY-FIXED ROTATING"
  EASTERNMOST_LONGITUDE = 264.885
  FIRST_STANDARD_PARALLEL = "N/A"
  LINE_FIRST_PIXEL = 1
  LINE_LAST_PIXEL = 37272
  LINE_PROJECTION_OFFSET = 96673.875
  MAP_PROJECTION_ROTATION = 0.0
  MAP_PROJECTION_TYPE = SINUSOIDAL
  MAP_RESOLUTION = 1185.42760773333
  MAP_SCALE = 0.05
  MAXIMUM_LATITUDE = 81.54300000000001
  MINIMUM_LATITUDE = 50.1296
  POSITIVE_LONGITUDE_DIRECTION = EAST
  REFERENCE_LATITUDE = "N/A"
  REFERENCE_LONGITUDE = "N/A"
  SAMPLE_FIRST_PIXEL = 1
  SAMPLE_LAST_PIXEL = 6437
  SAMPLE_PROJECTION_OFFSET = 3497.875
  SECOND_STANDARD_PARALLEL = "N/A"
  WESTERNMOST_LONGITUDE = 244.268
END_OBJECT = IMAGE_MAP_PROJECTION
/* The JPEG2000 image data file associated with this label. */
OBJECT = COMPRESSED_FILE
  FILE_NAME = "H1389_0000_P13.JP2"
  RECORD_TYPE = UNDEFINED
  FILE_RECORDS = UNK
  ENCODING_TYPE = "JP2"
  INTERCHANGE_FORMAT = BINARY
  UNCOMPRESSED_FILE_NAME = "H1389_0000_P13.IMG"
  REQUIRED_STORAGE_BYTES = "239952049"
  ^DESCRIPTION = "JP2INFO.TXT"
END_OBJECT = COMPRESSED_FILE
END
