PDS_VERSION_ID = PDS3
/* FILE DATA ELEMENTS */
RECORD_TYPE = STREAM
/* POINTERS TO DATA OBJECTS */
^COMPRESSED_FILE = "H1391_0000_GR3.JP2"
/* IDENTIFICATION DATA ELEMENTS */
DATA_SET_ID = "MEX-M-HRSC-5-REFDR-MAPPROJECTED-V3.0"
DATA_SET_NAME = "MARS EXPRESS HRSC MAP PROJECTED REFDR V3.0"
DETECTOR_ID = MEX_HRSC_GREEN
EVENT_TYPE = "MARS-REGIONAL-STEREO-Te-Fl-Mw"
INSTRUMENT_HOST_ID = MEX
INSTRUMENT_HOST_NAME = "MARS EXPRESS"
INSTRUMENT_ID = HRSC
INSTRUMENT_NAME = "HIGH RESOLUTION STEREO CAMERA"
MISSION_NAME = "MARS EXPRESS"
MISSION_PHASE_NAME = MR_Phase_4
PROCESSING_LEVEL_ID = 3
PRODUCT_CREATION_TIME = 2016-03-05T01:52:25.000Z
PRODUCT_ID = "H1391_0000_GR3.JP2"
RELEASE_ID = 0018
REVISION_ID = 0000
/* QUALITY DATA ELEMENTS */
DATA_QUALITY_ID = 1
DATA_QUALITY_DESC = "Data calculated based on original SPICE kernels"
/* TIME DATA ELEMENTS */
SPACECRAFT_CLOCK_START_COUNT = "1/0056613074.57155"
SPACECRAFT_CLOCK_STOP_COUNT = "1/0056613541.08531"
START_TIME = 2005-02-16T05:52:00.797Z
STOP_TIME = 2005-02-16T05:58:04.966Z
/* ORBITAL DATA ELEMENTS */
ASCENDING_NODE_LONGITUDE = 199.37
MAXIMUM_RESOLUTION = 59.6
FOOTPRINT_POINT_LATITUDE = (48.1344,48.1569,48.1716,48.0172, 47.6603,47.3038,46.9399,46.574,46.2087, 45.844,45.2836,44.9099,44.5369,44.1546, 43.7727,43.3916,43.0017,42.6117,42.023, 41.6248,41.2276,40.822,40.2138,39.8002, 39.3867,38.757,38.3364,37.9071,37.2603, 36.8237,36.3825,35.9377,35.4884,34.8066 ,34.1141,33.4122,32.9398,32.4588, 31.9753,31.487,30.9919,30.4912,29.9852, 29.4744,28.9581,28.4351,27.9059,27.3698 ,26.8285,26.4459,26.4484,26.4478, 26.4469,26.7202,27.2613,27.7968,28.3245 ,28.8475,29.3637,29.8742,30.3795,30.88, 31.3733,31.8616,32.3453,32.825,33.297, 33.9989,34.4622,34.9201,35.3723,35.8222 ,36.2648,36.706,37.1417,37.5747,38.0025 ,38.4279,38.8481,39.2679,39.6801, 40.2962,40.7009,41.3052,41.7018,42.0993 ,42.4911,42.8783,43.4595,43.84,44.2213, 44.5997,44.972,45.3449,45.9008,46.2649, 46.812,47.177,47.5327,48.1344)
FOOTPRINT_POINT_LONGITUDE = (66.9737,67.6534,68.1762,68.6835, 68.7073,68.7305,68.7537,68.7765,68.7987 ,68.8206,68.8531,68.8742,68.8949, 68.9155,68.9358,68.956,68.9758,68.9953, 69.0242,69.0432,69.0618,69.08,69.1069, 69.1246,69.1419,69.1677,69.185,69.2017, 69.2262,69.2428,69.2589,69.273,69.2909, 69.3122,69.3323,69.3553,69.3722,69.3841 ,69.3993,69.4129,69.427,69.4409,69.4542 ,69.4682,69.4826,69.4961,69.5096, 69.5225,69.5375,69.1422,68.4232,67.7937 ,67.4559,67.1379,67.1493,67.1575, 67.1683,67.1751,67.182,67.1883,67.1939, 67.1979,67.2008,67.2029,67.2049,67.2056 ,67.2057,67.2035,67.1986,67.1962, 67.1911,67.1891,67.1844,67.1804,67.1734 ,67.1662,67.159,67.1511,67.1419,67.1317 ,67.1218,67.1054,67.0933,67.0743, 67.0611,67.0468,67.0281,67.0176,66.9921 ,66.9752,66.9573,66.9388,66.9198, 66.9002,66.87,66.8488,66.8152,66.7917, 66.7677,66.9737)
ORBIT_NUMBER = 1391
ORBITAL_ECCENTRICITY = 0.567
ORBITAL_INCLINATION = 86.61
ORBITAL_SEMIMAJOR_AXIS = 8552.51
PERIAPSIS_ALTITUDE = 320.5
PERIAPSIS_ARGUMENT_ANGLE = 115.78
PERIAPSIS_TIME = 2005-02-16T05:47:52.000Z
SPACECRAFT_ORIENTATION = (0.0,1.0,0.0)
^MEX_ORIENTATION_DESC = "MEX_ORIENTATION_DESC.TXT"
SPACECRAFT_POINTING_MODE = NADIR
^MEX_POINTING_DESC = "MEX_POINTING_DESC.TXT"
RIGHT_ASCENSION = -1e+32
DECLINATION = -1e+32
OFFSET_ANGLE = -1e+32
SPACECRAFT_SOLAR_DISTANCE = 2.2596e+08
TARGET_NAME = MARS
/* CAMERA DATA ELEMENTS */
DETECTOR_TEMPERATURE = 18.1666
FOCAL_PLANE_TEMPERATURE = 7.7677
INST_CMPRS_NAME = "DISCRETE COSINE TRANSFORMATION (DCT)"
INST_CMPRS_RATIO = 17.607
INST_CMPRS_QUALITY = 0
INST_CMPRS_QUANTZ_TBL_ID = 0
INSTRUMENT_TEMPERATURE = 11.0301
LENS_TEMPERATURE = 8.1755
MACROPIXEL_SIZE = 4
MISSING_FRAMES = 0
PIXEL_SUBSAMPLING_FLAG = N
SIGNAL_CHAIN_ID = 2
/* RADIOMETRIC DATA ELEMENTS */
BANDWIDTH = 88.0
CENTER_FILTER_WAVELENGTH = 538.0
RADIANCE_OFFSET = 1.65635
RADIANCE_SCALING_FACTOR = 0.00866066
REFLECTANCE_SCALING_FACTOR = 0.000380714
MEX:REFLECTANCE_OFFSET = 0.0728116
/* IMAGE OBJECT DEFINITIONS */
OBJECT = IMAGE
  INTERCHANGE_FORMAT = BINARY
  LINES = 25789
  LINE_SAMPLES = 2693
  SAMPLE_TYPE = UNSIGNED_INTEGER
  SAMPLE_BITS = 8
  BANDS = 1
  BAND_STORAGE_TYPE = BAND_SEQUENTIAL
  MAXIMUM = 216
  MEAN = 117.563
  MINIMUM = 65
  STANDARD_DEVIATION = 15.7937
END_OBJECT = IMAGE
/* MAP OBJECT DEFINITIONS */
OBJECT = IMAGE_MAP_PROJECTION
  ^DATA_SET_MAP_PROJECTION_CATALOG= "DSMAP.CAT"
  A_AXIS_RADIUS = 3396.0
  B_AXIS_RADIUS = 3396.0
  C_AXIS_RADIUS = 3396.0
  CENTER_LATITUDE = 0.0
  CENTER_LONGITUDE = 68.0
  COORDINATE_SYSTEM_NAME = PLANETOGRAPHIC
  COORDINATE_SYSTEM_TYPE = "BODY-FIXED ROTATING"
  EASTERNMOST_LONGITUDE = 69.53749999999999
  FIRST_STANDARD_PARALLEL = "N/A"
  LINE_FIRST_PIXEL = 1
  LINE_LAST_PIXEL = 25789
  LINE_PROJECTION_OFFSET = 57137.375
  MAP_PROJECTION_ROTATION = 0.0
  MAP_PROJECTION_TYPE = SINUSOIDAL
  MAP_RESOLUTION = 1185.42760773333
  MAP_SCALE = 0.05
  MAXIMUM_LATITUDE = 48.1716
  MINIMUM_LATITUDE = 26.4459
  POSITIVE_LONGITUDE_DIRECTION = EAST
  REFERENCE_LATITUDE = "N/A"
  REFERENCE_LONGITUDE = "N/A"
  SAMPLE_FIRST_PIXEL = 1
  SAMPLE_LAST_PIXEL = 2693
  SAMPLE_PROJECTION_OFFSET = 1014.875
  SECOND_STANDARD_PARALLEL = "N/A"
  WESTERNMOST_LONGITUDE = 66.7677
END_OBJECT = IMAGE_MAP_PROJECTION
/* The JPEG2000 image data file associated with this label. */
OBJECT = COMPRESSED_FILE
  FILE_NAME = "H1391_0000_GR3.JP2"
  RECORD_TYPE = UNDEFINED
  FILE_RECORDS = UNK
  ENCODING_TYPE = "JP2"
  INTERCHANGE_FORMAT = BINARY
  UNCOMPRESSED_FILE_NAME = "H1391_0000_GR3.IMG"
  REQUIRED_STORAGE_BYTES = "69471321"
  ^DESCRIPTION = "JP2INFO.TXT"
END_OBJECT = COMPRESSED_FILE
END
