PDS_VERSION_ID = PDS3
/* FILE DATA ELEMENTS */
RECORD_TYPE = STREAM
/* POINTERS TO DATA OBJECTS */
^COMPRESSED_FILE = "H1395_0000_GR3.JP2"
/* IDENTIFICATION DATA ELEMENTS */
DATA_SET_ID = "MEX-M-HRSC-5-REFDR-MAPPROJECTED-V3.0"
DATA_SET_NAME = "MARS EXPRESS HRSC MAP PROJECTED REFDR V3.0"
DETECTOR_ID = MEX_HRSC_GREEN
EVENT_TYPE = "MARS-REGIONAL-MAPPING-Te-Gl-Mw"
INSTRUMENT_HOST_ID = MEX
INSTRUMENT_HOST_NAME = "MARS EXPRESS"
INSTRUMENT_ID = HRSC
INSTRUMENT_NAME = "HIGH RESOLUTION STEREO CAMERA"
MISSION_NAME = "MARS EXPRESS"
MISSION_PHASE_NAME = MR_Phase_4
PROCESSING_LEVEL_ID = 3
PRODUCT_CREATION_TIME = 2016-03-05T01:52:25.000Z
PRODUCT_ID = "H1395_0000_GR3.JP2"
RELEASE_ID = 0018
REVISION_ID = 0000
/* QUALITY DATA ELEMENTS */
DATA_QUALITY_ID = 1
DATA_QUALITY_DESC = "Data calculated based on original SPICE kernels"
/* TIME DATA ELEMENTS */
SPACECRAFT_CLOCK_START_COUNT = "1/0056709395.56474"
SPACECRAFT_CLOCK_STOP_COUNT = "1/0056709830.06213"
START_TIME = 2005-02-17T08:37:25.290Z
STOP_TIME = 2005-02-17T08:48:47.592Z
/* ORBITAL DATA ELEMENTS */
ASCENDING_NODE_LONGITUDE = 199.29
MAXIMUM_RESOLUTION = 103.8
FOOTPRINT_POINT_LATITUDE = (79.4229,79.1848,78.2446,77.3051, 76.3815,75.4554,74.553,73.6476,72.7466, 71.8656,70.983,70.0987,68.782,67.9245, 66.637,65.7782,64.919,64.0599,63.2009, 62.3423,61.484,60.6264,59.7696,58.8851, 58.001,57.1181,56.2366,55.357,54.4792, 53.6033,52.7297,51.8579,50.9887,50.1224 ,49.2585,48.3974,47.5392,46.6844, 45.8326,44.9841,44.1391,43.2976,42.4579 ,41.6247,40.7939,39.9675,39.1448, 38.3269,37.5127,36.1601,36.1365,37.7497 ,38.5629,39.3804,40.2011,41.0282, 41.8576,42.6917,43.5288,44.3694,45.2135 ,46.0611,46.9115,47.7657,48.6223, 49.4821,50.3444,51.2092,52.0772,52.9468 ,53.8188,54.6926,55.5681,56.4452, 57.3239,58.2037,59.0845,59.9555,60.8084 ,61.6618,62.5155,63.3692,64.2227, 65.5023,66.3544,67.2056,68.0556,68.9041 ,69.7778,70.6514,71.5223,72.3901, 73.2714,74.16,75.0435,75.9426,76.8408, 77.7458,78.6515,79.4229)
FOOTPRINT_POINT_LONGITUDE = (20.9442,25.5804,26.7061,27.653,28.4513 ,29.1455,29.7386,30.2651,30.7315, 31.1404,31.5105,31.8463,32.2914,32.5509 ,32.9024,33.1146,33.3108,33.4934, 33.6629,33.821,33.9683,34.1062,34.2353, 34.3599,34.4771,34.5868,34.6897,34.7868 ,34.8783,34.9641,35.0457,35.1215, 35.1935,35.2624,35.327,35.3883,35.4459, 35.5014,35.5538,35.6033,35.6507,35.6953 ,35.7337,35.7764,35.8138,35.8504, 35.8844,35.9186,35.9497,35.5298,33.8966 ,33.8748,33.8597,33.8415,33.8229, 33.7947,33.7676,33.7345,33.6995,33.6612 ,33.6187,33.5716,33.521,33.4636,33.4028 ,33.3355,33.263,33.1846,33.0966,33.0037 ,32.9018,32.7925,32.6747,32.547,32.4087 ,32.2597,32.0986,31.9262,31.7444,31.548 ,31.3355,31.1061,30.8575,30.4448, 30.1402,29.8086,29.4469,29.052,28.6051, 28.1122,27.5682,26.9651,26.2808,25.5044 ,24.6308,23.6161,22.4487,21.0799, 19.4663,20.9442)
ORBIT_NUMBER = 1395
ORBITAL_ECCENTRICITY = 0.567
ORBITAL_INCLINATION = 86.6
ORBITAL_SEMIMAJOR_AXIS = 8550.87
PERIAPSIS_ALTITUDE = 321.45
PERIAPSIS_ARGUMENT_ANGLE = 115.07
PERIAPSIS_TIME = 2005-02-17T08:41:11.000Z
SPACECRAFT_ORIENTATION = (0.0,1.0,0.0)
^MEX_ORIENTATION_DESC = "MEX_ORIENTATION_DESC.TXT"
SPACECRAFT_POINTING_MODE = NADIR
^MEX_POINTING_DESC = "MEX_POINTING_DESC.TXT"
RIGHT_ASCENSION = -1e+32
DECLINATION = -1e+32
OFFSET_ANGLE = -1e+32
SPACECRAFT_SOLAR_DISTANCE = 2.25741e+08
TARGET_NAME = MARS
/* CAMERA DATA ELEMENTS */
DETECTOR_TEMPERATURE = 18.1666
FOCAL_PLANE_TEMPERATURE = 8.1755
INST_CMPRS_NAME = "DISCRETE COSINE TRANSFORMATION (DCT)"
INST_CMPRS_RATIO = 30.5434
INST_CMPRS_QUALITY = 0
INST_CMPRS_QUANTZ_TBL_ID = 0
INSTRUMENT_TEMPERATURE = 11.0301
LENS_TEMPERATURE = 8.5833
MACROPIXEL_SIZE = 8
MISSING_FRAMES = 0
PIXEL_SUBSAMPLING_FLAG = N
SIGNAL_CHAIN_ID = 2
/* RADIOMETRIC DATA ELEMENTS */
BANDWIDTH = 88.0
CENTER_FILTER_WAVELENGTH = 538.0
RADIANCE_OFFSET = 1.24127
RADIANCE_SCALING_FACTOR = 0.00814817
REFLECTANCE_SCALING_FACTOR = 0.000357497
MEX:REFLECTANCE_OFFSET = 0.0544603
/* IMAGE OBJECT DEFINITIONS */
OBJECT = IMAGE
  INTERCHANGE_FORMAT = BINARY
  LINES = 25801
  LINE_SAMPLES = 3057
  SAMPLE_TYPE = UNSIGNED_INTEGER
  SAMPLE_BITS = 8
  BANDS = 1
  BAND_STORAGE_TYPE = BAND_SEQUENTIAL
  MAXIMUM = 132
  MEAN = 84.2365
  MINIMUM = 46
  STANDARD_DEVIATION = 14.6836
END_OBJECT = IMAGE
/* MAP OBJECT DEFINITIONS */
OBJECT = IMAGE_MAP_PROJECTION
  ^DATA_SET_MAP_PROJECTION_CATALOG= "DSMAP.CAT"
  A_AXIS_RADIUS = 3396.0
  B_AXIS_RADIUS = 3396.0
  C_AXIS_RADIUS = 3396.0
  CENTER_LATITUDE = 0.0
  CENTER_LONGITUDE = 33.0
  COORDINATE_SYSTEM_NAME = PLANETOGRAPHIC
  COORDINATE_SYSTEM_TYPE = "BODY-FIXED ROTATING"
  EASTERNMOST_LONGITUDE = 35.9497
  FIRST_STANDARD_PARALLEL = "N/A"
  LINE_FIRST_PIXEL = 1
  LINE_LAST_PIXEL = 25801
  LINE_PROJECTION_OFFSET = 47218.3125
  MAP_PROJECTION_ROTATION = 0.0
  MAP_PROJECTION_TYPE = SINUSOIDAL
  MAP_RESOLUTION = 592.713803866667
  MAP_SCALE = 0.1
  MAXIMUM_LATITUDE = 79.4229
  MINIMUM_LATITUDE = 36.1365
  POSITIVE_LONGITUDE_DIRECTION = EAST
  REFERENCE_LATITUDE = "N/A"
  REFERENCE_LONGITUDE = "N/A"
  SAMPLE_FIRST_PIXEL = 1
  SAMPLE_LAST_PIXEL = 3057
  SAMPLE_PROJECTION_OFFSET = 1610.5625
  SECOND_STANDARD_PARALLEL = "N/A"
  WESTERNMOST_LONGITUDE = 19.4663
END_OBJECT = IMAGE_MAP_PROJECTION
/* The JPEG2000 image data file associated with this label. */
OBJECT = COMPRESSED_FILE
  FILE_NAME = "H1395_0000_GR3.JP2"
  RECORD_TYPE = UNDEFINED
  FILE_RECORDS = UNK
  ENCODING_TYPE = "JP2"
  INTERCHANGE_FORMAT = BINARY
  UNCOMPRESSED_FILE_NAME = "H1395_0000_GR3.IMG"
  REQUIRED_STORAGE_BYTES = "78898113"
  ^DESCRIPTION = "JP2INFO.TXT"
END_OBJECT = COMPRESSED_FILE
END
