PDS_VERSION_ID = PDS3
/* FILE DATA ELEMENTS */
RECORD_TYPE = STREAM
/* POINTERS TO DATA OBJECTS */
^COMPRESSED_FILE = "H1395_0000_P13.JP2"
/* IDENTIFICATION DATA ELEMENTS */
DATA_SET_ID = "MEX-M-HRSC-5-REFDR-MAPPROJECTED-V3.0"
DATA_SET_NAME = "MARS EXPRESS HRSC MAP PROJECTED REFDR V3.0"
DETECTOR_ID = MEX_HRSC_P1
EVENT_TYPE = "MARS-REGIONAL-MAPPING-Te-Gl-Mw"
INSTRUMENT_HOST_ID = MEX
INSTRUMENT_HOST_NAME = "MARS EXPRESS"
INSTRUMENT_ID = HRSC
INSTRUMENT_NAME = "HIGH RESOLUTION STEREO CAMERA"
MISSION_NAME = "MARS EXPRESS"
MISSION_PHASE_NAME = MR_Phase_4
PROCESSING_LEVEL_ID = 3
PRODUCT_CREATION_TIME = 2016-03-05T01:52:25.000Z
PRODUCT_ID = "H1395_0000_P13.JP2"
RELEASE_ID = 0018
REVISION_ID = 0000
/* QUALITY DATA ELEMENTS */
DATA_QUALITY_ID = 1
DATA_QUALITY_DESC = "Data calculated based on original SPICE kernels"
/* TIME DATA ELEMENTS */
SPACECRAFT_CLOCK_START_COUNT = "1/0056709395.56474"
SPACECRAFT_CLOCK_STOP_COUNT = "1/0056709830.06213"
START_TIME = 2005-02-17T08:37:41.358Z
STOP_TIME = 2005-02-17T08:49:12.393Z
/* ORBITAL DATA ELEMENTS */
ASCENDING_NODE_LONGITUDE = 199.29
MAXIMUM_RESOLUTION = 53.3
FOOTPRINT_POINT_LATITUDE = (79.1891,78.2292,77.2809,76.334,75.4082 ,74.4801,73.5621,72.6605,71.3063, 70.4029,69.5179,68.644,67.7701,66.8969, 66.0238,65.1518,64.1645,63.2945,62.4261 ,61.559,60.6937,59.801,58.9098,58.0212, 57.1347,56.2509,55.3704,54.4929,53.6181 ,52.7474,51.8785,51.014,50.1536,49.2967 ,48.4439,47.5945,46.7501,45.91,45.0741, 44.243,43.4162,42.5862,41.7714,40.959, 40.1518,39.3474,38.5504,37.7583,36.9717 ,36.1908,36.1452,36.9114,37.6955, 38.4864,39.2787,40.0769,40.8874,42.1051 ,42.9246,43.747,44.5734,45.4038,46.2404 ,47.5022,48.3485,49.1985,50.052,50.9087 ,51.7725,52.6377,53.5065,54.3794, 55.2534,56.131,57.0116,57.8942,58.7792, 59.6662,60.5553,61.4167,62.2793,63.1425 ,64.0069,64.9877,65.8533,66.719,67.5848 ,68.4502,69.315,70.1886,71.0805,71.9708 ,72.8583,74.2012,75.1096,76.0128, 76.9321,77.8495,78.7736,79.1891)
FOOTPRINT_POINT_LONGITUDE = (25.5903,26.7403,27.6942,28.5093, 29.1993,29.8051,30.3342,30.7965,31.4031 ,31.7589,32.0751,32.3602,32.6211, 32.8612,33.082,33.2862,33.4997,33.6732, 33.8347,33.9851,34.1255,34.261,34.3875, 34.5062,34.617,34.7211,34.8192,34.9115, 34.9981,35.0803,35.1569,35.2298,35.299, 35.3644,35.4264,35.4847,35.5407,35.5939 ,35.6443,35.6925,35.7382,35.7771, 35.8201,35.8599,35.8979,35.9331,35.968, 36.0013,36.0333,36.0642,34.7485,33.8467 ,33.8364,33.8226,33.8085,33.7911, 33.7657,33.7265,33.695,33.6611,33.6237, 33.5827,33.536,33.4581,33.3999,33.3366, 33.268,33.1936,33.1097,33.0204,32.9233, 32.8172,32.7041,32.5808,32.4469,32.3024 ,32.1458,31.9761,31.7919,31.5992, 31.3902,31.1644,30.9189,30.6153,30.322, 30.0027,29.6539,29.2722,28.8536,28.388, 27.8624,27.2783,26.6289,25.4887,24.5878 ,23.563,22.3585,20.9544,19.2819, 25.5903)
ORBIT_NUMBER = 1395
ORBITAL_ECCENTRICITY = 0.567
ORBITAL_INCLINATION = 86.6
ORBITAL_SEMIMAJOR_AXIS = 8550.87
PERIAPSIS_ALTITUDE = 321.45
PERIAPSIS_ARGUMENT_ANGLE = 115.07
PERIAPSIS_TIME = 2005-02-17T08:41:11.000Z
SPACECRAFT_ORIENTATION = (0.0,1.0,0.0)
^MEX_ORIENTATION_DESC = "MEX_ORIENTATION_DESC.TXT"
SPACECRAFT_POINTING_MODE = NADIR
^MEX_POINTING_DESC = "MEX_POINTING_DESC.TXT"
RIGHT_ASCENSION = -1e+32
DECLINATION = -1e+32
OFFSET_ANGLE = -1e+32
SPACECRAFT_SOLAR_DISTANCE = 2.25741e+08
TARGET_NAME = MARS
/* CAMERA DATA ELEMENTS */
DETECTOR_TEMPERATURE = 16.7393
FOCAL_PLANE_TEMPERATURE = 8.1755
INST_CMPRS_NAME = "DISCRETE COSINE TRANSFORMATION (DCT)"
INST_CMPRS_RATIO = 29.2062
INST_CMPRS_QUALITY = 0
INST_CMPRS_QUANTZ_TBL_ID = 0
INSTRUMENT_TEMPERATURE = 11.0301
LENS_TEMPERATURE = 8.5833
MACROPIXEL_SIZE = 4
MISSING_FRAMES = 18
PIXEL_SUBSAMPLING_FLAG = N
SIGNAL_CHAIN_ID = 3
/* RADIOMETRIC DATA ELEMENTS */
BANDWIDTH = 174.0
CENTER_FILTER_WAVELENGTH = 675.0
RADIANCE_OFFSET = 2.95549
RADIANCE_SCALING_FACTOR = 0.0375155
REFLECTANCE_SCALING_FACTOR = 0.0010283
MEX:REFLECTANCE_OFFSET = 0.0810099
/* IMAGE OBJECT DEFINITIONS */
OBJECT = IMAGE
  INTERCHANGE_FORMAT = BINARY
  LINES = 51602
  LINE_SAMPLES = 6113
  SAMPLE_TYPE = UNSIGNED_INTEGER
  SAMPLE_BITS = 8
  BANDS = 1
  BAND_STORAGE_TYPE = BAND_SEQUENTIAL
  MAXIMUM = 171
  MEAN = 94.8301
  MINIMUM = 38
  STANDARD_DEVIATION = 27.0636
END_OBJECT = IMAGE
/* MAP OBJECT DEFINITIONS */
OBJECT = IMAGE_MAP_PROJECTION
  ^DATA_SET_MAP_PROJECTION_CATALOG= "DSMAP.CAT"
  A_AXIS_RADIUS = 3396.0
  B_AXIS_RADIUS = 3396.0
  C_AXIS_RADIUS = 3396.0
  CENTER_LATITUDE = 0.0
  CENTER_LONGITUDE = 33.0
  COORDINATE_SYSTEM_NAME = PLANETOGRAPHIC
  COORDINATE_SYSTEM_TYPE = "BODY-FIXED ROTATING"
  EASTERNMOST_LONGITUDE = 36.0642
  FIRST_STANDARD_PARALLEL = "N/A"
  LINE_FIRST_PIXEL = 1
  LINE_LAST_PIXEL = 51602
  LINE_PROJECTION_OFFSET = 94437.125
  MAP_PROJECTION_ROTATION = 0.0
  MAP_PROJECTION_TYPE = SINUSOIDAL
  MAP_RESOLUTION = 1185.42760773333
  MAP_SCALE = 0.05
  MAXIMUM_LATITUDE = 79.1891
  MINIMUM_LATITUDE = 36.1452
  POSITIVE_LONGITUDE_DIRECTION = EAST
  REFERENCE_LATITUDE = "N/A"
  REFERENCE_LONGITUDE = "N/A"
  SAMPLE_FIRST_PIXEL = 1
  SAMPLE_LAST_PIXEL = 6113
  SAMPLE_PROJECTION_OFFSET = 3221.625
  SECOND_STANDARD_PARALLEL = "N/A"
  WESTERNMOST_LONGITUDE = 19.2819
END_OBJECT = IMAGE_MAP_PROJECTION
/* The JPEG2000 image data file associated with this label. */
OBJECT = COMPRESSED_FILE
  FILE_NAME = "H1395_0000_P13.JP2"
  RECORD_TYPE = UNDEFINED
  FILE_RECORDS = UNK
  ENCODING_TYPE = "JP2"
  INTERCHANGE_FORMAT = BINARY
  UNCOMPRESSED_FILE_NAME = "H1395_0000_P13.IMG"
  REQUIRED_STORAGE_BYTES = "315473591"
  ^DESCRIPTION = "JP2INFO.TXT"
END_OBJECT = COMPRESSED_FILE
END
