PDS_VERSION_ID = PDS3
/* FILE DATA ELEMENTS */
RECORD_TYPE = STREAM
/* POINTERS TO DATA OBJECTS */
^COMPRESSED_FILE = "H1395_0000_S23.JP2"
/* IDENTIFICATION DATA ELEMENTS */
DATA_SET_ID = "MEX-M-HRSC-5-REFDR-MAPPROJECTED-V3.0"
DATA_SET_NAME = "MARS EXPRESS HRSC MAP PROJECTED REFDR V3.0"
DETECTOR_ID = MEX_HRSC_S2
EVENT_TYPE = "MARS-REGIONAL-MAPPING-Te-Gl-Mw"
INSTRUMENT_HOST_ID = MEX
INSTRUMENT_HOST_NAME = "MARS EXPRESS"
INSTRUMENT_ID = HRSC
INSTRUMENT_NAME = "HIGH RESOLUTION STEREO CAMERA"
MISSION_NAME = "MARS EXPRESS"
MISSION_PHASE_NAME = MR_Phase_4
PROCESSING_LEVEL_ID = 3
PRODUCT_CREATION_TIME = 2016-03-05T01:52:25.000Z
PRODUCT_ID = "H1395_0000_S23.JP2"
RELEASE_ID = 0018
REVISION_ID = 0000
/* QUALITY DATA ELEMENTS */
DATA_QUALITY_ID = 1
DATA_QUALITY_DESC = "Data calculated based on original SPICE kernels"
/* TIME DATA ELEMENTS */
SPACECRAFT_CLOCK_START_COUNT = "1/0056709395.56474"
SPACECRAFT_CLOCK_STOP_COUNT = "1/0056709830.06213"
START_TIME = 2005-02-17T08:36:43.472Z
STOP_TIME = 2005-02-17T08:37:52.337Z
/* ORBITAL DATA ELEMENTS */
ASCENDING_NODE_LONGITUDE = 199.29
MAXIMUM_RESOLUTION = 30.8
FOOTPRINT_POINT_LATITUDE = (79.3988,79.4597,79.505,79.5402,79.5746 ,79.6243,79.6563,79.6873,79.7174, 79.7466,79.7783,79.8154,79.6918,79.6062 ,79.523,79.4389,79.3152,79.1907,79.1073 ,79.0225,78.9383,78.8123,78.7286, 78.6448,78.561,78.435,78.3509,78.2679, 78.1451,78.0632,77.9812,77.8992,77.8171 ,77.6938,77.6115,77.5292,77.4468, 77.3643,77.2818,77.1579,77.0752,76.9925 ,76.9099,76.7458,76.5846,76.3829, 76.2212,75.9783,75.816,75.6942,75.5262, 75.5101,75.4863,75.4639,75.4432,75.4245 ,75.4026,75.377,75.3475,75.314,75.2758, 75.249,75.4074,75.5653,75.7231,75.8412, 75.9982,76.1159,76.3114,76.4675,76.547, 76.6272,76.7073,76.7874,76.8673,76.987, 77.1064,77.186,77.2653,77.3446,77.4634, 77.5424,77.6606,77.7394,77.8965,78.0167 ,78.0972,78.1776,78.2981,78.3783, 78.4984,78.5783,78.658,78.7773,78.8563, 78.9353,79.0567,79.1372,79.2159, 79.3988)
FOOTPRINT_POINT_LONGITUDE = (17.9799,18.8043,19.4451,19.9617, 20.4819,21.2687,21.797,22.3285,22.8636, 23.402,24.0123,24.7638,25.2201,25.3407, 25.4537,25.5671,25.7262,25.8836,25.9873 ,26.0937,26.1962,26.3462,26.4429, 26.5384,26.6324,26.7712,26.8621,26.9504 ,27.0788,27.1629,27.2459,27.3278, 27.4086,27.5277,27.6058,27.683,27.7592, 27.8343,27.9086,28.0181,28.0899,28.1609 ,28.2305,28.3674,28.498,28.6567,28.7806 ,28.9608,29.0778,29.1637,29.0805, 28.7393,28.2533,27.8181,27.4327,27.0966 ,26.7132,26.2832,25.8072,25.2859,24.72, 24.3271,24.1506,23.9701,23.7856,23.6445 ,23.4526,23.3058,23.0554,22.8499, 22.7433,22.6342,22.5238,22.4121,22.299, 22.1267,21.9513,21.8324,21.7122,21.5904 ,21.4047,21.279,21.0875,20.9577,20.6931 ,20.4856,20.3439,20.2003,19.9811, 19.8325,19.6057,19.4518,19.2958,19.0577 ,18.8963,18.7325,18.481,18.3103,18.1376 ,17.9799)
ORBIT_NUMBER = 1395
ORBITAL_ECCENTRICITY = 0.567
ORBITAL_INCLINATION = 86.6
ORBITAL_SEMIMAJOR_AXIS = 8550.87
PERIAPSIS_ALTITUDE = 321.45
PERIAPSIS_ARGUMENT_ANGLE = 115.07
PERIAPSIS_TIME = 2005-02-17T08:41:11.000Z
SPACECRAFT_ORIENTATION = (0.0,1.0,0.0)
^MEX_ORIENTATION_DESC = "MEX_ORIENTATION_DESC.TXT"
SPACECRAFT_POINTING_MODE = NADIR
^MEX_POINTING_DESC = "MEX_POINTING_DESC.TXT"
RIGHT_ASCENSION = -1e+32
DECLINATION = -1e+32
OFFSET_ANGLE = -1e+32
SPACECRAFT_SOLAR_DISTANCE = 2.25741e+08
TARGET_NAME = MARS
/* CAMERA DATA ELEMENTS */
DETECTOR_TEMPERATURE = 18.3705
FOCAL_PLANE_TEMPERATURE = 8.1755
INST_CMPRS_NAME = "DISCRETE COSINE TRANSFORMATION (DCT)"
INST_CMPRS_RATIO = 16.0946
INST_CMPRS_QUALITY = 0
INST_CMPRS_QUANTZ_TBL_ID = 0
INSTRUMENT_TEMPERATURE = 11.0301
LENS_TEMPERATURE = 8.5833
MACROPIXEL_SIZE = 2
MISSING_FRAMES = 0
PIXEL_SUBSAMPLING_FLAG = N
SIGNAL_CHAIN_ID = 1
/* RADIOMETRIC DATA ELEMENTS */
BANDWIDTH = 178.0
CENTER_FILTER_WAVELENGTH = 679.0
RADIANCE_OFFSET = 3.18743
RADIANCE_SCALING_FACTOR = 0.0105261
REFLECTANCE_SCALING_FACTOR = 0.000284066
MEX:REFLECTANCE_OFFSET = 0.0860187
/* IMAGE OBJECT DEFINITIONS */
OBJECT = IMAGE
  INTERCHANGE_FORMAT = BINARY
  LINES = 103204
  LINE_SAMPLES = 12225
  SAMPLE_TYPE = UNSIGNED_INTEGER
  SAMPLE_BITS = 8
  BANDS = 1
  BAND_STORAGE_TYPE = BAND_SEQUENTIAL
  MAXIMUM = 73
  MEAN = 50.6643
  MINIMUM = 37
  STANDARD_DEVIATION = 6.72912
END_OBJECT = IMAGE
/* MAP OBJECT DEFINITIONS */
OBJECT = IMAGE_MAP_PROJECTION
  ^DATA_SET_MAP_PROJECTION_CATALOG= "DSMAP.CAT"
  A_AXIS_RADIUS = 3396.0
  B_AXIS_RADIUS = 3396.0
  C_AXIS_RADIUS = 3396.0
  CENTER_LATITUDE = 0.0
  CENTER_LONGITUDE = 33.0
  COORDINATE_SYSTEM_NAME = PLANETOGRAPHIC
  COORDINATE_SYSTEM_TYPE = "BODY-FIXED ROTATING"
  EASTERNMOST_LONGITUDE = 29.1637
  FIRST_STANDARD_PARALLEL = "N/A"
  LINE_FIRST_PIXEL = 1
  LINE_LAST_PIXEL = 103204
  LINE_PROJECTION_OFFSET = 188874.75
  MAP_PROJECTION_ROTATION = 0.0
  MAP_PROJECTION_TYPE = SINUSOIDAL
  MAP_RESOLUTION = 2370.85521546667
  MAP_SCALE = 0.025
  MAXIMUM_LATITUDE = 79.8154
  MINIMUM_LATITUDE = 75.249
  POSITIVE_LONGITUDE_DIRECTION = EAST
  REFERENCE_LATITUDE = "N/A"
  REFERENCE_LONGITUDE = "N/A"
  SAMPLE_FIRST_PIXEL = 1
  SAMPLE_LAST_PIXEL = 12225
  SAMPLE_PROJECTION_OFFSET = 6443.75
  SECOND_STANDARD_PARALLEL = "N/A"
  WESTERNMOST_LONGITUDE = 17.9799
END_OBJECT = IMAGE_MAP_PROJECTION
/* The JPEG2000 image data file associated with this label. */
OBJECT = COMPRESSED_FILE
  FILE_NAME = "H1395_0000_S23.JP2"
  RECORD_TYPE = UNDEFINED
  FILE_RECORDS = UNK
  ENCODING_TYPE = "JP2"
  INTERCHANGE_FORMAT = BINARY
  UNCOMPRESSED_FILE_NAME = "H1395_0000_S23.IMG"
  REQUIRED_STORAGE_BYTES = "1261705575"
  ^DESCRIPTION = "JP2INFO.TXT"
END_OBJECT = COMPRESSED_FILE
END
