PDS_VERSION_ID = PDS3
/* FILE DATA ELEMENTS */
RECORD_TYPE = STREAM
/* POINTERS TO DATA OBJECTS */
^COMPRESSED_FILE = "H1402_0009_ND3.JP2"
/* IDENTIFICATION DATA ELEMENTS */
DATA_SET_ID = "MEX-M-HRSC-5-REFDR-MAPPROJECTED-V3.0"
DATA_SET_NAME = "MARS EXPRESS HRSC MAP PROJECTED REFDR V3.0"
DETECTOR_ID = MEX_HRSC_NADIR
EVENT_TYPE = "MARS-REGIONAL-MAPPING-Te-Fl-Mw"
INSTRUMENT_HOST_ID = MEX
INSTRUMENT_HOST_NAME = "MARS EXPRESS"
INSTRUMENT_ID = HRSC
INSTRUMENT_NAME = "HIGH RESOLUTION STEREO CAMERA"
MISSION_NAME = "MARS EXPRESS"
MISSION_PHASE_NAME = MR_Phase_4
PROCESSING_LEVEL_ID = 3
PRODUCT_CREATION_TIME = 2016-03-05T14:51:22.000Z
PRODUCT_ID = "H1402_0009_ND3.JP2"
RELEASE_ID = 0019
REVISION_ID = 0000
/* QUALITY DATA ELEMENTS */
DATA_QUALITY_ID = 1
DATA_QUALITY_DESC = "Data calculated based on original SPICE kernels"
/* TIME DATA ELEMENTS */
SPACECRAFT_CLOCK_START_COUNT = "1/0056879392.57957"
SPACECRAFT_CLOCK_STOP_COUNT = "1/0056880114.62360"
START_TIME = 2005-02-19T07:50:58.621Z
STOP_TIME = 2005-02-19T07:59:53.629Z
/* ORBITAL DATA ELEMENTS */
ASCENDING_NODE_LONGITUDE = 199.14
MAXIMUM_RESOLUTION = 25.2
FOOTPRINT_POINT_LATITUDE = (48.4302,48.4772,48.5375,48.5734, 48.8618,48.1314,47.4067,46.6862,45.97, 45.2567,44.5511,43.8443,43.1445,42.4688 ,42.0978,41.4085,40.3775,39.6936, 39.0147,37.9964,36.9825,36.3184,35.6572 ,34.9891,34.32,33.3259,32.6635,31.6806, 30.7227,30.075,29.096,28.4514,27.8196, 26.8567,25.9062,24.9609,24.3292,23.7014 ,22.7624,21.8214,21.2026,20.5742, 19.9492,19.0207,18.4037,17.7865,17.1706 ,16.5556,15.9417,15.9069,15.8794, 15.8496,15.8158,15.7803,15.7528,15.7163 ,16.332,17.2581,17.876,18.4941,19.1197, 20.0526,20.6721,21.2951,21.9358,22.5622 ,23.1906,24.1188,24.7514,25.7023, 26.3407,27.2961,27.9366,28.9011,29.5433 ,30.1876,31.1684,31.8214,32.4848, 33.1316,33.806,34.4672,35.4613,36.1184, 37.1221,38.1333,38.8119,39.4963,40.1779 ,40.8647,41.5479,42.2487,42.9452, 43.9882,44.6968,45.4054,46.1193,46.836, 47.5583,48.4302)
FOOTPRINT_POINT_LONGITUDE = (64.4432,65.2317,66.2406,66.841,67.3645 ,67.4001,67.4341,67.4667,67.4977, 67.5273,67.5561,67.583,67.6092,67.6374, 67.646,67.6699,67.7036,67.7249,67.7457, 67.7746,67.8015,67.8201,67.8382,67.8541 ,67.8687,67.8906,67.904,67.9247,67.9486 ,67.9617,67.9782,67.9901,68.0042, 68.0206,68.0385,68.0564,68.0673,68.0786 ,68.0954,68.1105,68.1226,68.1311, 68.1402,68.1579,68.1687,68.179,68.1894, 68.1998,68.2103,67.8234,67.3654,66.8736 ,66.3122,65.715,65.2585,64.643,64.6618, 64.6882,64.7054,64.7223,64.7379,64.7597 ,64.7751,64.7885,64.7935,64.805,64.8153 ,64.8363,64.8439,64.8537,64.8579, 64.8644,64.8668,64.8679,64.8683,64.8673 ,64.8593,64.8535,64.8431,64.8382, 64.8222,64.8104,64.7901,64.7776,64.75, 64.7173,64.6922,64.6637,64.6349,64.6026 ,64.5702,64.5293,64.4883,64.4238, 64.3731,64.32,64.2623,64.2009,64.1344, 64.4432)
ORBIT_NUMBER = 1402
ORBITAL_ECCENTRICITY = 0.567
ORBITAL_INCLINATION = 86.61
ORBITAL_SEMIMAJOR_AXIS = 8549.73
PERIAPSIS_ALTITUDE = 321.33
PERIAPSIS_ARGUMENT_ANGLE = 113.82
PERIAPSIS_TIME = 2005-02-19T07:44:40.000Z
SPACECRAFT_ORIENTATION = (0.0,1.0,0.0)
^MEX_ORIENTATION_DESC = "MEX_ORIENTATION_DESC.TXT"
SPACECRAFT_POINTING_MODE = INERT
^MEX_POINTING_DESC = "MEX_POINTING_DESC.TXT"
RIGHT_ASCENSION = 0.0
DECLINATION = -90.0
OFFSET_ANGLE = -1e+32
SPACECRAFT_SOLAR_DISTANCE = 2.25357e+08
TARGET_NAME = MARS
/* CAMERA DATA ELEMENTS */
DETECTOR_TEMPERATURE = 18.3705
FOCAL_PLANE_TEMPERATURE = 8.7872
INST_CMPRS_NAME = "DISCRETE COSINE TRANSFORMATION (DCT)"
INST_CMPRS_RATIO = 6.56775
INST_CMPRS_QUALITY = 0
INST_CMPRS_QUANTZ_TBL_ID = 0
INSTRUMENT_TEMPERATURE = 50.9945
LENS_TEMPERATURE = 9.195
MACROPIXEL_SIZE = 1
MISSING_FRAMES = 2
PIXEL_SUBSAMPLING_FLAG = N
SIGNAL_CHAIN_ID = 0
/* RADIOMETRIC DATA ELEMENTS */
BANDWIDTH = 177.0
CENTER_FILTER_WAVELENGTH = 677.5
RADIANCE_OFFSET = 4.04275
RADIANCE_SCALING_FACTOR = 0.0416166
REFLECTANCE_SCALING_FACTOR = 0.00112277
MEX:REFLECTANCE_OFFSET = 0.109069
/* IMAGE OBJECT DEFINITIONS */
OBJECT = IMAGE
  INTERCHANGE_FORMAT = BINARY
  LINES = 77968
  LINE_SAMPLES = 8286
  SAMPLE_TYPE = UNSIGNED_INTEGER
  SAMPLE_BITS = 8
  BANDS = 1
  BAND_STORAGE_TYPE = BAND_SEQUENTIAL
  MAXIMUM = 130
  MEAN = 82.7187
  MINIMUM = 28
  STANDARD_DEVIATION = 17.7403
END_OBJECT = IMAGE
/* MAP OBJECT DEFINITIONS */
OBJECT = IMAGE_MAP_PROJECTION
  ^DATA_SET_MAP_PROJECTION_CATALOG= "DSMAP.CAT"
  A_AXIS_RADIUS = 3396.0
  B_AXIS_RADIUS = 3396.0
  C_AXIS_RADIUS = 3396.0
  CENTER_LATITUDE = 0.0
  CENTER_LONGITUDE = 66.0
  COORDINATE_SYSTEM_NAME = PLANETOGRAPHIC
  COORDINATE_SYSTEM_TYPE = "BODY-FIXED ROTATING"
  EASTERNMOST_LONGITUDE = 68.2103
  FIRST_STANDARD_PARALLEL = "N/A"
  LINE_FIRST_PIXEL = 1
  LINE_LAST_PIXEL = 77968
  LINE_PROJECTION_OFFSET = 115229.0
  MAP_PROJECTION_ROTATION = 0.0
  MAP_PROJECTION_TYPE = SINUSOIDAL
  MAP_RESOLUTION = 2370.85521546667
  MAP_SCALE = 0.025
  MAXIMUM_LATITUDE = 48.8618
  MINIMUM_LATITUDE = 15.7163
  POSITIVE_LONGITUDE_DIRECTION = EAST
  REFERENCE_LATITUDE = "N/A"
  REFERENCE_LONGITUDE = "N/A"
  SAMPLE_FIRST_PIXEL = 1
  SAMPLE_LAST_PIXEL = 8286
  SAMPLE_PROJECTION_OFFSET = 3172.0
  SECOND_STANDARD_PARALLEL = "N/A"
  WESTERNMOST_LONGITUDE = 64.1344
END_OBJECT = IMAGE_MAP_PROJECTION
/* The JPEG2000 image data file associated with this label. */
OBJECT = COMPRESSED_FILE
  FILE_NAME = "H1402_0009_ND3.JP2"
  RECORD_TYPE = UNDEFINED
  FILE_RECORDS = UNK
  ENCODING_TYPE = "JP2"
  INTERCHANGE_FORMAT = BINARY
  UNCOMPRESSED_FILE_NAME = "H1402_0009_ND3.IMG"
  REQUIRED_STORAGE_BYTES = "646075992"
  ^DESCRIPTION = "JP2INFO.TXT"
END_OBJECT = COMPRESSED_FILE
END
