PDS_VERSION_ID = PDS3
/* FILE DATA ELEMENTS */
RECORD_TYPE = STREAM
/* POINTERS TO DATA OBJECTS */
^COMPRESSED_FILE = "H1404_0000_BL3.JP2"
/* IDENTIFICATION DATA ELEMENTS */
DATA_SET_ID = "MEX-M-HRSC-5-REFDR-MAPPROJECTED-V3.0"
DATA_SET_NAME = "MARS EXPRESS HRSC MAP PROJECTED REFDR V3.0"
DETECTOR_ID = MEX_HRSC_BLUE
EVENT_TYPE = "MARS-REGIONAL-MAPPING-Pf-Eo"
INSTRUMENT_HOST_ID = MEX
INSTRUMENT_HOST_NAME = "MARS EXPRESS"
INSTRUMENT_ID = HRSC
INSTRUMENT_NAME = "HIGH RESOLUTION STEREO CAMERA"
MISSION_NAME = "MARS EXPRESS"
MISSION_PHASE_NAME = MR_Phase_4
PROCESSING_LEVEL_ID = 3
PRODUCT_CREATION_TIME = 2016-03-05T14:51:22.000Z
PRODUCT_ID = "H1404_0000_BL3.JP2"
RELEASE_ID = 0019
REVISION_ID = 0000
/* QUALITY DATA ELEMENTS */
DATA_QUALITY_ID = 1
DATA_QUALITY_DESC = "Data calculated based on original SPICE kernels"
/* TIME DATA ELEMENTS */
SPACECRAFT_CLOCK_START_COUNT = "1/0056927200.57955"
SPACECRAFT_CLOCK_STOP_COUNT = "1/0056927521.49488"
START_TIME = 2005-02-19T21:07:18.655Z
STOP_TIME = 2005-02-19T21:11:33.375Z
/* ORBITAL DATA ELEMENTS */
ASCENDING_NODE_LONGITUDE = 199.1
MAXIMUM_RESOLUTION = 51.8
FOOTPRINT_POINT_LATITUDE = (80.6601,80.8585,81.0019,81.0858, 80.7451,80.4025,80.0605,79.7248,79.3875 ,79.049,78.7093,78.3705,78.039,77.7064, 77.3731,77.0387,76.7037,76.3694,76.0434 ,75.7166,75.3892,75.0612,74.7327, 74.4037,74.0742,73.7481,73.4282,73.108, 72.7873,72.4662,72.1447,71.823,71.5008, 71.1783,70.8555,70.5324,70.209,69.8877, 69.5747,69.2612,68.9479,68.6341,68.3202 ,68.0061,67.6917,67.3774,67.0628,66.748 ,66.4331,65.9605,65.4877,65.1724, 64.8251,64.7638,64.717,65.1707,65.4834, 65.7958,66.1083,66.4206,66.7324,67.0441 ,67.5113,67.8224,68.2884,68.5989, 69.0638,69.3735,69.6826,70.1591,70.4779 ,70.7963,71.1143,71.4317,71.7484, 72.2227,72.5382,72.853,73.1673,73.4809, 73.9616,74.2835,74.6045,74.9248,75.2444 ,75.722,76.0386,76.3626,76.6873,77.1695 ,77.494,77.8122,78.2956,78.6202,78.943, 79.2636,79.5818,79.9043,80.2262, 80.6601)
FOOTPRINT_POINT_LONGITUDE = (208.785,211.394,213.539,215.453, 216.184,216.863,217.491,218.065,218.604 ,219.109,219.583,220.027,220.436, 220.823,221.189,221.538,221.868,222.181 ,222.47,222.747,223.011,223.264,223.505 ,223.736,223.958,224.168,224.365, 224.555,224.738,224.914,225.083,225.247 ,225.404,225.556,225.703,225.845, 225.982,226.114,226.238,226.358,226.474 ,226.587,226.696,226.803,226.906, 227.006,227.103,227.197,227.289,227.422 ,227.549,227.631,227.226,226.095, 225.328,224.905,224.79,224.67,224.549, 224.423,224.292,224.158,223.95,223.805, 223.579,223.422,223.177,223.008,222.831 ,222.549,222.35,222.145,221.933,221.712 ,221.483,221.123,220.872,220.611, 220.339,220.058,219.601,219.277,218.938 ,218.586,218.219,217.636,217.223, 216.779,216.312,215.553,215.039,214.472 ,213.557,212.893,212.192,211.449, 210.661,209.802,208.879,208.785)
ORBIT_NUMBER = 1404
ORBITAL_ECCENTRICITY = 0.567
ORBITAL_INCLINATION = 86.61
ORBITAL_SEMIMAJOR_AXIS = 8544.89
PERIAPSIS_ALTITUDE = 321.36
PERIAPSIS_ARGUMENT_ANGLE = 113.45
PERIAPSIS_TIME = 2005-02-19T21:11:16.000Z
SPACECRAFT_ORIENTATION = (0.0,1.0,0.0)
^MEX_ORIENTATION_DESC = "MEX_ORIENTATION_DESC.TXT"
SPACECRAFT_POINTING_MODE = ACROSSTRACK
^MEX_POINTING_DESC = "MEX_POINTING_DESC.TXT"
RIGHT_ASCENSION = -1e+32
DECLINATION = -1e+32
OFFSET_ANGLE = -0.32
SPACECRAFT_SOLAR_DISTANCE = 2.25248e+08
TARGET_NAME = MARS
/* CAMERA DATA ELEMENTS */
DETECTOR_TEMPERATURE = 18.1666
FOCAL_PLANE_TEMPERATURE = 8.1755
INST_CMPRS_NAME = "DISCRETE COSINE TRANSFORMATION (DCT)"
INST_CMPRS_RATIO = 12.2928
INST_CMPRS_QUALITY = 0
INST_CMPRS_QUANTZ_TBL_ID = 0
INSTRUMENT_TEMPERATURE = 11.234
LENS_TEMPERATURE = 10.0106
MACROPIXEL_SIZE = 4
MISSING_FRAMES = 0
PIXEL_SUBSAMPLING_FLAG = N
SIGNAL_CHAIN_ID = 2
/* RADIOMETRIC DATA ELEMENTS */
BANDWIDTH = 76.0
CENTER_FILTER_WAVELENGTH = 444.0
RADIANCE_OFFSET = 0.592377
RADIANCE_SCALING_FACTOR = 0.00212104
REFLECTANCE_SCALING_FACTOR = 0.000110568
MEX:REFLECTANCE_OFFSET = 0.0308801
/* IMAGE OBJECT DEFINITIONS */
OBJECT = IMAGE
  INTERCHANGE_FORMAT = BINARY
  LINES = 19420
  LINE_SAMPLES = 5282
  SAMPLE_TYPE = UNSIGNED_INTEGER
  SAMPLE_BITS = 8
  BANDS = 1
  BAND_STORAGE_TYPE = BAND_SEQUENTIAL
  MAXIMUM = 180
  MEAN = 88.2192
  MINIMUM = 65
  STANDARD_DEVIATION = 7.66634
END_OBJECT = IMAGE
/* MAP OBJECT DEFINITIONS */
OBJECT = IMAGE_MAP_PROJECTION
  ^DATA_SET_MAP_PROJECTION_CATALOG= "DSMAP.CAT"
  A_AXIS_RADIUS = 3396.0
  B_AXIS_RADIUS = 3396.0
  C_AXIS_RADIUS = 3396.0
  CENTER_LATITUDE = 0.0
  CENTER_LONGITUDE = 223.0
  COORDINATE_SYSTEM_NAME = PLANETOGRAPHIC
  COORDINATE_SYSTEM_TYPE = "BODY-FIXED ROTATING"
  EASTERNMOST_LONGITUDE = 227.631
  FIRST_STANDARD_PARALLEL = "N/A"
  LINE_FIRST_PIXEL = 1
  LINE_LAST_PIXEL = 19420
  LINE_PROJECTION_OFFSET = 96125.625
  MAP_PROJECTION_ROTATION = 0.0
  MAP_PROJECTION_TYPE = SINUSOIDAL
  MAP_RESOLUTION = 1185.42760773333
  MAP_SCALE = 0.05
  MAXIMUM_LATITUDE = 81.08580000000001
  MINIMUM_LATITUDE = 64.717
  POSITIVE_LONGITUDE_DIRECTION = EAST
  REFERENCE_LATITUDE = "N/A"
  REFERENCE_LONGITUDE = "N/A"
  SAMPLE_FIRST_PIXEL = 1
  SAMPLE_LAST_PIXEL = 5282
  SAMPLE_PROJECTION_OFFSET = 2912.875
  SECOND_STANDARD_PARALLEL = "N/A"
  WESTERNMOST_LONGITUDE = 208.785
END_OBJECT = IMAGE_MAP_PROJECTION
/* The JPEG2000 image data file associated with this label. */
OBJECT = COMPRESSED_FILE
  FILE_NAME = "H1404_0000_BL3.JP2"
  RECORD_TYPE = UNDEFINED
  FILE_RECORDS = UNK
  ENCODING_TYPE = "JP2"
  INTERCHANGE_FORMAT = BINARY
  UNCOMPRESSED_FILE_NAME = "H1404_0000_BL3.IMG"
  REQUIRED_STORAGE_BYTES = "102602850"
  ^DESCRIPTION = "JP2INFO.TXT"
END_OBJECT = COMPRESSED_FILE
END
