PDS_VERSION_ID = PDS3
/* FILE DATA ELEMENTS */
RECORD_TYPE = STREAM
/* POINTERS TO DATA OBJECTS */
^COMPRESSED_FILE = "H1405_0000_P23.JP2"
/* IDENTIFICATION DATA ELEMENTS */
DATA_SET_ID = "MEX-M-HRSC-5-REFDR-MAPPROJECTED-V3.0"
DATA_SET_NAME = "MARS EXPRESS HRSC MAP PROJECTED REFDR V3.0"
DETECTOR_ID = MEX_HRSC_P2
EVENT_TYPE = "MARS-REGIONAL-MAPPING-Vo-Fl-Eo"
INSTRUMENT_HOST_ID = MEX
INSTRUMENT_HOST_NAME = "MARS EXPRESS"
INSTRUMENT_ID = HRSC
INSTRUMENT_NAME = "HIGH RESOLUTION STEREO CAMERA"
MISSION_NAME = "MARS EXPRESS"
MISSION_PHASE_NAME = MR_Phase_4
PROCESSING_LEVEL_ID = 3
PRODUCT_CREATION_TIME = 2016-03-05T14:51:22.000Z
PRODUCT_ID = "H1405_0000_P23.JP2"
RELEASE_ID = 0019
REVISION_ID = 0000
/* QUALITY DATA ELEMENTS */
DATA_QUALITY_ID = 1
DATA_QUALITY_DESC = "Data calculated based on original SPICE kernels"
/* TIME DATA ELEMENTS */
SPACECRAFT_CLOCK_START_COUNT = "1/0056951464.57940"
SPACECRAFT_CLOCK_STOP_COUNT = "1/0056951898.51995"
START_TIME = 2005-02-20T03:51:24.257Z
STOP_TIME = 2005-02-20T04:02:07.281Z
/* ORBITAL DATA ELEMENTS */
ASCENDING_NODE_LONGITUDE = 199.08
MAXIMUM_RESOLUTION = 53.5
FOOTPRINT_POINT_LATITUDE = (77.8365,77.0186,76.2114,75.0014, 74.2107,73.417,72.2309,71.4564,70.6794, 69.9006,69.1195,68.3367,67.56,66.8002, 66.0395,65.3858,64.6224,63.1602,62.0105 ,61.2228,60.4289,59.6345,58.8395, 58.0445,57.2497,56.4357,55.6145,54.7939 ,53.5413,52.695,51.8491,51.0044,50.1605 ,49.3176,48.4757,47.6355,46.7965, 45.9591,45.1233,44.2896,43.4575,42.6276 ,41.7996,40.9739,40.1503,39.3293, 38.5109,37.6949,36.8813,36.066,36.0655, 36.8742,37.6857,38.4999,39.3167,40.1359 ,40.9577,41.7814,42.6077,43.4361, 44.2661,45.0979,45.9318,46.7676,47.6044 ,48.4431,49.2829,50.1239,50.9659, 52.2309,53.0745,53.9188,54.7452,55.5638 ,56.383,57.1947,57.9868,58.7791,59.5707 ,60.3622,61.1525,62.3185,63.0806, 64.5354,65.2946,66.6993,67.4534,68.2235 ,68.9994,69.7729,70.5439,71.312,72.0769 ,73.2457,74.0267,74.8035,75.988,76.776, 77.5715,77.8365)
FOOTPRINT_POINT_LONGITUDE = (126.92,127.51,128.018,128.675,129.047, 129.382,129.827,130.084,130.32,130.537, 130.738,130.924,131.094,131.249,131.392 ,131.508,131.635,131.855,132.012,132.11 ,132.203,132.291,132.374,132.452, 132.525,132.596,132.663,132.725,132.817 ,132.874,132.927,132.978,133.026, 133.071,133.114,133.155,133.194,133.23, 133.265,133.298,133.329,133.358,133.387 ,133.413,133.439,133.463,133.486, 133.507,133.528,132.885,131.413,131.411 ,131.407,131.4,131.391,131.379,131.365, 131.348,131.328,131.305,131.279,131.25, 131.217,131.181,131.14,131.096,131.047, 130.994,130.935,130.838,130.766,130.688 ,130.606,130.517,130.422,130.32,130.213 ,130.098,129.974,129.841,129.698, 129.467,129.301,128.949,128.744,128.321 ,128.068,127.787,127.479,127.145, 126.781,126.383,125.949,125.198,124.628 ,123.995,122.88,122.015,121.02,126.92)
ORBIT_NUMBER = 1405
ORBITAL_ECCENTRICITY = 0.567
ORBITAL_INCLINATION = 86.6
ORBITAL_SEMIMAJOR_AXIS = 8548.28
PERIAPSIS_ALTITUDE = 322.36
PERIAPSIS_ARGUMENT_ANGLE = 113.28
PERIAPSIS_TIME = 2005-02-20T03:54:40.000Z
SPACECRAFT_ORIENTATION = (0.0,1.0,0.0)
^MEX_ORIENTATION_DESC = "MEX_ORIENTATION_DESC.TXT"
SPACECRAFT_POINTING_MODE = ACROSSTRACK
^MEX_POINTING_DESC = "MEX_POINTING_DESC.TXT"
RIGHT_ASCENSION = -1e+32
DECLINATION = -1e+32
OFFSET_ANGLE = 0.54
SPACECRAFT_SOLAR_DISTANCE = 2.25193e+08
TARGET_NAME = MARS
/* CAMERA DATA ELEMENTS */
DETECTOR_TEMPERATURE = 18.9822
FOCAL_PLANE_TEMPERATURE = 8.9911
INST_CMPRS_NAME = "DISCRETE COSINE TRANSFORMATION (DCT)"
INST_CMPRS_RATIO = 14.182
INST_CMPRS_QUALITY = 0
INST_CMPRS_QUANTZ_TBL_ID = 0
INSTRUMENT_TEMPERATURE = 11.6418
LENS_TEMPERATURE = 9.3989
MACROPIXEL_SIZE = 4
MISSING_FRAMES = 208
PIXEL_SUBSAMPLING_FLAG = N
SIGNAL_CHAIN_ID = 3
/* RADIOMETRIC DATA ELEMENTS */
BANDWIDTH = 177.0
CENTER_FILTER_WAVELENGTH = 676.5
RADIANCE_OFFSET = 2.74274
RADIANCE_SCALING_FACTOR = 0.0369073
REFLECTANCE_SCALING_FACTOR = 0.000992387
MEX:REFLECTANCE_OFFSET = 0.0737486
/* IMAGE OBJECT DEFINITIONS */
OBJECT = IMAGE
  INTERCHANGE_FORMAT = BINARY
  LINES = 49540
  LINE_SAMPLES = 5036
  SAMPLE_TYPE = UNSIGNED_INTEGER
  SAMPLE_BITS = 8
  BANDS = 1
  BAND_STORAGE_TYPE = BAND_SEQUENTIAL
  MAXIMUM = 238
  MEAN = 119.365
  MINIMUM = 50
  STANDARD_DEVIATION = 35.384
END_OBJECT = IMAGE
/* MAP OBJECT DEFINITIONS */
OBJECT = IMAGE_MAP_PROJECTION
  ^DATA_SET_MAP_PROJECTION_CATALOG= "DSMAP.CAT"
  A_AXIS_RADIUS = 3396.0
  B_AXIS_RADIUS = 3396.0
  C_AXIS_RADIUS = 3396.0
  CENTER_LATITUDE = 0.0
  CENTER_LONGITUDE = 131.0
  COORDINATE_SYSTEM_NAME = PLANETOGRAPHIC
  COORDINATE_SYSTEM_TYPE = "BODY-FIXED ROTATING"
  EASTERNMOST_LONGITUDE = 133.528
  FIRST_STANDARD_PARALLEL = "N/A"
  LINE_FIRST_PIXEL = 1
  LINE_LAST_PIXEL = 49540
  LINE_PROJECTION_OFFSET = 92284.375
  MAP_PROJECTION_ROTATION = 0.0
  MAP_PROJECTION_TYPE = SINUSOIDAL
  MAP_RESOLUTION = 1185.42760773333
  MAP_SCALE = 0.05
  MAXIMUM_LATITUDE = 77.8365
  MINIMUM_LATITUDE = 36.0655
  POSITIVE_LONGITUDE_DIRECTION = EAST
  REFERENCE_LATITUDE = "N/A"
  REFERENCE_LONGITUDE = "N/A"
  SAMPLE_FIRST_PIXEL = 1
  SAMPLE_LAST_PIXEL = 5036
  SAMPLE_PROJECTION_OFFSET = 2532.125
  SECOND_STANDARD_PARALLEL = "N/A"
  WESTERNMOST_LONGITUDE = 121.02
END_OBJECT = IMAGE_MAP_PROJECTION
/* The JPEG2000 image data file associated with this label. */
OBJECT = COMPRESSED_FILE
  FILE_NAME = "H1405_0000_P23.JP2"
  RECORD_TYPE = UNDEFINED
  FILE_RECORDS = UNK
  ENCODING_TYPE = "JP2"
  INTERCHANGE_FORMAT = BINARY
  UNCOMPRESSED_FILE_NAME = "H1405_0000_P23.IMG"
  REQUIRED_STORAGE_BYTES = "249508620"
  ^DESCRIPTION = "JP2INFO.TXT"
END_OBJECT = COMPRESSED_FILE
END
