PDS_VERSION_ID = PDS3
/* FILE DATA ELEMENTS */
RECORD_TYPE = STREAM
/* POINTERS TO DATA OBJECTS */
^COMPRESSED_FILE = "H1408_0000_IR3.JP2"
/* IDENTIFICATION DATA ELEMENTS */
DATA_SET_ID = "MEX-M-HRSC-5-REFDR-MAPPROJECTED-V3.0"
DATA_SET_NAME = "MARS EXPRESS HRSC MAP PROJECTED REFDR V3.0"
DETECTOR_ID = MEX_HRSC_IR
EVENT_TYPE = "MARS-REGIONAL-MAPPING-Gl-Pf-Eo"
INSTRUMENT_HOST_ID = MEX
INSTRUMENT_HOST_NAME = "MARS EXPRESS"
INSTRUMENT_ID = HRSC
INSTRUMENT_NAME = "HIGH RESOLUTION STEREO CAMERA"
MISSION_NAME = "MARS EXPRESS"
MISSION_PHASE_NAME = MR_Phase_4
PROCESSING_LEVEL_ID = 3
PRODUCT_CREATION_TIME = 2016-03-05T14:51:22.000Z
PRODUCT_ID = "H1408_0000_IR3.JP2"
RELEASE_ID = 0019
REVISION_ID = 0000
/* QUALITY DATA ELEMENTS */
DATA_QUALITY_ID = 1
DATA_QUALITY_DESC = "Data calculated based on original SPICE kernels"
/* TIME DATA ELEMENTS */
SPACECRAFT_CLOCK_START_COUNT = "1/0057023941.57290"
SPACECRAFT_CLOCK_STOP_COUNT = "1/0057024390.51930"
START_TIME = 2005-02-21T00:00:18.919Z
STOP_TIME = 2005-02-21T00:10:23.602Z
/* ORBITAL DATA ELEMENTS */
ASCENDING_NODE_LONGITUDE = 199.01
MAXIMUM_RESOLUTION = 54.3
FOOTPRINT_POINT_LATITUDE = (85.0552,85.5304,84.7421,83.5264, 82.3079,81.501,80.6956,79.9034,79.1088, 78.325,77.549,76.7724,75.9951,75.2415, 74.486,73.7315,72.9761,71.8426,70.733, 70.0041,69.2754,68.5471,67.8199,67.0933 ,66.368,65.6434,64.9205,64.1778,63.433, 62.6897,61.9479,61.2079,60.4694,59.7335 ,58.9994,58.2675,57.5379,56.8105,56.086 ,55.3637,54.6444,53.9273,52.9142, 51.8508,51.1452,50.0801,49.3823,48.6877 ,47.9967,47.3088,46.9173,46.8945,46.854 ,47.5383,48.226,48.917,49.9595,51.0215, 51.7249,52.7861,53.7962,54.5105,55.228, 55.9476,56.6693,57.395,58.122,58.8509, 59.582,60.315,61.0503,61.787,62.5252, 63.265,64.0063,64.7455,65.4643,66.1842, 67.2659,67.986,68.7084,69.4306,70.1526, 70.8745,71.61,72.3566,73.4738,74.2179, 75.3302,76.46,77.5964,78.3497,79.5, 80.2597,81.4069,82.1596,82.9128,83.6403 ,84.3481,85.0552)
FOOTPRINT_POINT_LONGITUDE = (167.234,173.619,178.161,182.755, 185.831,187.362,188.613,189.643,190.522 ,191.263,191.9,192.462,192.959,193.389, 193.773,194.122,194.438,194.859,195.22, 195.436,195.634,195.818,195.988,196.147 ,196.295,196.432,196.562,196.686, 196.803,196.913,197.017,197.114,197.205 ,197.291,197.372,197.449,197.522,197.59 ,197.656,197.718,197.777,197.833, 197.907,197.982,198.028,198.094,198.136 ,198.175,198.213,198.249,197.816, 197.141,196.088,196.057,196.024,195.987 ,195.926,195.857,195.806,195.722, 195.633,195.565,195.491,195.412,195.328 ,195.236,195.138,195.033,194.92,194.799 ,194.669,194.529,194.379,194.217, 194.042,193.856,193.66,193.45,193.103, 192.849,192.573,192.275,191.951,191.6, 191.208,190.773,190.039,189.486,188.541 ,187.405,186.032,184.959,182.993, 181.412,178.428,175.928,172.803,168.931 ,163.93,167.234)
ORBIT_NUMBER = 1408
ORBITAL_ECCENTRICITY = 0.567
ORBITAL_INCLINATION = 86.61
ORBITAL_SEMIMAJOR_AXIS = 8543.62
PERIAPSIS_ALTITUDE = 322.16
PERIAPSIS_ARGUMENT_ANGLE = 112.75
PERIAPSIS_TIME = 2005-02-21T00:04:40.000Z
SPACECRAFT_ORIENTATION = (0.0,1.0,0.0)
^MEX_ORIENTATION_DESC = "MEX_ORIENTATION_DESC.TXT"
SPACECRAFT_POINTING_MODE = ACROSSTRACK
^MEX_POINTING_DESC = "MEX_POINTING_DESC.TXT"
RIGHT_ASCENSION = -1e+32
DECLINATION = -1e+32
OFFSET_ANGLE = 0.5
SPACECRAFT_SOLAR_DISTANCE = 2.25029e+08
TARGET_NAME = MARS
/* CAMERA DATA ELEMENTS */
DETECTOR_TEMPERATURE = 17.5549
FOCAL_PLANE_TEMPERATURE = 8.3794
INST_CMPRS_NAME = "DISCRETE COSINE TRANSFORMATION (DCT)"
INST_CMPRS_RATIO = 17.8619
INST_CMPRS_QUALITY = 0
INST_CMPRS_QUANTZ_TBL_ID = 0
INSTRUMENT_TEMPERATURE = 11.234
LENS_TEMPERATURE = 8.7872
MACROPIXEL_SIZE = 4
MISSING_FRAMES = 217
PIXEL_SUBSAMPLING_FLAG = N
SIGNAL_CHAIN_ID = 2
/* RADIOMETRIC DATA ELEMENTS */
BANDWIDTH = 81.0
CENTER_FILTER_WAVELENGTH = 955.5
RADIANCE_OFFSET = 0.377021
RADIANCE_SCALING_FACTOR = 0.0091175
REFLECTANCE_SCALING_FACTOR = 0.000996052
MEX:REFLECTANCE_OFFSET = 0.0411881
/* IMAGE OBJECT DEFINITIONS */
OBJECT = IMAGE
  INTERCHANGE_FORMAT = BINARY
  LINES = 45093
  LINE_SAMPLES = 6236
  SAMPLE_TYPE = UNSIGNED_INTEGER
  SAMPLE_BITS = 8
  BANDS = 1
  BAND_STORAGE_TYPE = BAND_SEQUENTIAL
  MAXIMUM = 174
  MEAN = 78.6419
  MINIMUM = 22
  STANDARD_DEVIATION = 33.088
END_OBJECT = IMAGE
/* MAP OBJECT DEFINITIONS */
OBJECT = IMAGE_MAP_PROJECTION
  ^DATA_SET_MAP_PROJECTION_CATALOG= "DSMAP.CAT"
  A_AXIS_RADIUS = 3396.0
  B_AXIS_RADIUS = 3396.0
  C_AXIS_RADIUS = 3396.0
  CENTER_LATITUDE = 0.0
  CENTER_LONGITUDE = 195.0
  COORDINATE_SYSTEM_NAME = PLANETOGRAPHIC
  COORDINATE_SYSTEM_TYPE = "BODY-FIXED ROTATING"
  EASTERNMOST_LONGITUDE = 198.249
  FIRST_STANDARD_PARALLEL = "N/A"
  LINE_FIRST_PIXEL = 1
  LINE_LAST_PIXEL = 45093
  LINE_PROJECTION_OFFSET = 100632.125
  MAP_PROJECTION_ROTATION = 0.0
  MAP_PROJECTION_TYPE = SINUSOIDAL
  MAP_RESOLUTION = 1185.42760773333
  MAP_SCALE = 0.05
  MAXIMUM_LATITUDE = 85.5304
  MINIMUM_LATITUDE = 46.854
  POSITIVE_LONGITUDE_DIRECTION = EAST
  REFERENCE_LATITUDE = "N/A"
  REFERENCE_LONGITUDE = "N/A"
  SAMPLE_FIRST_PIXEL = 1
  SAMPLE_LAST_PIXEL = 6236
  SAMPLE_PROJECTION_OFFSET = 3607.625
  SECOND_STANDARD_PARALLEL = "N/A"
  WESTERNMOST_LONGITUDE = 163.93
END_OBJECT = IMAGE_MAP_PROJECTION
/* The JPEG2000 image data file associated with this label. */
OBJECT = COMPRESSED_FILE
  FILE_NAME = "H1408_0000_IR3.JP2"
  RECORD_TYPE = UNDEFINED
  FILE_RECORDS = UNK
  ENCODING_TYPE = "JP2"
  INTERCHANGE_FORMAT = BINARY
  UNCOMPRESSED_FILE_NAME = "H1408_0000_IR3.IMG"
  REQUIRED_STORAGE_BYTES = "281231128"
  ^DESCRIPTION = "JP2INFO.TXT"
END_OBJECT = COMPRESSED_FILE
END
