PDS_VERSION_ID = PDS3
/* FILE DATA ELEMENTS */
RECORD_TYPE = STREAM
/* POINTERS TO DATA OBJECTS */
^COMPRESSED_FILE = "H1408_0000_ND3.JP2"
/* IDENTIFICATION DATA ELEMENTS */
DATA_SET_ID = "MEX-M-HRSC-5-REFDR-MAPPROJECTED-V3.0"
DATA_SET_NAME = "MARS EXPRESS HRSC MAP PROJECTED REFDR V3.0"
DETECTOR_ID = MEX_HRSC_NADIR
EVENT_TYPE = "MARS-REGIONAL-MAPPING-Gl-Pf-Eo"
INSTRUMENT_HOST_ID = MEX
INSTRUMENT_HOST_NAME = "MARS EXPRESS"
INSTRUMENT_ID = HRSC
INSTRUMENT_NAME = "HIGH RESOLUTION STEREO CAMERA"
MISSION_NAME = "MARS EXPRESS"
MISSION_PHASE_NAME = MR_Phase_4
PROCESSING_LEVEL_ID = 3
PRODUCT_CREATION_TIME = 2016-03-05T14:51:22.000Z
PRODUCT_ID = "H1408_0000_ND3.JP2"
RELEASE_ID = 0019
REVISION_ID = 0000
/* QUALITY DATA ELEMENTS */
DATA_QUALITY_ID = 1
DATA_QUALITY_DESC = "Data calculated based on original SPICE kernels"
/* TIME DATA ELEMENTS */
SPACECRAFT_CLOCK_START_COUNT = "1/0057023941.57290"
SPACECRAFT_CLOCK_STOP_COUNT = "1/0057024390.51930"
START_TIME = 2005-02-20T23:59:59.868Z
STOP_TIME = 2005-02-21T00:09:51.102Z
/* ORBITAL DATA ELEMENTS */
ASCENDING_NODE_LONGITUDE = 199.01
MAXIMUM_RESOLUTION = 13
FOOTPRINT_POINT_LATITUDE = (84.647,84.9208,84.5319,83.7451,82.9592 ,81.784,80.9985,80.2302,79.0736,78.3184 ,77.56,76.8081,76.0684,75.3267,74.216, 73.4942,72.7711,72.0468,71.3216,70.5954 ,69.5143,68.8107,68.1035,67.3991, 66.6944,65.6372,64.9323,64.2275,63.5228 ,62.4417,61.7135,60.9859,60.2588, 59.5324,58.8067,58.0819,57.3581,56.6352 ,55.9135,55.1929,54.4737,53.7557, 53.0392,51.9575,50.8073,50.0975,49.3895 ,48.3051,47.2513,46.8894,46.8686, 46.8506,47.55,48.2514,49.3332,50.0395, 50.7475,51.8947,52.9736,53.6882,54.4041 ,55.1213,55.8397,56.5592,57.2797, 58.0011,58.7233,59.4463,60.1698,60.8939 ,61.6184,62.3432,63.4191,64.12,64.8208, 65.5214,66.5717,67.2713,67.9703,68.6717 ,69.3691,70.4395,71.1578,71.8745, 72.5894,73.3023,74.013,75.1041,75.831, 76.5541,77.2872,78.024,78.7549,79.867, 80.5995,81.3417,82.4354,83.1512,83.8501 ,84.647)
FOOTPRINT_POINT_LONGITUDE = (171.701,177.518,179.328,182.244, 184.471,186.97,188.263,189.317,190.619, 191.321,191.936,192.477,192.948,193.369 ,193.924,194.242,194.532,194.797, 195.041,195.268,195.573,195.752,195.921 ,196.077,196.223,196.425,196.55,196.666 ,196.776,196.933,197.031,197.123,197.21 ,197.292,197.37,197.444,197.513,197.579 ,197.642,197.702,197.759,197.812, 197.864,197.937,198.01,198.051,198.092, 198.15,198.203,197.739,196.77,196.131, 196.098,196.062,196.001,195.957,195.909 ,195.824,195.735,195.671,195.601, 195.527,195.448,195.363,195.271,195.174 ,195.069,194.957,194.838,194.709, 194.572,194.425,194.187,194.019,193.838 ,193.644,193.327,193.095,192.846, 192.577,192.288,191.797,191.431,191.033 ,190.599,190.124,189.604,188.697, 188.007,187.238,186.36,185.358,184.222, 182.144,180.475,178.46,174.66,171.391, 167.289,171.701)
ORBIT_NUMBER = 1408
ORBITAL_ECCENTRICITY = 0.567
ORBITAL_INCLINATION = 86.61
ORBITAL_SEMIMAJOR_AXIS = 8543.62
PERIAPSIS_ALTITUDE = 322.16
PERIAPSIS_ARGUMENT_ANGLE = 112.75
PERIAPSIS_TIME = 2005-02-21T00:04:40.000Z
SPACECRAFT_ORIENTATION = (0.0,1.0,0.0)
^MEX_ORIENTATION_DESC = "MEX_ORIENTATION_DESC.TXT"
SPACECRAFT_POINTING_MODE = ACROSSTRACK
^MEX_POINTING_DESC = "MEX_POINTING_DESC.TXT"
RIGHT_ASCENSION = -1e+32
DECLINATION = -1e+32
OFFSET_ANGLE = 0.5
SPACECRAFT_SOLAR_DISTANCE = 2.25029e+08
TARGET_NAME = MARS
/* CAMERA DATA ELEMENTS */
DETECTOR_TEMPERATURE = 17.9627
FOCAL_PLANE_TEMPERATURE = 8.3794
INST_CMPRS_NAME = "DISCRETE COSINE TRANSFORMATION (DCT)"
INST_CMPRS_RATIO = 8.63089
INST_CMPRS_QUALITY = 0
INST_CMPRS_QUANTZ_TBL_ID = 0
INSTRUMENT_TEMPERATURE = 11.234
LENS_TEMPERATURE = 8.7872
MACROPIXEL_SIZE = 1
MISSING_FRAMES = 942
PIXEL_SUBSAMPLING_FLAG = N
SIGNAL_CHAIN_ID = 0
/* RADIOMETRIC DATA ELEMENTS */
BANDWIDTH = 177.0
CENTER_FILTER_WAVELENGTH = 677.5
RADIANCE_OFFSET = 1.62801
RADIANCE_SCALING_FACTOR = 0.0293208
REFLECTANCE_SCALING_FACTOR = 0.000788752
MEX:REFLECTANCE_OFFSET = 0.0437948
/* IMAGE OBJECT DEFINITIONS */
OBJECT = IMAGE
  INTERCHANGE_FORMAT = BINARY
  LINES = 180369
  LINE_SAMPLES = 24941
  SAMPLE_TYPE = UNSIGNED_INTEGER
  SAMPLE_BITS = 8
  BANDS = 1
  BAND_STORAGE_TYPE = BAND_SEQUENTIAL
  MAXIMUM = 162
  MEAN = 74.1804
  MINIMUM = 22
  STANDARD_DEVIATION = 25.349
END_OBJECT = IMAGE
/* MAP OBJECT DEFINITIONS */
OBJECT = IMAGE_MAP_PROJECTION
  ^DATA_SET_MAP_PROJECTION_CATALOG= "DSMAP.CAT"
  A_AXIS_RADIUS = 3396.0
  B_AXIS_RADIUS = 3396.0
  C_AXIS_RADIUS = 3396.0
  CENTER_LATITUDE = 0.0
  CENTER_LONGITUDE = 195.0
  COORDINATE_SYSTEM_NAME = PLANETOGRAPHIC
  COORDINATE_SYSTEM_TYPE = "BODY-FIXED ROTATING"
  EASTERNMOST_LONGITUDE = 198.203
  FIRST_STANDARD_PARALLEL = "N/A"
  LINE_FIRST_PIXEL = 1
  LINE_LAST_PIXEL = 180369
  LINE_PROJECTION_OFFSET = 402530.0
  MAP_PROJECTION_ROTATION = 0.0
  MAP_PROJECTION_TYPE = SINUSOIDAL
  MAP_RESOLUTION = 4741.71043093333
  MAP_SCALE = 0.0125
  MAXIMUM_LATITUDE = 84.9208
  MINIMUM_LATITUDE = 46.8506
  POSITIVE_LONGITUDE_DIRECTION = EAST
  REFERENCE_LATITUDE = "N/A"
  REFERENCE_LONGITUDE = "N/A"
  SAMPLE_FIRST_PIXEL = 1
  SAMPLE_LAST_PIXEL = 24941
  SAMPLE_PROJECTION_OFFSET = 14432.0
  SECOND_STANDARD_PARALLEL = "N/A"
  WESTERNMOST_LONGITUDE = 167.289
END_OBJECT = IMAGE_MAP_PROJECTION
/* The JPEG2000 image data file associated with this label. */
OBJECT = COMPRESSED_FILE
  FILE_NAME = "H1408_0000_ND3.JP2"
  RECORD_TYPE = UNDEFINED
  FILE_RECORDS = UNK
  ENCODING_TYPE = "JP2"
  INTERCHANGE_FORMAT = BINARY
  UNCOMPRESSED_FILE_NAME = "H1408_0000_ND3.IMG"
  REQUIRED_STORAGE_BYTES = "4498658052"
  ^DESCRIPTION = "JP2INFO.TXT"
END_OBJECT = COMPRESSED_FILE
END
