PDS_VERSION_ID = PDS3
/* FILE DATA ELEMENTS */
RECORD_TYPE = STREAM
/* POINTERS TO DATA OBJECTS */
^COMPRESSED_FILE = "H1408_0005_SR3.JP2"
/* IDENTIFICATION DATA ELEMENTS */
DATA_SET_ID = "MEX-M-HRSC-5-REFDR-MAPPROJECTED-V3.0"
DATA_SET_NAME = "MARS EXPRESS HRSC MAP PROJECTED REFDR V3.0"
DETECTOR_ID = MEX_HRSC_SRC
EVENT_TYPE = "MARS-REGIONAL-MAPPING-Gl-Pf-Eo"
INSTRUMENT_HOST_ID = MEX
INSTRUMENT_HOST_NAME = "MARS EXPRESS"
INSTRUMENT_ID = HRSC
INSTRUMENT_NAME = "HIGH RESOLUTION STEREO CAMERA"
MISSION_NAME = "MARS EXPRESS"
MISSION_PHASE_NAME = MR_Phase_4
PROCESSING_LEVEL_ID = 3
PRODUCT_CREATION_TIME = 2016-03-05T14:51:22.000Z
PRODUCT_ID = "H1408_0005_SR3.JP2"
RELEASE_ID = 0019
REVISION_ID = 0000
/* QUALITY DATA ELEMENTS */
DATA_QUALITY_ID = 1
DATA_QUALITY_DESC = "Data calculated based on original SPICE kernels"
/* TIME DATA ELEMENTS */
SPACECRAFT_CLOCK_START_COUNT = "1/0057023941.57290"
SPACECRAFT_CLOCK_STOP_COUNT = "1/0057024390.51930"
IMAGE_TIME = 2005-02-21T00:03:39.003Z
START_TIME = 2005-02-21T00:03:39.001Z
STOP_TIME = 2005-02-21T00:03:39.006Z
/* ORBITAL DATA ELEMENTS */
ASCENDING_NODE_LONGITUDE = 199.01
MAXIMUM_RESOLUTION = 3.023
FOOTPRINT_POINT_LATITUDE = (71.0306,71.0278,71.0258,71.0231, 71.0207,71.018,71.0163,71.0144,71.0126, 71.0111,71.0091,71.006,71.0034,71.0018, 70.9993,70.9977,70.9958,70.9941,70.9919 ,70.9899,70.9874,70.9852,70.9837, 70.9814,70.9805,70.9802,70.9799,70.9796 ,70.9794,70.9791,70.9788,70.9784, 70.9781,70.9778,70.9776,70.9773,70.977, 70.9767,70.9764,70.9762,70.9759,70.9756 ,70.9753,70.975,70.9748,70.9745,70.9742 ,70.9739,70.9736,70.9749,70.9769, 70.9783,70.9805,70.983,70.9846,70.9867, 70.9899,70.9915,70.9937,70.9953,70.9976 ,70.999,71.0019,71.0037,71.0064,71.0079 ,71.0104,71.0127,71.0141,71.0158, 71.0184,71.0201,71.0221,71.0248,71.0251 ,71.0254,71.0256,71.0259,71.0262, 71.0265,71.0268,71.0271,71.0273,71.0276 ,71.0279,71.0282,71.0285,71.0287,71.029 ,71.0293,71.0296,71.0299,71.0301, 71.0304,71.0307,71.031,71.0313,71.0315, 71.0318,71.0306)
FOOTPRINT_POINT_LONGITUDE = (193.37,193.371,193.372,193.373,193.374 ,193.376,193.376,193.377,193.378, 193.378,193.379,193.381,193.382,193.382 ,193.383,193.384,193.385,193.385, 193.386,193.387,193.388,193.389,193.39, 193.391,193.386,193.38,193.374,193.367, 193.361,193.355,193.348,193.339,193.333 ,193.326,193.32,193.314,193.308,193.301 ,193.295,193.289,193.282,193.276,193.27 ,193.264,193.257,193.251,193.245, 193.238,193.232,193.231,193.23,193.229, 193.228,193.227,193.227,193.226,193.224 ,193.224,193.223,193.222,193.221, 193.221,193.219,193.219,193.217,193.217 ,193.216,193.215,193.214,193.213, 193.212,193.212,193.211,193.21,193.216, 193.222,193.229,193.235,193.241,193.247 ,193.254,193.26,193.266,193.273,193.279 ,193.285,193.291,193.298,193.304,193.31 ,193.317,193.323,193.329,193.336, 193.342,193.348,193.355,193.361,193.367 ,193.37)
ORBIT_NUMBER = 1408
ORBITAL_ECCENTRICITY = 0.567
ORBITAL_INCLINATION = 86.61
ORBITAL_SEMIMAJOR_AXIS = 8543.62
PERIAPSIS_ALTITUDE = 322.16
PERIAPSIS_ARGUMENT_ANGLE = 112.75
PERIAPSIS_TIME = 2005-02-21T00:04:40.000Z
SPACECRAFT_ORIENTATION = (0.0,1.0,0.0)
^MEX_ORIENTATION_DESC = "MEX_ORIENTATION_DESC.TXT"
SPACECRAFT_POINTING_MODE = ACROSSTRACK
^MEX_POINTING_DESC = "MEX_POINTING_DESC.TXT"
RIGHT_ASCENSION = -1e+32
DECLINATION = -1e+32
OFFSET_ANGLE = 0.5
SPACECRAFT_SOLAR_DISTANCE = 2.25029e+08
TARGET_NAME = MARS
/* CAMERA DATA ELEMENTS */
BUFFER_MODE_ID = BUFFER_8
EXPOSURE_DURATION = 5.04
INST_CMPRS_NAME = NONE
INST_CMPRS_RATIO = 1.0
INST_CMPRS_QUALITY = -2147483648
INST_CMPRS_QUANTZ_TBL_ID = -2147483648
INSTRUMENT_TEMPERATURE = 11.2121
MISSING_FRAMES = 0
START_BIT = 0
/* RADIOMETRIC DATA ELEMENTS */
BANDWIDTH = 250.0
CENTER_FILTER_WAVELENGTH = 600.0
RADIANCE_OFFSET = -9.99e+31
RADIANCE_SCALING_FACTOR = -9.99e+31
REFLECTANCE_SCALING_FACTOR = -9.99e+31
MEX:REFLECTANCE_OFFSET = -9.99e+31
/* IMAGE OBJECT DEFINITIONS */
OBJECT = IMAGE
  INTERCHANGE_FORMAT = BINARY
  LINES = 1496
  LINE_SAMPLES = 1521
  SAMPLE_TYPE = UNSIGNED_INTEGER
  SAMPLE_BITS = 8
  BANDS = 1
  BAND_STORAGE_TYPE = BAND_SEQUENTIAL
  MAXIMUM = 4377
  MEAN = 3866.88
  MINIMUM = 3074
  STANDARD_DEVIATION = 137.238
END_OBJECT = IMAGE
/* MAP OBJECT DEFINITIONS */
OBJECT = IMAGE_MAP_PROJECTION
  ^DATA_SET_MAP_PROJECTION_CATALOG= "DSMAP.CAT"
  A_AXIS_RADIUS = 3396.19
  B_AXIS_RADIUS = 3396.19
  C_AXIS_RADIUS = 3396.19
  CENTER_LATITUDE = 0.0
  CENTER_LONGITUDE = 193.0
  COORDINATE_SYSTEM_NAME = PLANETOGRAPHIC
  COORDINATE_SYSTEM_TYPE = "BODY-FIXED ROTATING"
  EASTERNMOST_LONGITUDE = 193.391
  FIRST_STANDARD_PARALLEL = "N/A"
  LINE_FIRST_PIXEL = 1
  LINE_LAST_PIXEL = 1496
  LINE_PROJECTION_OFFSET = 1680564.0
  MAP_PROJECTION_ROTATION = 0.0
  MAP_PROJECTION_TYPE = SINUSOIDAL
  MAP_RESOLUTION = 23709.8786048756
  MAP_SCALE = 0.0025
  MAXIMUM_LATITUDE = 71.0318
  MINIMUM_LATITUDE = 70.9736
  POSITIVE_LONGITUDE_DIRECTION = EAST
  REFERENCE_LATITUDE = "N/A"
  REFERENCE_LONGITUDE = "N/A"
  SAMPLE_FIRST_PIXEL = 1
  SAMPLE_LAST_PIXEL = 1521
  SAMPLE_PROJECTION_OFFSET = -2292.0
  SECOND_STANDARD_PARALLEL = "N/A"
  WESTERNMOST_LONGITUDE = 193.21
END_OBJECT = IMAGE_MAP_PROJECTION
/* The JPEG2000 image data file associated with this label. */
OBJECT = COMPRESSED_FILE
  FILE_NAME = "H1408_0005_SR3.JP2"
  RECORD_TYPE = UNDEFINED
  FILE_RECORDS = UNK
  ENCODING_TYPE = "JP2"
  INTERCHANGE_FORMAT = BINARY
  UNCOMPRESSED_FILE_NAME = "H1408_0005_SR3.IMG"
  REQUIRED_STORAGE_BYTES = "2295189"
  ^DESCRIPTION = "JP2INFO.TXT"
END_OBJECT = COMPRESSED_FILE
END
