PDS_VERSION_ID = PDS3
/* FILE DATA ELEMENTS */
RECORD_TYPE = STREAM
/* POINTERS TO DATA OBJECTS */
^COMPRESSED_FILE = "H1416_0000_S23.JP2"
/* IDENTIFICATION DATA ELEMENTS */
DATA_SET_ID = "MEX-M-HRSC-5-REFDR-MAPPROJECTED-V3.0"
DATA_SET_NAME = "MARS EXPRESS HRSC MAP PROJECTED REFDR V3.0"
DETECTOR_ID = MEX_HRSC_S2
EVENT_TYPE = "MARS-REGIONAL-MAPPING-Vo-Te-Fl"
INSTRUMENT_HOST_ID = MEX
INSTRUMENT_HOST_NAME = "MARS EXPRESS"
INSTRUMENT_ID = HRSC
INSTRUMENT_NAME = "HIGH RESOLUTION STEREO CAMERA"
MISSION_NAME = "MARS EXPRESS"
MISSION_PHASE_NAME = MR_Phase_4
PROCESSING_LEVEL_ID = 3
PRODUCT_CREATION_TIME = 2016-03-05T14:51:22.000Z
PRODUCT_ID = "H1416_0000_S23.JP2"
RELEASE_ID = 0019
REVISION_ID = 0000
/* QUALITY DATA ELEMENTS */
DATA_QUALITY_ID = 1
DATA_QUALITY_DESC = "Data calculated based on original SPICE kernels"
/* TIME DATA ELEMENTS */
SPACECRAFT_CLOCK_START_COUNT = "1/0057217678.57160"
SPACECRAFT_CLOCK_STOP_COUNT = "1/0057218310.08187"
START_TIME = 2005-02-23T05:48:39.285Z
STOP_TIME = 2005-02-23T06:01:25.594Z
/* ORBITAL DATA ELEMENTS */
ASCENDING_NODE_LONGITUDE = 198.85
MAXIMUM_RESOLUTION = 27.7
FOOTPRINT_POINT_LATITUDE = (76.7546,75.7828,74.8046,73.3391, 72.3793,71.415,70.4464,68.9962,68.0511, 67.1029,66.1521,65.199,64.2426,63.2847, 62.32,61.3256,59.797,58.7992,57.7971, 56.7645,55.7312,54.6979,53.6646,52.6319 ,51.5982,50.5663,49.5352,48.5049, 47.4758,46.4484,45.4231,44.3997,43.379, 42.3599,41.3428,40.3291,39.3185,38.3108 ,37.3054,36.3041,35.3061,34.3119, 33.3206,32.3338,31.3513,30.3722,29.3975 ,28.4272,27.4605,26.9702,27.4478, 28.4111,29.3785,30.3503,31.3269,32.3073 ,33.2906,34.2791,35.2702,36.2655, 37.2645,38.2668,39.2725,40.2807,41.2924 ,42.3062,43.3226,44.3421,45.363,46.3856 ,47.4102,48.4365,49.4645,50.4942, 51.5235,52.5537,53.5833,54.6148,55.6442 ,56.6738,57.703,58.7024,59.6963,61.2184 ,62.2075,63.168,64.1204,65.0703,66.0176 ,66.9611,67.9017,68.8386,70.2727, 71.2295,72.1813,73.1265,74.5653,75.5229 ,76.4713,76.7546)
FOOTPRINT_POINT_LONGITUDE = (124.86,125.537,126.128,126.879,127.299 ,127.676,128.015,128.461,128.718, 128.953,129.169,129.366,129.55,129.719, 129.875,130.025,130.233,130.356,130.471 ,130.581,130.684,130.779,130.868, 130.951,131.029,131.102,131.169,131.233 ,131.293,131.349,131.401,131.45,131.496 ,131.539,131.58,131.618,131.654,131.687 ,131.719,131.749,131.777,131.803, 131.828,131.851,131.873,131.894,131.913 ,131.931,131.949,130.683,129.49,129.509 ,129.525,129.539,129.55,129.558,129.563 ,129.565,129.564,129.559,129.551, 129.539,129.524,129.504,129.481,129.452 ,129.419,129.381,129.337,129.288, 129.233,129.171,129.102,129.025,128.941 ,128.848,128.745,128.633,128.509, 128.373,128.225,128.067,127.895,127.6, 127.385,127.157,126.908,126.637,126.34, 126.014,125.657,125.263,124.575,124.048 ,123.46,122.802,121.625,120.697,119.635 ,124.86)
ORBIT_NUMBER = 1416
ORBITAL_ECCENTRICITY = 0.567
ORBITAL_INCLINATION = 86.6
ORBITAL_SEMIMAJOR_AXIS = 8545.83
PERIAPSIS_ALTITUDE = 323.14
PERIAPSIS_ARGUMENT_ANGLE = 111.32
PERIAPSIS_TIME = 2005-02-23T05:51:18.000Z
SPACECRAFT_ORIENTATION = (0.0,1.0,0.0)
^MEX_ORIENTATION_DESC = "MEX_ORIENTATION_DESC.TXT"
SPACECRAFT_POINTING_MODE = ACROSSTRACK
^MEX_POINTING_DESC = "MEX_POINTING_DESC.TXT"
RIGHT_ASCENSION = -1e+32
DECLINATION = -1e+32
OFFSET_ANGLE = 0.26
SPACECRAFT_SOLAR_DISTANCE = 2.24591e+08
TARGET_NAME = MARS
/* CAMERA DATA ELEMENTS */
DETECTOR_TEMPERATURE = 18.5744
FOCAL_PLANE_TEMPERATURE = 8.7872
INST_CMPRS_NAME = "DISCRETE COSINE TRANSFORMATION (DCT)"
INST_CMPRS_RATIO = 13.2908
INST_CMPRS_QUALITY = 0
INST_CMPRS_QUANTZ_TBL_ID = 0
INSTRUMENT_TEMPERATURE = 11.234
LENS_TEMPERATURE = 9.195
MACROPIXEL_SIZE = 2
MISSING_FRAMES = 10
PIXEL_SUBSAMPLING_FLAG = N
SIGNAL_CHAIN_ID = 1
/* RADIOMETRIC DATA ELEMENTS */
BANDWIDTH = 178.0
CENTER_FILTER_WAVELENGTH = 679.0
RADIANCE_OFFSET = 2.92221
RADIANCE_SCALING_FACTOR = 0.033233
REFLECTANCE_SCALING_FACTOR = 0.000887741
MEX:REFLECTANCE_OFFSET = 0.07806
/* IMAGE OBJECT DEFINITIONS */
OBJECT = IMAGE
  INTERCHANGE_FORMAT = BINARY
  LINES = 122781
  LINE_SAMPLES = 10623
  SAMPLE_TYPE = UNSIGNED_INTEGER
  SAMPLE_BITS = 8
  BANDS = 1
  BAND_STORAGE_TYPE = BAND_SEQUENTIAL
  MAXIMUM = 129
  MEAN = 71.0226
  MINIMUM = 27
  STANDARD_DEVIATION = 17.9364
END_OBJECT = IMAGE
/* MAP OBJECT DEFINITIONS */
OBJECT = IMAGE_MAP_PROJECTION
  ^DATA_SET_MAP_PROJECTION_CATALOG= "DSMAP.CAT"
  A_AXIS_RADIUS = 3396.0
  B_AXIS_RADIUS = 3396.0
  C_AXIS_RADIUS = 3396.0
  CENTER_LATITUDE = 0.0
  CENTER_LONGITUDE = 130.0
  COORDINATE_SYSTEM_NAME = PLANETOGRAPHIC
  COORDINATE_SYSTEM_TYPE = "BODY-FIXED ROTATING"
  EASTERNMOST_LONGITUDE = 131.949
  FIRST_STANDARD_PARALLEL = "N/A"
  LINE_FIRST_PIXEL = 1
  LINE_LAST_PIXEL = 122781
  LINE_PROJECTION_OFFSET = 186765.25
  MAP_PROJECTION_ROTATION = 0.0
  MAP_PROJECTION_TYPE = SINUSOIDAL
  MAP_RESOLUTION = 2370.85521546667
  MAP_SCALE = 0.025
  MAXIMUM_LATITUDE = 76.7546
  MINIMUM_LATITUDE = 26.9702
  POSITIVE_LONGITUDE_DIRECTION = EAST
  REFERENCE_LATITUDE = "N/A"
  REFERENCE_LONGITUDE = "N/A"
  SAMPLE_FIRST_PIXEL = 1
  SAMPLE_LAST_PIXEL = 10623
  SAMPLE_PROJECTION_OFFSET = 6206.25
  SECOND_STANDARD_PARALLEL = "N/A"
  WESTERNMOST_LONGITUDE = 119.635
END_OBJECT = IMAGE_MAP_PROJECTION
/* The JPEG2000 image data file associated with this label. */
OBJECT = COMPRESSED_FILE
  FILE_NAME = "H1416_0000_S23.JP2"
  RECORD_TYPE = UNDEFINED
  FILE_RECORDS = UNK
  ENCODING_TYPE = "JP2"
  INTERCHANGE_FORMAT = BINARY
  UNCOMPRESSED_FILE_NAME = "H1416_0000_S23.IMG"
  REQUIRED_STORAGE_BYTES = "1304334432"
  ^DESCRIPTION = "JP2INFO.TXT"
END_OBJECT = COMPRESSED_FILE
END
