PDS_VERSION_ID = PDS3
/* FILE DATA ELEMENTS */
RECORD_TYPE = STREAM
/* POINTERS TO DATA OBJECTS */
^COMPRESSED_FILE = "H1420_0007_SR3.JP2"
/* IDENTIFICATION DATA ELEMENTS */
DATA_SET_ID = "MEX-M-HRSC-5-REFDR-MAPPROJECTED-V3.0"
DATA_SET_NAME = "MARS EXPRESS HRSC MAP PROJECTED REFDR V3.0"
DETECTOR_ID = MEX_HRSC_SRC
EVENT_TYPE = "MARS-REGIONAL-MAPPING-Vo-Te-Eo"
INSTRUMENT_HOST_ID = MEX
INSTRUMENT_HOST_NAME = "MARS EXPRESS"
INSTRUMENT_ID = HRSC
INSTRUMENT_NAME = "HIGH RESOLUTION STEREO CAMERA"
MISSION_NAME = "MARS EXPRESS"
MISSION_PHASE_NAME = MR_Phase_4
PROCESSING_LEVEL_ID = 3
PRODUCT_CREATION_TIME = 2016-03-05T14:51:22.000Z
PRODUCT_ID = "H1420_0007_SR3.JP2"
RELEASE_ID = 0019
REVISION_ID = 0000
/* QUALITY DATA ELEMENTS */
DATA_QUALITY_ID = 1
DATA_QUALITY_DESC = "Data calculated based on original SPICE kernels"
/* TIME DATA ELEMENTS */
SPACECRAFT_CLOCK_START_COUNT = "1/0057314344.57956"
SPACECRAFT_CLOCK_STOP_COUNT = "1/0057314791.53181"
IMAGE_TIME = 2005-02-24T08:41:30.073Z
START_TIME = 2005-02-24T08:41:30.071Z
STOP_TIME = 2005-02-24T08:41:30.076Z
/* ORBITAL DATA ELEMENTS */
ASCENDING_NODE_LONGITUDE = 198.76
MAXIMUM_RESOLUTION = 3.28
FOOTPRINT_POINT_LATITUDE = (81.3243,81.3228,81.3202,81.3177, 81.3161,81.3136,81.3111,81.3097,81.3071 ,81.3046,81.3028,81.3001,81.298,81.2964 ,81.2931,81.2901,81.2879,81.2865, 81.2841,81.2826,81.2797,81.2776,81.2758 ,81.2737,81.2729,81.2721,81.2713, 81.2706,81.2698,81.269,81.2682,81.2673, 81.2665,81.2657,81.2649,81.2641,81.2633 ,81.2625,81.2617,81.2609,81.2601, 81.2593,81.2585,81.2577,81.2569,81.2557 ,81.2549,81.2541,81.2563,81.2587, 81.2601,81.2621,81.2635,81.2655,81.2677 ,81.2705,81.2728,81.2748,81.2776, 81.2799,81.2831,81.2847,81.2861,81.2882 ,81.2899,81.2913,81.2933,81.2953,81.297 ,81.2994,81.3011,81.3025,81.3043,81.306 ,81.3068,81.3076,81.3084,81.3093, 81.3101,81.3109,81.3117,81.3125,81.3133 ,81.3141,81.3149,81.3157,81.3166, 81.3172,81.318,81.3188,81.3196,81.3204, 81.3212,81.322,81.3228,81.3236,81.3244, 81.3252,81.3264,81.3243)
FOOTPRINT_POINT_LONGITUDE = (81.1519,81.1557,81.1624,81.1687, 81.1728,81.1793,81.1855,81.1892,81.1959 ,81.2022,81.2067,81.2137,81.2188, 81.2229,81.2314,81.2389,81.2444,81.248, 81.2542,81.258,81.2652,81.2706,81.2752, 81.272,81.2583,81.2446,81.2309,81.2171, 81.2034,81.1897,81.176,81.1623,81.1486, 81.1349,81.1212,81.1075,81.0938,81.0801 ,81.0664,81.0527,81.039,81.0254,81.0117 ,80.998,80.9843,80.9638,80.9501,80.9365 ,80.9244,80.9184,80.9146,80.9097,80.906 ,80.9009,80.8953,80.888,80.8821,80.8769 ,80.8697,80.8638,80.8555,80.8515, 80.8477,80.8425,80.8381,80.8344,80.8291 ,80.824,80.8197,80.8134,80.809,80.8054, 80.8006,80.7967,80.8104,80.8241,80.8379 ,80.8516,80.8653,80.8791,80.8928, 80.9066,80.9203,80.9341,80.9478,80.9616 ,80.9754,80.9857,80.9995,81.0133,81.027 ,81.0408,81.0546,81.0684,81.0822, 81.0959,81.1097,81.1235,81.1442, 81.1519)
ORBIT_NUMBER = 1420
ORBITAL_ECCENTRICITY = 0.567
ORBITAL_INCLINATION = 86.61
ORBITAL_SEMIMAJOR_AXIS = 8545.6
PERIAPSIS_ALTITUDE = 322.55
PERIAPSIS_ARGUMENT_ANGLE = 110.59
PERIAPSIS_TIME = 2005-02-24T08:44:41.000Z
SPACECRAFT_ORIENTATION = (0.0,1.0,0.0)
^MEX_ORIENTATION_DESC = "MEX_ORIENTATION_DESC.TXT"
SPACECRAFT_POINTING_MODE = ACROSSTRACK
^MEX_POINTING_DESC = "MEX_POINTING_DESC.TXT"
RIGHT_ASCENSION = -1e+32
DECLINATION = -1e+32
OFFSET_ANGLE = 0.18
SPACECRAFT_SOLAR_DISTANCE = 2.24372e+08
TARGET_NAME = MARS
/* CAMERA DATA ELEMENTS */
BUFFER_MODE_ID = BUFFER_8
EXPOSURE_DURATION = 5.04
INST_CMPRS_NAME = NONE
INST_CMPRS_RATIO = 1.0
INST_CMPRS_QUALITY = -2147483648
INST_CMPRS_QUANTZ_TBL_ID = -2147483648
INSTRUMENT_TEMPERATURE = 9.26626
MISSING_FRAMES = 0
START_BIT = 0
/* RADIOMETRIC DATA ELEMENTS */
BANDWIDTH = 250.0
CENTER_FILTER_WAVELENGTH = 600.0
RADIANCE_OFFSET = -9.99e+31
RADIANCE_SCALING_FACTOR = -9.99e+31
REFLECTANCE_SCALING_FACTOR = -9.99e+31
MEX:REFLECTANCE_OFFSET = -9.99e+31
/* IMAGE OBJECT DEFINITIONS */
OBJECT = IMAGE
  INTERCHANGE_FORMAT = BINARY
  LINES = 1859
  LINE_SAMPLES = 1868
  SAMPLE_TYPE = UNSIGNED_INTEGER
  SAMPLE_BITS = 8
  BANDS = 1
  BAND_STORAGE_TYPE = BAND_SEQUENTIAL
  MAXIMUM = 3046
  MEAN = 2703.85
  MINIMUM = 2287
  STANDARD_DEVIATION = 73.2233
END_OBJECT = IMAGE
/* MAP OBJECT DEFINITIONS */
OBJECT = IMAGE_MAP_PROJECTION
  ^DATA_SET_MAP_PROJECTION_CATALOG= "DSMAP.CAT"
  A_AXIS_RADIUS = 3396.19
  B_AXIS_RADIUS = 3396.19
  C_AXIS_RADIUS = 3396.19
  CENTER_LATITUDE = 0.0
  CENTER_LONGITUDE = 81.0
  COORDINATE_SYSTEM_NAME = PLANETOGRAPHIC
  COORDINATE_SYSTEM_TYPE = "BODY-FIXED ROTATING"
  EASTERNMOST_LONGITUDE = 81.2752
  FIRST_STANDARD_PARALLEL = "N/A"
  LINE_FIRST_PIXEL = 1
  LINE_LAST_PIXEL = 1859
  LINE_PROJECTION_OFFSET = 1923317.0
  MAP_PROJECTION_ROTATION = 0.0
  MAP_PROJECTION_TYPE = SINUSOIDAL
  MAP_RESOLUTION = 23709.8786048756
  MAP_SCALE = 0.0025
  MAXIMUM_LATITUDE = 81.32640000000001
  MINIMUM_LATITUDE = 81.25409999999999
  POSITIVE_LONGITUDE_DIRECTION = EAST
  REFERENCE_LATITUDE = "N/A"
  REFERENCE_LONGITUDE = "N/A"
  SAMPLE_FIRST_PIXEL = 1
  SAMPLE_LAST_PIXEL = 1868
  SAMPLE_PROJECTION_OFFSET = 540.0
  SECOND_STANDARD_PARALLEL = "N/A"
  WESTERNMOST_LONGITUDE = 80.7967
END_OBJECT = IMAGE_MAP_PROJECTION
/* The JPEG2000 image data file associated with this label. */
OBJECT = COMPRESSED_FILE
  FILE_NAME = "H1420_0007_SR3.JP2"
  RECORD_TYPE = UNDEFINED
  FILE_RECORDS = UNK
  ENCODING_TYPE = "JP2"
  INTERCHANGE_FORMAT = BINARY
  UNCOMPRESSED_FILE_NAME = "H1420_0007_SR3.IMG"
  REQUIRED_STORAGE_BYTES = "3491292"
  ^DESCRIPTION = "JP2INFO.TXT"
END_OBJECT = COMPRESSED_FILE
END
