PDS_VERSION_ID = PDS3
/* FILE DATA ELEMENTS */
RECORD_TYPE = STREAM
/* POINTERS TO DATA OBJECTS */
^COMPRESSED_FILE = "H1422_0000_ND3.JP2"
/* IDENTIFICATION DATA ELEMENTS */
DATA_SET_ID = "MEX-M-HRSC-5-REFDR-MAPPROJECTED-V3.0"
DATA_SET_NAME = "MARS EXPRESS HRSC MAP PROJECTED REFDR V3.0"
DETECTOR_ID = MEX_HRSC_NADIR
EVENT_TYPE = "MARS-REGIONAL-MAPPING-Vo-Te-Ot"
INSTRUMENT_HOST_ID = MEX
INSTRUMENT_HOST_NAME = "MARS EXPRESS"
INSTRUMENT_ID = HRSC
INSTRUMENT_NAME = "HIGH RESOLUTION STEREO CAMERA"
MISSION_NAME = "MARS EXPRESS"
MISSION_PHASE_NAME = MR_Phase_4
PROCESSING_LEVEL_ID = 3
PRODUCT_CREATION_TIME = 2016-03-05T14:51:22.000Z
PRODUCT_ID = "H1422_0000_ND3.JP2"
RELEASE_ID = 0019
REVISION_ID = 0000
/* QUALITY DATA ELEMENTS */
DATA_QUALITY_ID = 1
DATA_QUALITY_DESC = "Data calculated based on original SPICE kernels"
/* TIME DATA ELEMENTS */
SPACECRAFT_CLOCK_START_COUNT = "1/0057363046.57168"
SPACECRAFT_CLOCK_STOP_COUNT = "1/0057363518.02836"
START_TIME = 2005-02-24T22:11:24.345Z
STOP_TIME = 2005-02-24T22:21:32.335Z
/* ORBITAL DATA ELEMENTS */
ASCENDING_NODE_LONGITUDE = 198.72
MAXIMUM_RESOLUTION = 13.2
FOOTPRINT_POINT_LATITUDE = (69.4224,69.4879,68.7945,68.101,67.4076 ,66.7144,66.0214,65.3287,64.6192, 63.9043,63.19,62.4764,61.7635,61.0514, 59.9566,59.224,58.4927,57.7502,56.9987, 56.2487,55.0995,54.3312,53.5456,52.7588 ,51.9557,51.1513,50.3494,49.5501, 48.7537,47.9601,47.1694,46.3817,45.5971 ,44.8157,44.0376,43.2629,42.4915, 41.7237,40.9593,40.195,39.4379,38.6846, 37.9351,37.1895,36.4477,35.7099,34.9761 ,34.2463,33.5205,32.5906,31.5178, 31.5253,31.5277,32.5969,33.5239,34.2473 ,34.9749,35.7066,36.4423,37.182,37.9257 ,38.6732,39.4246,40.1796,40.9421, 41.7046,42.4706,43.2401,44.0131,44.7894 ,45.5691,46.3519,47.1378,47.9267, 48.7186,49.5133,50.3108,51.1109,51.9135 ,52.715,53.5,54.2839,55.0504,56.1969, 56.9449,57.6944,58.435,59.1643,59.8946, 60.9862,61.6959,62.4063,63.1173,63.8288 ,64.5408,65.2474,66.6265,68.0057, 68.6951,69.4224)
FOOTPRINT_POINT_LONGITUDE = (259.114,261.783,261.878,261.967, 262.049,262.125,262.197,262.264,262.328 ,262.388,262.444,262.496,262.545,262.59 ,262.652,262.691,262.728,262.763, 262.796,262.827,262.873,262.901,262.927 ,262.953,262.979,263.002,263.026, 263.048,263.068,263.087,263.105,263.123 ,263.139,263.156,263.171,263.184, 263.197,263.209,263.221,263.232,263.244 ,263.256,263.266,263.275,263.285, 263.294,263.302,263.311,263.319,263.329 ,263.34,262.141,260.743,260.772,260.795 ,260.812,260.827,260.841,260.853, 260.864,260.873,260.88,260.886,260.891, 260.894,260.895,260.895,260.892,260.887 ,260.88,260.869,260.857,260.842,260.825 ,260.804,260.782,260.754,260.723, 260.689,260.652,260.611,260.566,260.519 ,260.439,260.381,260.319,260.251,260.18 ,260.102,259.975,259.884,259.785, 259.679,259.564,259.44,259.308,259.018, 258.681,258.492,259.114)
ORBIT_NUMBER = 1422
ORBITAL_ECCENTRICITY = 0.567
ORBITAL_INCLINATION = 86.6
ORBITAL_SEMIMAJOR_AXIS = 8542.27
PERIAPSIS_ALTITUDE = 323.01
PERIAPSIS_ARGUMENT_ANGLE = 110.23
PERIAPSIS_TIME = 2005-02-24T22:11:22.000Z
SPACECRAFT_ORIENTATION = (0.0,1.0,0.0)
^MEX_ORIENTATION_DESC = "MEX_ORIENTATION_DESC.TXT"
SPACECRAFT_POINTING_MODE = ACROSSTRACK
^MEX_POINTING_DESC = "MEX_POINTING_DESC.TXT"
RIGHT_ASCENSION = -1e+32
DECLINATION = -1e+32
OFFSET_ANGLE = 1.31
SPACECRAFT_SOLAR_DISTANCE = 2.24263e+08
TARGET_NAME = MARS
/* CAMERA DATA ELEMENTS */
DETECTOR_TEMPERATURE = 18.3705
FOCAL_PLANE_TEMPERATURE = 8.3794
INST_CMPRS_NAME = "DISCRETE COSINE TRANSFORMATION (DCT)"
INST_CMPRS_RATIO = 7.67404
INST_CMPRS_QUALITY = 0
INST_CMPRS_QUANTZ_TBL_ID = 0
INSTRUMENT_TEMPERATURE = 11.234
LENS_TEMPERATURE = 8.7872
MACROPIXEL_SIZE = 1
MISSING_FRAMES = 327
PIXEL_SUBSAMPLING_FLAG = N
SIGNAL_CHAIN_ID = 0
/* RADIOMETRIC DATA ELEMENTS */
BANDWIDTH = 177.0
CENTER_FILTER_WAVELENGTH = 677.5
RADIANCE_OFFSET = 3.83189
RADIANCE_SCALING_FACTOR = 0.0385921
REFLECTANCE_SCALING_FACTOR = 0.0010311
MEX:REFLECTANCE_OFFSET = 0.10238
/* IMAGE OBJECT DEFINITIONS */
OBJECT = IMAGE
  INTERCHANGE_FORMAT = BINARY
  LINES = 180089
  LINE_SAMPLES = 12244
  SAMPLE_TYPE = UNSIGNED_INTEGER
  SAMPLE_BITS = 8
  BANDS = 1
  BAND_STORAGE_TYPE = BAND_SEQUENTIAL
  MAXIMUM = 170
  MEAN = 87.3482
  MINIMUM = 35
  STANDARD_DEVIATION = 22.4462
END_OBJECT = IMAGE
/* MAP OBJECT DEFINITIONS */
OBJECT = IMAGE_MAP_PROJECTION
  ^DATA_SET_MAP_PROJECTION_CATALOG= "DSMAP.CAT"
  A_AXIS_RADIUS = 3396.0
  B_AXIS_RADIUS = 3396.0
  C_AXIS_RADIUS = 3396.0
  CENTER_LATITUDE = 0.0
  CENTER_LONGITUDE = 262.0
  COORDINATE_SYSTEM_NAME = PLANETOGRAPHIC
  COORDINATE_SYSTEM_TYPE = "BODY-FIXED ROTATING"
  EASTERNMOST_LONGITUDE = 263.34
  FIRST_STANDARD_PARALLEL = "N/A"
  LINE_FIRST_PIXEL = 1
  LINE_LAST_PIXEL = 180089
  LINE_PROJECTION_OFFSET = 329490.0
  MAP_PROJECTION_ROTATION = 0.0
  MAP_PROJECTION_TYPE = SINUSOIDAL
  MAP_RESOLUTION = 4741.71043093333
  MAP_SCALE = 0.0125
  MAXIMUM_LATITUDE = 69.4879
  MINIMUM_LATITUDE = 31.5178
  POSITIVE_LONGITUDE_DIRECTION = EAST
  REFERENCE_LATITUDE = "N/A"
  REFERENCE_LONGITUDE = "N/A"
  SAMPLE_FIRST_PIXEL = 1
  SAMPLE_LAST_PIXEL = 12244
  SAMPLE_PROJECTION_OFFSET = 6457.0
  SECOND_STANDARD_PARALLEL = "N/A"
  WESTERNMOST_LONGITUDE = 258.492
END_OBJECT = IMAGE_MAP_PROJECTION
/* The JPEG2000 image data file associated with this label. */
OBJECT = COMPRESSED_FILE
  FILE_NAME = "H1422_0000_ND3.JP2"
  RECORD_TYPE = UNDEFINED
  FILE_RECORDS = UNK
  ENCODING_TYPE = "JP2"
  INTERCHANGE_FORMAT = BINARY
  UNCOMPRESSED_FILE_NAME = "H1422_0000_ND3.IMG"
  REQUIRED_STORAGE_BYTES = "2205046448"
  ^DESCRIPTION = "JP2INFO.TXT"
END_OBJECT = COMPRESSED_FILE
END
