PDS_VERSION_ID = PDS3
/* FILE DATA ELEMENTS */
RECORD_TYPE = STREAM
/* POINTERS TO DATA OBJECTS */
^COMPRESSED_FILE = "H1422_0006_SR3.JP2"
/* IDENTIFICATION DATA ELEMENTS */
DATA_SET_ID = "MEX-M-HRSC-5-REFDR-MAPPROJECTED-V3.0"
DATA_SET_NAME = "MARS EXPRESS HRSC MAP PROJECTED REFDR V3.0"
DETECTOR_ID = MEX_HRSC_SRC
EVENT_TYPE = "MARS-REGIONAL-MAPPING-Vo-Te-Ot"
INSTRUMENT_HOST_ID = MEX
INSTRUMENT_HOST_NAME = "MARS EXPRESS"
INSTRUMENT_ID = HRSC
INSTRUMENT_NAME = "HIGH RESOLUTION STEREO CAMERA"
MISSION_NAME = "MARS EXPRESS"
MISSION_PHASE_NAME = MR_Phase_4
PROCESSING_LEVEL_ID = 3
PRODUCT_CREATION_TIME = 2016-03-05T14:51:22.000Z
PRODUCT_ID = "H1422_0006_SR3.JP2"
RELEASE_ID = 0019
REVISION_ID = 0000
/* QUALITY DATA ELEMENTS */
DATA_QUALITY_ID = 1
DATA_QUALITY_DESC = "Data calculated based on original SPICE kernels"
/* TIME DATA ELEMENTS */
SPACECRAFT_CLOCK_START_COUNT = "1/0057363046.57168"
SPACECRAFT_CLOCK_STOP_COUNT = "1/0057363518.02836"
IMAGE_TIME = 2005-02-24T22:11:42.707Z
START_TIME = 2005-02-24T22:11:42.705Z
STOP_TIME = 2005-02-24T22:11:42.710Z
/* ORBITAL DATA ELEMENTS */
ASCENDING_NODE_LONGITUDE = 198.72
MAXIMUM_RESOLUTION = 3.076
FOOTPRINT_POINT_LATITUDE = (68.2937,68.2915,68.2898,68.2858,68.283 ,68.2806,68.2789,68.2765,68.2731,68.271 ,68.2689,68.2674,68.2656,68.264,68.2626 ,68.261,68.2586,68.2569,68.2556,68.2536 ,68.2513,68.2483,68.2469,68.245,68.2423 ,68.2417,68.2416,68.2414,68.2413, 68.2411,68.2409,68.2408,68.2406,68.2404 ,68.2403,68.2401,68.24,68.2398,68.2396, 68.2395,68.2393,68.2392,68.239,68.2388, 68.2387,68.2385,68.2383,68.2382,68.238, 68.2379,68.2393,68.2417,68.2442,68.2457 ,68.2472,68.2497,68.2525,68.2545, 68.2558,68.2584,68.26,68.262,68.2651, 68.2666,68.2681,68.2701,68.2722,68.2739 ,68.2754,68.2785,68.2808,68.2826,68.285 ,68.2868,68.2895,68.2904,68.2906, 68.2907,68.2909,68.2911,68.2912,68.2914 ,68.2916,68.2917,68.2919,68.2921, 68.2922,68.2924,68.2926,68.2927,68.2929 ,68.2931,68.2933,68.2934,68.2936, 68.2938,68.2939,68.2941,68.2943, 68.2937)
FOOTPRINT_POINT_LONGITUDE = (260.29,260.29,260.29,260.291,260.292, 260.292,260.293,260.293,260.294,260.294 ,260.295,260.295,260.295,260.296, 260.296,260.296,260.297,260.297,260.297 ,260.298,260.298,260.299,260.299,260.3, 260.3,260.294,260.288,260.283,260.277, 260.271,260.265,260.259,260.253,260.247 ,260.242,260.236,260.23,260.224,260.218 ,260.212,260.207,260.201,260.195, 260.189,260.183,260.177,260.172,260.166 ,260.16,260.156,260.151,260.151,260.15, 260.15,260.15,260.149,260.149,260.148, 260.148,260.147,260.147,260.147,260.146 ,260.146,260.145,260.145,260.145, 260.144,260.144,260.143,260.143,260.142 ,260.142,260.141,260.141,260.15,260.155 ,260.16,260.166,260.172,260.177,260.183 ,260.189,260.195,260.201,260.207, 260.212,260.218,260.224,260.23,260.236, 260.242,260.248,260.253,260.259,260.265 ,260.271,260.277,260.283,260.29)
ORBIT_NUMBER = 1422
ORBITAL_ECCENTRICITY = 0.567
ORBITAL_INCLINATION = 86.6
ORBITAL_SEMIMAJOR_AXIS = 8542.27
PERIAPSIS_ALTITUDE = 323.01
PERIAPSIS_ARGUMENT_ANGLE = 110.23
PERIAPSIS_TIME = 2005-02-24T22:11:22.000Z
SPACECRAFT_ORIENTATION = (0.0,1.0,0.0)
^MEX_ORIENTATION_DESC = "MEX_ORIENTATION_DESC.TXT"
SPACECRAFT_POINTING_MODE = ACROSSTRACK
^MEX_POINTING_DESC = "MEX_POINTING_DESC.TXT"
RIGHT_ASCENSION = -1e+32
DECLINATION = -1e+32
OFFSET_ANGLE = 1.31
SPACECRAFT_SOLAR_DISTANCE = 2.24263e+08
TARGET_NAME = MARS
/* CAMERA DATA ELEMENTS */
BUFFER_MODE_ID = BUFFER_8
EXPOSURE_DURATION = 5.04
INST_CMPRS_NAME = NONE
INST_CMPRS_RATIO = 1.0
INST_CMPRS_QUALITY = -2147483648
INST_CMPRS_QUANTZ_TBL_ID = -2147483648
INSTRUMENT_TEMPERATURE = 8.18182
MISSING_FRAMES = 0
START_BIT = 0
/* RADIOMETRIC DATA ELEMENTS */
BANDWIDTH = 250.0
CENTER_FILTER_WAVELENGTH = 600.0
RADIANCE_OFFSET = -9.99e+31
RADIANCE_SCALING_FACTOR = -9.99e+31
REFLECTANCE_SCALING_FACTOR = -9.99e+31
MEX:REFLECTANCE_OFFSET = -9.99e+31
/* IMAGE OBJECT DEFINITIONS */
OBJECT = IMAGE
  INTERCHANGE_FORMAT = BINARY
  LINES = 1451
  LINE_SAMPLES = 1519
  SAMPLE_TYPE = UNSIGNED_INTEGER
  SAMPLE_BITS = 8
  BANDS = 1
  BAND_STORAGE_TYPE = BAND_SEQUENTIAL
  MAXIMUM = 4860
  MEAN = 4496.24
  MINIMUM = 3694
  STANDARD_DEVIATION = 76.1376
END_OBJECT = IMAGE
/* MAP OBJECT DEFINITIONS */
OBJECT = IMAGE_MAP_PROJECTION
  ^DATA_SET_MAP_PROJECTION_CATALOG= "DSMAP.CAT"
  A_AXIS_RADIUS = 3396.19
  B_AXIS_RADIUS = 3396.19
  C_AXIS_RADIUS = 3396.19
  CENTER_LATITUDE = 0.0
  CENTER_LONGITUDE = 260.0
  COORDINATE_SYSTEM_NAME = PLANETOGRAPHIC
  COORDINATE_SYSTEM_TYPE = "BODY-FIXED ROTATING"
  EASTERNMOST_LONGITUDE = 260.3
  FIRST_STANDARD_PARALLEL = "N/A"
  LINE_FIRST_PIXEL = 1
  LINE_LAST_PIXEL = 1451
  LINE_PROJECTION_OFFSET = 1616043.0
  MAP_PROJECTION_ROTATION = 0.0
  MAP_PROJECTION_TYPE = SINUSOIDAL
  MAP_RESOLUTION = 23709.8786048756
  MAP_SCALE = 0.0025
  MAXIMUM_LATITUDE = 68.29430000000001
  MINIMUM_LATITUDE = 68.2379
  POSITIVE_LONGITUDE_DIRECTION = EAST
  REFERENCE_LATITUDE = "N/A"
  REFERENCE_LONGITUDE = "N/A"
  SAMPLE_FIRST_PIXEL = 1
  SAMPLE_LAST_PIXEL = 1519
  SAMPLE_PROJECTION_OFFSET = -3088.0
  SECOND_STANDARD_PARALLEL = "N/A"
  WESTERNMOST_LONGITUDE = 260.141
END_OBJECT = IMAGE_MAP_PROJECTION
/* The JPEG2000 image data file associated with this label. */
OBJECT = COMPRESSED_FILE
  FILE_NAME = "H1422_0006_SR3.JP2"
  RECORD_TYPE = UNDEFINED
  FILE_RECORDS = UNK
  ENCODING_TYPE = "JP2"
  INTERCHANGE_FORMAT = BINARY
  UNCOMPRESSED_FILE_NAME = "H1422_0006_SR3.IMG"
  REQUIRED_STORAGE_BYTES = "2222297"
  ^DESCRIPTION = "JP2INFO.TXT"
END_OBJECT = COMPRESSED_FILE
END
