PDS_VERSION_ID = PDS3
/* FILE DATA ELEMENTS */
RECORD_TYPE = STREAM
/* POINTERS TO DATA OBJECTS */
^COMPRESSED_FILE = "H1422_0008_SR3.JP2"
/* IDENTIFICATION DATA ELEMENTS */
DATA_SET_ID = "MEX-M-HRSC-5-REFDR-MAPPROJECTED-V3.0"
DATA_SET_NAME = "MARS EXPRESS HRSC MAP PROJECTED REFDR V3.0"
DETECTOR_ID = MEX_HRSC_SRC
EVENT_TYPE = "MARS-REGIONAL-MAPPING-Vo-Te-Ot"
INSTRUMENT_HOST_ID = MEX
INSTRUMENT_HOST_NAME = "MARS EXPRESS"
INSTRUMENT_ID = HRSC
INSTRUMENT_NAME = "HIGH RESOLUTION STEREO CAMERA"
MISSION_NAME = "MARS EXPRESS"
MISSION_PHASE_NAME = MR_Phase_4
PROCESSING_LEVEL_ID = 3
PRODUCT_CREATION_TIME = 2016-03-05T14:51:22.000Z
PRODUCT_ID = "H1422_0008_SR3.JP2"
RELEASE_ID = 0019
REVISION_ID = 0000
/* QUALITY DATA ELEMENTS */
DATA_QUALITY_ID = 1
DATA_QUALITY_DESC = "Data calculated based on original SPICE kernels"
/* TIME DATA ELEMENTS */
SPACECRAFT_CLOCK_START_COUNT = "1/0057363046.57168"
SPACECRAFT_CLOCK_STOP_COUNT = "1/0057363518.02836"
IMAGE_TIME = 2005-02-24T22:11:43.797Z
START_TIME = 2005-02-24T22:11:43.795Z
STOP_TIME = 2005-02-24T22:11:43.800Z
/* ORBITAL DATA ELEMENTS */
ASCENDING_NODE_LONGITUDE = 198.72
MAXIMUM_RESOLUTION = 3.076
FOOTPRINT_POINT_LATITUDE = (68.221,68.2186,68.216,68.2139,68.2126, 68.2091,68.2068,68.205,68.2036,68.2018, 68.1998,68.1973,68.1958,68.1941,68.1915 ,68.1899,68.1878,68.1852,68.1816, 68.1799,68.1775,68.1745,68.1712,68.1701 ,68.17,68.1698,68.1697,68.1695,68.1693, 68.1692,68.169,68.1689,68.1687,68.1685, 68.1684,68.1682,68.168,68.1679,68.1677, 68.1676,68.1674,68.1672,68.1671,68.1669 ,68.1667,68.1666,68.1664,68.1663, 68.1678,68.1701,68.1714,68.1735,68.1753 ,68.1774,68.1801,68.1828,68.1852, 68.1871,68.1889,68.1905,68.1931,68.1954 ,68.1971,68.1987,68.2007,68.2029, 68.2043,68.206,68.2076,68.2096,68.2126, 68.2153,68.2166,68.2187,68.2188,68.219, 68.2192,68.2194,68.2195,68.2197,68.2199 ,68.22,68.2202,68.2204,68.2205,68.2207, 68.2209,68.221,68.2212,68.2214,68.2215, 68.2217,68.2219,68.222,68.2222,68.2224, 68.2225,68.2227,68.2229,68.221)
FOOTPRINT_POINT_LONGITUDE = (260.304,260.305,260.305,260.306, 260.306,260.307,260.307,260.308,260.308 ,260.308,260.309,260.309,260.309,260.31 ,260.31,260.311,260.311,260.312,260.312 ,260.313,260.313,260.314,260.314, 260.307,260.301,260.296,260.29,260.284, 260.278,260.272,260.266,260.261,260.255 ,260.249,260.243,260.237,260.231, 260.226,260.22,260.214,260.208,260.202, 260.197,260.191,260.185,260.179,260.173 ,260.167,260.166,260.166,260.166, 260.165,260.165,260.164,260.164,260.163 ,260.163,260.162,260.162,260.162, 260.161,260.16,260.16,260.16,260.159, 260.159,260.159,260.158,260.158,260.158 ,260.157,260.156,260.156,260.157, 260.163,260.169,260.175,260.18,260.186, 260.192,260.198,260.204,260.21,260.215, 260.221,260.227,260.233,260.239,260.245 ,260.25,260.256,260.262,260.268,260.274 ,260.28,260.285,260.291,260.297,260.303 ,260.304)
ORBIT_NUMBER = 1422
ORBITAL_ECCENTRICITY = 0.567
ORBITAL_INCLINATION = 86.6
ORBITAL_SEMIMAJOR_AXIS = 8542.27
PERIAPSIS_ALTITUDE = 323.01
PERIAPSIS_ARGUMENT_ANGLE = 110.23
PERIAPSIS_TIME = 2005-02-24T22:11:22.000Z
SPACECRAFT_ORIENTATION = (0.0,1.0,0.0)
^MEX_ORIENTATION_DESC = "MEX_ORIENTATION_DESC.TXT"
SPACECRAFT_POINTING_MODE = ACROSSTRACK
^MEX_POINTING_DESC = "MEX_POINTING_DESC.TXT"
RIGHT_ASCENSION = -1e+32
DECLINATION = -1e+32
OFFSET_ANGLE = 1.31
SPACECRAFT_SOLAR_DISTANCE = 2.24263e+08
TARGET_NAME = MARS
/* CAMERA DATA ELEMENTS */
BUFFER_MODE_ID = BUFFER_8
EXPOSURE_DURATION = 5.04
INST_CMPRS_NAME = NONE
INST_CMPRS_RATIO = 1.0
INST_CMPRS_QUALITY = -2147483648
INST_CMPRS_QUANTZ_TBL_ID = -2147483648
INSTRUMENT_TEMPERATURE = 8.18182
MISSING_FRAMES = 0
START_BIT = 0
/* RADIOMETRIC DATA ELEMENTS */
BANDWIDTH = 250.0
CENTER_FILTER_WAVELENGTH = 600.0
RADIANCE_OFFSET = -9.99e+31
RADIANCE_SCALING_FACTOR = -9.99e+31
REFLECTANCE_SCALING_FACTOR = -9.99e+31
MEX:REFLECTANCE_OFFSET = -9.99e+31
/* IMAGE OBJECT DEFINITIONS */
OBJECT = IMAGE
  INTERCHANGE_FORMAT = BINARY
  LINES = 1451
  LINE_SAMPLES = 1519
  SAMPLE_TYPE = UNSIGNED_INTEGER
  SAMPLE_BITS = 8
  BANDS = 1
  BAND_STORAGE_TYPE = BAND_SEQUENTIAL
  MAXIMUM = 4858
  MEAN = 4502.46
  MINIMUM = 2255
  STANDARD_DEVIATION = 78.6742
END_OBJECT = IMAGE
/* MAP OBJECT DEFINITIONS */
OBJECT = IMAGE_MAP_PROJECTION
  ^DATA_SET_MAP_PROJECTION_CATALOG= "DSMAP.CAT"
  A_AXIS_RADIUS = 3396.19
  B_AXIS_RADIUS = 3396.19
  C_AXIS_RADIUS = 3396.19
  CENTER_LATITUDE = 0.0
  CENTER_LONGITUDE = 260.0
  COORDINATE_SYSTEM_NAME = PLANETOGRAPHIC
  COORDINATE_SYSTEM_TYPE = "BODY-FIXED ROTATING"
  EASTERNMOST_LONGITUDE = 260.314
  FIRST_STANDARD_PARALLEL = "N/A"
  LINE_FIRST_PIXEL = 1
  LINE_LAST_PIXEL = 1451
  LINE_PROJECTION_OFFSET = 1614354.0
  MAP_PROJECTION_ROTATION = 0.0
  MAP_PROJECTION_TYPE = SINUSOIDAL
  MAP_RESOLUTION = 23709.8786048756
  MAP_SCALE = 0.0025
  MAXIMUM_LATITUDE = 68.2229
  MINIMUM_LATITUDE = 68.16630000000001
  POSITIVE_LONGITUDE_DIRECTION = EAST
  REFERENCE_LATITUDE = "N/A"
  REFERENCE_LONGITUDE = "N/A"
  SAMPLE_FIRST_PIXEL = 1
  SAMPLE_LAST_PIXEL = 1519
  SAMPLE_PROJECTION_OFFSET = -3220.0
  SECOND_STANDARD_PARALLEL = "N/A"
  WESTERNMOST_LONGITUDE = 260.156
END_OBJECT = IMAGE_MAP_PROJECTION
/* The JPEG2000 image data file associated with this label. */
OBJECT = COMPRESSED_FILE
  FILE_NAME = "H1422_0008_SR3.JP2"
  RECORD_TYPE = UNDEFINED
  FILE_RECORDS = UNK
  ENCODING_TYPE = "JP2"
  INTERCHANGE_FORMAT = BINARY
  UNCOMPRESSED_FILE_NAME = "H1422_0008_SR3.IMG"
  REQUIRED_STORAGE_BYTES = "2223816"
  ^DESCRIPTION = "JP2INFO.TXT"
END_OBJECT = COMPRESSED_FILE
END
