PDS_VERSION_ID = PDS3
/* FILE DATA ELEMENTS */
RECORD_TYPE = STREAM
/* POINTERS TO DATA OBJECTS */
^COMPRESSED_FILE = "H1423_0000_P23.JP2"
/* IDENTIFICATION DATA ELEMENTS */
DATA_SET_ID = "MEX-M-HRSC-5-REFDR-MAPPROJECTED-V3.0"
DATA_SET_NAME = "MARS EXPRESS HRSC MAP PROJECTED REFDR V3.0"
DETECTOR_ID = MEX_HRSC_P2
EVENT_TYPE = "MARS-REGIONAL-MAPPING-Im-Pf-Eo"
INSTRUMENT_HOST_ID = MEX
INSTRUMENT_HOST_NAME = "MARS EXPRESS"
INSTRUMENT_ID = HRSC
INSTRUMENT_NAME = "HIGH RESOLUTION STEREO CAMERA"
MISSION_NAME = "MARS EXPRESS"
MISSION_PHASE_NAME = MR_Phase_4
PROCESSING_LEVEL_ID = 3
PRODUCT_CREATION_TIME = 2016-03-05T14:51:22.000Z
PRODUCT_ID = "H1423_0000_P23.JP2"
RELEASE_ID = 0019
REVISION_ID = 0000
/* QUALITY DATA ELEMENTS */
DATA_QUALITY_ID = 1
DATA_QUALITY_DESC = "Data calculated based on original SPICE kernels"
/* TIME DATA ELEMENTS */
SPACECRAFT_CLOCK_START_COUNT = "1/0057387102.57175"
SPACECRAFT_CLOCK_STOP_COUNT = "1/0057387348.64230"
START_TIME = 2005-02-25T04:52:01.900Z
STOP_TIME = 2005-02-25T04:55:05.330Z
/* ORBITAL DATA ELEMENTS */
ASCENDING_NODE_LONGITUDE = 198.69
MAXIMUM_RESOLUTION = 54
FOOTPRINT_POINT_LATITUDE = (78.7186,78.7874,78.8464,78.8072, 78.5653,78.3231,78.0807,77.8378,77.5944 ,77.351,77.1143,76.8778,76.6411,76.4042 ,76.0482,75.6916,75.4535,75.2153, 74.8575,74.6185,74.3796,74.0212,73.7897 ,73.558,73.326,73.0947,72.8618,72.629, 72.2791,72.0456,71.8126,71.4621,71.2283 ,70.8776,70.6437,70.4095,70.0581, 69.8235,69.5893,69.2373,69.0023,68.7672 ,68.5322,68.2971,68.0618,67.7088, 67.4734,67.2377,66.9297,66.9183,66.9045 ,66.8942,66.8764,67.2278,67.4619, 67.6961,67.9298,68.2803,68.5137,68.747, 68.9803,69.2132,69.4461,69.6788,70.0275 ,70.2598,70.4919,70.7238,70.9557, 71.1872,71.5338,71.7648,71.9956,72.2261 ,72.4564,72.8014,73.146,73.3754,73.6044 ,73.8333,74.1845,74.4202,74.6556, 74.8907,75.1253,75.3596,75.5935,75.9436 ,76.1765,76.4091,76.6413,76.8729, 77.1042,77.3405,77.5782,77.8154,78.052, 78.288,78.5233,78.7186)
FOOTPRINT_POINT_LONGITUDE = (152.636,154.389,156.204,158.455, 158.631,158.799,158.96,159.114,159.265, 159.407,159.542,159.671,159.795,159.914 ,160.086,160.249,160.354,160.455,160.6, 160.694,160.783,160.913,160.992,161.069 ,161.144,161.213,161.287,161.357, 161.461,161.528,161.59,161.683,161.743, 161.829,161.884,161.939,162.017,162.069 ,162.117,162.189,162.236,162.281, 162.326,162.369,162.411,162.473,162.512 ,162.551,162.601,161.554,160.76,160.287 ,159.566,159.465,159.396,159.325, 159.252,159.14,159.063,158.983,158.902, 158.818,158.733,158.645,158.508,158.414 ,158.318,158.219,158.116,158.012,157.85 ,157.738,157.622,157.503,157.381, 157.191,156.993,156.855,156.714,156.568 ,156.335,156.172,156.004,155.83,155.65, 155.464,155.272,154.971,154.762,154.545 ,154.32,154.087,153.845,153.587,153.318 ,153.037,152.745,152.441,152.125, 152.636)
ORBIT_NUMBER = 1423
ORBITAL_ECCENTRICITY = 0.567
ORBITAL_INCLINATION = 86.6
ORBITAL_SEMIMAJOR_AXIS = 8542.47
PERIAPSIS_ALTITUDE = 324.28
PERIAPSIS_ARGUMENT_ANGLE = 110.07
PERIAPSIS_TIME = 2005-02-25T04:54:42.000Z
SPACECRAFT_ORIENTATION = (0.0,1.0,0.0)
^MEX_ORIENTATION_DESC = "MEX_ORIENTATION_DESC.TXT"
SPACECRAFT_POINTING_MODE = ACROSSTRACK
^MEX_POINTING_DESC = "MEX_POINTING_DESC.TXT"
RIGHT_ASCENSION = -1e+32
DECLINATION = -1e+32
OFFSET_ANGLE = 0.9
SPACECRAFT_SOLAR_DISTANCE = 2.24209e+08
TARGET_NAME = MARS
/* CAMERA DATA ELEMENTS */
DETECTOR_TEMPERATURE = 18.5744
FOCAL_PLANE_TEMPERATURE = 8.9911
INST_CMPRS_NAME = "DISCRETE COSINE TRANSFORMATION (DCT)"
INST_CMPRS_RATIO = 16.7562
INST_CMPRS_QUALITY = 0
INST_CMPRS_QUANTZ_TBL_ID = 0
INSTRUMENT_TEMPERATURE = 11.234
LENS_TEMPERATURE = 9.195
MACROPIXEL_SIZE = 4
MISSING_FRAMES = 0
PIXEL_SUBSAMPLING_FLAG = N
SIGNAL_CHAIN_ID = 3
/* RADIOMETRIC DATA ELEMENTS */
BANDWIDTH = 177.0
CENTER_FILTER_WAVELENGTH = 676.5
RADIANCE_OFFSET = 2.77851
RADIANCE_SCALING_FACTOR = 0.0148862
REFLECTANCE_SCALING_FACTOR = 0.000396779
MEX:REFLECTANCE_OFFSET = 0.0740587
/* IMAGE OBJECT DEFINITIONS */
OBJECT = IMAGE
  INTERCHANGE_FORMAT = BINARY
  LINES = 14199
  LINE_SAMPLES = 3319
  SAMPLE_TYPE = UNSIGNED_INTEGER
  SAMPLE_BITS = 8
  BANDS = 1
  BAND_STORAGE_TYPE = BAND_SEQUENTIAL
  MAXIMUM = 171
  MEAN = 112.522
  MINIMUM = 70
  STANDARD_DEVIATION = 21.5683
END_OBJECT = IMAGE
/* MAP OBJECT DEFINITIONS */
OBJECT = IMAGE_MAP_PROJECTION
  ^DATA_SET_MAP_PROJECTION_CATALOG= "DSMAP.CAT"
  A_AXIS_RADIUS = 3396.0
  B_AXIS_RADIUS = 3396.0
  C_AXIS_RADIUS = 3396.0
  CENTER_LATITUDE = 0.0
  CENTER_LONGITUDE = 159.0
  COORDINATE_SYSTEM_NAME = PLANETOGRAPHIC
  COORDINATE_SYSTEM_TYPE = "BODY-FIXED ROTATING"
  EASTERNMOST_LONGITUDE = 162.601
  FIRST_STANDARD_PARALLEL = "N/A"
  LINE_FIRST_PIXEL = 1
  LINE_LAST_PIXEL = 14199
  LINE_PROJECTION_OFFSET = 93446.125
  MAP_PROJECTION_ROTATION = 0.0
  MAP_PROJECTION_TYPE = SINUSOIDAL
  MAP_RESOLUTION = 1185.42760773333
  MAP_SCALE = 0.05
  MAXIMUM_LATITUDE = 78.8464
  MINIMUM_LATITUDE = 66.8764
  POSITIVE_LONGITUDE_DIRECTION = EAST
  REFERENCE_LATITUDE = "N/A"
  REFERENCE_LONGITUDE = "N/A"
  SAMPLE_FIRST_PIXEL = 1
  SAMPLE_LAST_PIXEL = 3319
  SAMPLE_PROJECTION_OFFSET = 1654.125
  SECOND_STANDARD_PARALLEL = "N/A"
  WESTERNMOST_LONGITUDE = 152.125
END_OBJECT = IMAGE_MAP_PROJECTION
/* The JPEG2000 image data file associated with this label. */
OBJECT = COMPRESSED_FILE
  FILE_NAME = "H1423_0000_P23.JP2"
  RECORD_TYPE = UNDEFINED
  FILE_RECORDS = UNK
  ENCODING_TYPE = "JP2"
  INTERCHANGE_FORMAT = BINARY
  UNCOMPRESSED_FILE_NAME = "H1423_0000_P23.IMG"
  REQUIRED_STORAGE_BYTES = "47149714"
  ^DESCRIPTION = "JP2INFO.TXT"
END_OBJECT = COMPRESSED_FILE
END
