PDS_VERSION_ID = PDS3
/* FILE DATA ELEMENTS */
RECORD_TYPE = STREAM
/* POINTERS TO DATA OBJECTS */
^COMPRESSED_FILE = "H1423_0000_RE3.JP2"
/* IDENTIFICATION DATA ELEMENTS */
DATA_SET_ID = "MEX-M-HRSC-5-REFDR-MAPPROJECTED-V3.0"
DATA_SET_NAME = "MARS EXPRESS HRSC MAP PROJECTED REFDR V3.0"
DETECTOR_ID = MEX_HRSC_RED
EVENT_TYPE = "MARS-REGIONAL-MAPPING-Im-Pf-Eo"
INSTRUMENT_HOST_ID = MEX
INSTRUMENT_HOST_NAME = "MARS EXPRESS"
INSTRUMENT_ID = HRSC
INSTRUMENT_NAME = "HIGH RESOLUTION STEREO CAMERA"
MISSION_NAME = "MARS EXPRESS"
MISSION_PHASE_NAME = MR_Phase_4
PROCESSING_LEVEL_ID = 3
PRODUCT_CREATION_TIME = 2016-03-05T14:51:22.000Z
PRODUCT_ID = "H1423_0000_RE3.JP2"
RELEASE_ID = 0019
REVISION_ID = 0000
/* QUALITY DATA ELEMENTS */
DATA_QUALITY_ID = 1
DATA_QUALITY_DESC = "Data calculated based on original SPICE kernels"
/* TIME DATA ELEMENTS */
SPACECRAFT_CLOCK_START_COUNT = "1/0057387102.57175"
SPACECRAFT_CLOCK_STOP_COUNT = "1/0057387348.64230"
START_TIME = 2005-02-25T04:51:56.110Z
STOP_TIME = 2005-02-25T04:55:00.313Z
/* ORBITAL DATA ELEMENTS */
ASCENDING_NODE_LONGITUDE = 198.69
MAXIMUM_RESOLUTION = 54.8
FOOTPRINT_POINT_LATITUDE = (78.7553,78.8214,78.8774,78.81,78.5679, 78.3255,78.0827,77.8395,77.5957,77.3519 ,77.1075,76.7481,76.5107,76.1542, 75.9163,75.6775,75.4388,75.1999,74.841, 74.6012,74.3615,74.1216,73.8815,73.6427 ,73.4101,73.0618,72.8276,72.5942, 72.3596,72.0078,71.7736,71.4214,71.1865 ,70.9515,70.7164,70.4812,70.1282,69.774 ,69.5386,69.3027,69.0664,68.7117, 68.4751,68.2385,68.0017,67.7648,67.528, 67.2908,66.9189,66.9143,66.9085,66.8971 ,66.9977,67.2334,67.4692,67.8225, 68.0577,68.2927,68.5276,68.7623,68.997, 69.2313,69.4654,69.8163,70.0499,70.2836 ,70.5168,70.7499,70.983,71.2156,71.5637 ,71.7957,72.0275,72.2589,72.4902, 72.7212,72.9519,73.2975,73.5276,73.763, 74.0,74.2366,74.4731,74.7091,74.9448, 75.18,75.4148,75.6492,75.8831,76.1167, 76.3498,76.5826,76.8148,77.0537,77.4115 ,77.6494,77.8868,78.1235,78.3596, 78.7553)
FOOTPRINT_POINT_LONGITUDE = (152.591,154.365,156.201,158.493, 158.668,158.835,158.995,159.149,159.299 ,159.44,159.578,159.77,159.891,160.064, 160.174,160.283,160.387,160.487,160.631 ,160.725,160.814,160.9,160.983,161.063, 161.138,161.243,161.317,161.386,161.456 ,161.556,161.618,161.711,161.77,161.828 ,161.883,161.938,162.016,162.094, 162.142,162.189,162.236,162.305,162.349 ,162.392,162.434,162.475,162.515, 162.554,162.379,161.679,161.164,160.433 ,159.538,159.47,159.4,159.293,159.218, 159.142,159.064,158.984,158.902,158.818 ,158.732,158.598,158.505,158.41,158.313 ,158.213,158.11,158.004,157.84,157.727, 157.611,157.491,157.368,157.241,157.11, 156.906,156.766,156.617,156.462,156.303 ,156.138,155.967,155.791,155.61,155.422 ,155.227,155.026,154.818,154.602, 154.378,154.147,153.899,153.508,153.235 ,152.95,152.654,152.345,152.591)
ORBIT_NUMBER = 1423
ORBITAL_ECCENTRICITY = 0.567
ORBITAL_INCLINATION = 86.6
ORBITAL_SEMIMAJOR_AXIS = 8542.47
PERIAPSIS_ALTITUDE = 324.28
PERIAPSIS_ARGUMENT_ANGLE = 110.07
PERIAPSIS_TIME = 2005-02-25T04:54:42.000Z
SPACECRAFT_ORIENTATION = (0.0,1.0,0.0)
^MEX_ORIENTATION_DESC = "MEX_ORIENTATION_DESC.TXT"
SPACECRAFT_POINTING_MODE = ACROSSTRACK
^MEX_POINTING_DESC = "MEX_POINTING_DESC.TXT"
RIGHT_ASCENSION = -1e+32
DECLINATION = -1e+32
OFFSET_ANGLE = 0.9
SPACECRAFT_SOLAR_DISTANCE = 2.24209e+08
TARGET_NAME = MARS
/* CAMERA DATA ELEMENTS */
DETECTOR_TEMPERATURE = 18.5744
FOCAL_PLANE_TEMPERATURE = 8.9911
INST_CMPRS_NAME = "DISCRETE COSINE TRANSFORMATION (DCT)"
INST_CMPRS_RATIO = 32.1491
INST_CMPRS_QUALITY = 0
INST_CMPRS_QUANTZ_TBL_ID = 0
INSTRUMENT_TEMPERATURE = 11.234
LENS_TEMPERATURE = 9.195
MACROPIXEL_SIZE = 4
MISSING_FRAMES = 0
PIXEL_SUBSAMPLING_FLAG = N
SIGNAL_CHAIN_ID = 2
/* RADIOMETRIC DATA ELEMENTS */
BANDWIDTH = 48.0
CENTER_FILTER_WAVELENGTH = 748.0
RADIANCE_OFFSET = 0.710024
RADIANCE_SCALING_FACTOR = 0.00417661
REFLECTANCE_SCALING_FACTOR = 0.000479133
MEX:REFLECTANCE_OFFSET = 0.0814525
/* IMAGE OBJECT DEFINITIONS */
OBJECT = IMAGE
  INTERCHANGE_FORMAT = BINARY
  LINES = 14199
  LINE_SAMPLES = 3319
  SAMPLE_TYPE = UNSIGNED_INTEGER
  SAMPLE_BITS = 8
  BANDS = 1
  BAND_STORAGE_TYPE = BAND_SEQUENTIAL
  MAXIMUM = 136
  MEAN = 91.1904
  MINIMUM = 54
  STANDARD_DEVIATION = 17.61
END_OBJECT = IMAGE
/* MAP OBJECT DEFINITIONS */
OBJECT = IMAGE_MAP_PROJECTION
  ^DATA_SET_MAP_PROJECTION_CATALOG= "DSMAP.CAT"
  A_AXIS_RADIUS = 3396.0
  B_AXIS_RADIUS = 3396.0
  C_AXIS_RADIUS = 3396.0
  CENTER_LATITUDE = 0.0
  CENTER_LONGITUDE = 159.0
  COORDINATE_SYSTEM_NAME = PLANETOGRAPHIC
  COORDINATE_SYSTEM_TYPE = "BODY-FIXED ROTATING"
  EASTERNMOST_LONGITUDE = 162.554
  FIRST_STANDARD_PARALLEL = "N/A"
  LINE_FIRST_PIXEL = 1
  LINE_LAST_PIXEL = 14199
  LINE_PROJECTION_OFFSET = 93446.125
  MAP_PROJECTION_ROTATION = 0.0
  MAP_PROJECTION_TYPE = SINUSOIDAL
  MAP_RESOLUTION = 1185.42760773333
  MAP_SCALE = 0.05
  MAXIMUM_LATITUDE = 78.87739999999999
  MINIMUM_LATITUDE = 66.89709999999999
  POSITIVE_LONGITUDE_DIRECTION = EAST
  REFERENCE_LATITUDE = "N/A"
  REFERENCE_LONGITUDE = "N/A"
  SAMPLE_FIRST_PIXEL = 1
  SAMPLE_LAST_PIXEL = 3319
  SAMPLE_PROJECTION_OFFSET = 1654.125
  SECOND_STANDARD_PARALLEL = "N/A"
  WESTERNMOST_LONGITUDE = 152.345
END_OBJECT = IMAGE_MAP_PROJECTION
/* The JPEG2000 image data file associated with this label. */
OBJECT = COMPRESSED_FILE
  FILE_NAME = "H1423_0000_RE3.JP2"
  RECORD_TYPE = UNDEFINED
  FILE_RECORDS = UNK
  ENCODING_TYPE = "JP2"
  INTERCHANGE_FORMAT = BINARY
  UNCOMPRESSED_FILE_NAME = "H1423_0000_RE3.IMG"
  REQUIRED_STORAGE_BYTES = "47149714"
  ^DESCRIPTION = "JP2INFO.TXT"
END_OBJECT = COMPRESSED_FILE
END
