PDS_VERSION_ID = PDS3
/* FILE DATA ELEMENTS */
RECORD_TYPE = STREAM
/* POINTERS TO DATA OBJECTS */
^COMPRESSED_FILE = "H1423_0000_S23.JP2"
/* IDENTIFICATION DATA ELEMENTS */
DATA_SET_ID = "MEX-M-HRSC-5-REFDR-MAPPROJECTED-V3.0"
DATA_SET_NAME = "MARS EXPRESS HRSC MAP PROJECTED REFDR V3.0"
DETECTOR_ID = MEX_HRSC_S2
EVENT_TYPE = "MARS-REGIONAL-MAPPING-Im-Pf-Eo"
INSTRUMENT_HOST_ID = MEX
INSTRUMENT_HOST_NAME = "MARS EXPRESS"
INSTRUMENT_ID = HRSC
INSTRUMENT_NAME = "HIGH RESOLUTION STEREO CAMERA"
MISSION_NAME = "MARS EXPRESS"
MISSION_PHASE_NAME = MR_Phase_4
PROCESSING_LEVEL_ID = 3
PRODUCT_CREATION_TIME = 2016-03-05T14:51:22.000Z
PRODUCT_ID = "H1423_0000_S23.JP2"
RELEASE_ID = 0019
REVISION_ID = 0000
/* QUALITY DATA ELEMENTS */
DATA_QUALITY_ID = 1
DATA_QUALITY_DESC = "Data calculated based on original SPICE kernels"
/* TIME DATA ELEMENTS */
SPACECRAFT_CLOCK_START_COUNT = "1/0057387102.57175"
SPACECRAFT_CLOCK_STOP_COUNT = "1/0057387348.64230"
START_TIME = 2005-02-25T04:51:50.488Z
STOP_TIME = 2005-02-25T04:54:55.202Z
/* ORBITAL DATA ELEMENTS */
ASCENDING_NODE_LONGITUDE = 198.69
MAXIMUM_RESOLUTION = 27.9
FOOTPRINT_POINT_LATITUDE = (78.7772,78.8428,78.8714,78.8969, 78.9281,78.7969,78.5563,78.3155,78.0742 ,77.7113,77.4688,77.1046,76.8614,76.618 ,76.3819,76.1453,75.9089,75.671,75.4334 ,75.1956,74.8382,74.5995,74.3608, 74.1218,73.8828,73.6439,73.286,73.0552, 72.8218,72.4723,72.2384,71.8877,71.654, 71.4195,71.068,70.7162,70.4815,70.1293, 69.776,69.5409,69.3054,68.9512,68.597, 68.3608,68.1244,67.8878,67.5329,67.2958 ,66.9402,66.9125,66.9083,66.9031, 66.8908,67.2402,67.4758,67.7113,67.9464 ,68.1813,68.4159,68.7675,69.1188, 69.3526,69.703,69.9362,70.1694,70.5187, 70.8675,71.2157,71.5627,71.794,72.0251, 72.2558,72.4863,72.7166,72.9465,73.1762 ,73.4106,73.6471,73.8834,74.1192, 74.3547,74.5899,74.8248,75.0591,75.293, 75.5264,75.7595,75.9919,76.2241,76.4558 ,76.6935,76.9316,77.1692,77.4062, 77.6426,77.8786,78.1137,78.3483,78.582, 78.7772)
FOOTPRINT_POINT_LONGITUDE = (152.596,154.467,155.428,156.405, 157.841,158.562,158.734,158.897,159.054 ,159.28,159.423,159.628,159.757,159.882 ,159.998,160.111,160.218,160.326, 160.429,160.527,160.67,160.762,160.85, 160.935,161.017,161.095,161.21,161.277, 161.35,161.452,161.52,161.616,161.677, 161.739,161.826,161.909,161.963,162.04, 162.117,162.164,162.211,162.282,162.348 ,162.391,162.433,162.474,162.534, 162.573,162.629,161.627,161.061,160.59, 159.811,159.471,159.401,159.33,159.256, 159.181,159.104,158.985,158.861,158.775 ,158.643,158.552,158.458,158.313, 158.162,158.004,157.841,157.728,157.612 ,157.492,157.369,157.242,157.112, 156.978,156.836,156.689,156.537,156.38, 156.218,156.051,155.878,155.7,155.516, 155.326,155.129,154.925,154.714,154.496 ,154.263,154.02,153.768,153.506,153.234 ,152.951,152.657,152.35,152.031, 152.596)
ORBIT_NUMBER = 1423
ORBITAL_ECCENTRICITY = 0.567
ORBITAL_INCLINATION = 86.6
ORBITAL_SEMIMAJOR_AXIS = 8542.47
PERIAPSIS_ALTITUDE = 324.28
PERIAPSIS_ARGUMENT_ANGLE = 110.07
PERIAPSIS_TIME = 2005-02-25T04:54:42.000Z
SPACECRAFT_ORIENTATION = (0.0,1.0,0.0)
^MEX_ORIENTATION_DESC = "MEX_ORIENTATION_DESC.TXT"
SPACECRAFT_POINTING_MODE = ACROSSTRACK
^MEX_POINTING_DESC = "MEX_POINTING_DESC.TXT"
RIGHT_ASCENSION = -1e+32
DECLINATION = -1e+32
OFFSET_ANGLE = 0.9
SPACECRAFT_SOLAR_DISTANCE = 2.24209e+08
TARGET_NAME = MARS
/* CAMERA DATA ELEMENTS */
DETECTOR_TEMPERATURE = 18.5744
FOCAL_PLANE_TEMPERATURE = 8.9911
INST_CMPRS_NAME = "DISCRETE COSINE TRANSFORMATION (DCT)"
INST_CMPRS_RATIO = 14.3177
INST_CMPRS_QUALITY = 0
INST_CMPRS_QUANTZ_TBL_ID = 0
INSTRUMENT_TEMPERATURE = 11.234
LENS_TEMPERATURE = 9.195
MACROPIXEL_SIZE = 2
MISSING_FRAMES = 0
PIXEL_SUBSAMPLING_FLAG = N
SIGNAL_CHAIN_ID = 1
/* RADIOMETRIC DATA ELEMENTS */
BANDWIDTH = 178.0
CENTER_FILTER_WAVELENGTH = 679.0
RADIANCE_OFFSET = 2.91631
RADIANCE_SCALING_FACTOR = 0.0162324
REFLECTANCE_SCALING_FACTOR = 0.000432135
MEX:REFLECTANCE_OFFSET = 0.077637
/* IMAGE OBJECT DEFINITIONS */
OBJECT = IMAGE
  INTERCHANGE_FORMAT = BINARY
  LINES = 28398
  LINE_SAMPLES = 6638
  SAMPLE_TYPE = UNSIGNED_INTEGER
  SAMPLE_BITS = 8
  BANDS = 1
  BAND_STORAGE_TYPE = BAND_SEQUENTIAL
  MAXIMUM = 154
  MEAN = 100.923
  MINIMUM = 61
  STANDARD_DEVIATION = 18.5814
END_OBJECT = IMAGE
/* MAP OBJECT DEFINITIONS */
OBJECT = IMAGE_MAP_PROJECTION
  ^DATA_SET_MAP_PROJECTION_CATALOG= "DSMAP.CAT"
  A_AXIS_RADIUS = 3396.0
  B_AXIS_RADIUS = 3396.0
  C_AXIS_RADIUS = 3396.0
  CENTER_LATITUDE = 0.0
  CENTER_LONGITUDE = 159.0
  COORDINATE_SYSTEM_NAME = PLANETOGRAPHIC
  COORDINATE_SYSTEM_TYPE = "BODY-FIXED ROTATING"
  EASTERNMOST_LONGITUDE = 162.629
  FIRST_STANDARD_PARALLEL = "N/A"
  LINE_FIRST_PIXEL = 1
  LINE_LAST_PIXEL = 28398
  LINE_PROJECTION_OFFSET = 186892.75
  MAP_PROJECTION_ROTATION = 0.0
  MAP_PROJECTION_TYPE = SINUSOIDAL
  MAP_RESOLUTION = 2370.85521546667
  MAP_SCALE = 0.025
  MAXIMUM_LATITUDE = 78.9281
  MINIMUM_LATITUDE = 66.8908
  POSITIVE_LONGITUDE_DIRECTION = EAST
  REFERENCE_LATITUDE = "N/A"
  REFERENCE_LONGITUDE = "N/A"
  SAMPLE_FIRST_PIXEL = 1
  SAMPLE_LAST_PIXEL = 6638
  SAMPLE_PROJECTION_OFFSET = 3308.75
  SECOND_STANDARD_PARALLEL = "N/A"
  WESTERNMOST_LONGITUDE = 152.031
END_OBJECT = IMAGE_MAP_PROJECTION
/* The JPEG2000 image data file associated with this label. */
OBJECT = COMPRESSED_FILE
  FILE_NAME = "H1423_0000_S23.JP2"
  RECORD_TYPE = UNDEFINED
  FILE_RECORDS = UNK
  ENCODING_TYPE = "JP2"
  INTERCHANGE_FORMAT = BINARY
  UNCOMPRESSED_FILE_NAME = "H1423_0000_S23.IMG"
  REQUIRED_STORAGE_BYTES = "188539114"
  ^DESCRIPTION = "JP2INFO.TXT"
END_OBJECT = COMPRESSED_FILE
END
