PDS_VERSION_ID = PDS3
/* FILE DATA ELEMENTS */
RECORD_TYPE = STREAM
/* POINTERS TO DATA OBJECTS */
^COMPRESSED_FILE = "H1423_0001_P23.JP2"
/* IDENTIFICATION DATA ELEMENTS */
DATA_SET_ID = "MEX-M-HRSC-5-REFDR-MAPPROJECTED-V3.0"
DATA_SET_NAME = "MARS EXPRESS HRSC MAP PROJECTED REFDR V3.0"
DETECTOR_ID = MEX_HRSC_P2
EVENT_TYPE = "MARS-LOCAL-STEREO-Vo-Te-Gl"
INSTRUMENT_HOST_ID = MEX
INSTRUMENT_HOST_NAME = "MARS EXPRESS"
INSTRUMENT_ID = HRSC
INSTRUMENT_NAME = "HIGH RESOLUTION STEREO CAMERA"
MISSION_NAME = "MARS EXPRESS"
MISSION_PHASE_NAME = MR_Phase_4
PROCESSING_LEVEL_ID = 3
PRODUCT_CREATION_TIME = 2016-03-05T14:51:22.000Z
PRODUCT_ID = "H1423_0001_P23.JP2"
RELEASE_ID = 0019
REVISION_ID = 0000
/* QUALITY DATA ELEMENTS */
DATA_QUALITY_ID = 1
DATA_QUALITY_DESC = "Data calculated based on original SPICE kernels"
/* TIME DATA ELEMENTS */
SPACECRAFT_CLOCK_START_COUNT = "1/0057387548.57939"
SPACECRAFT_CLOCK_STOP_COUNT = "1/0057388010.25390"
START_TIME = 2005-02-25T04:59:28.473Z
STOP_TIME = 2005-02-25T05:04:50.268Z
/* ORBITAL DATA ELEMENTS */
ASCENDING_NODE_LONGITUDE = 198.69
MAXIMUM_RESOLUTION = 32.5
FOOTPRINT_POINT_LATITUDE = (49.6715,49.6754,49.6748,49.6021,49.271 ,48.9339,48.429,48.0925,47.5753,47.2305 ,46.8858,46.5344,46.1818,45.6543, 45.2933,44.9338,44.5733,44.2051,43.6553 ,43.2792,42.7145,42.3339,41.9503, 41.5657,41.1742,40.7835,40.3863,39.9883 ,39.5862,38.9815,38.5699,38.1616, 37.7358,37.0976,36.6719,36.2373,35.582, 34.9149,34.4648,34.0057,33.5434,33.0799 ,32.61,32.1359,31.658,31.1746,30.6849, 30.1903,29.6907,29.439,29.3836,29.3976, 29.4061,29.4174,29.4244,29.4296,29.9351 ,30.4335,30.9231,31.6484,32.3681, 32.8383,33.5323,33.9925,34.4443,34.8918 ,35.3367,35.7791,36.218,36.6464,37.0721 ,37.497,37.9158,38.3328,38.7455,39.1556 ,39.5607,40.1631,40.56,41.1481,41.7323, 42.1145,42.6863,43.0611,43.6226,43.9891 ,44.356,44.9004,45.2597,45.7965,46.1492 ,46.6765,47.1962,47.54,47.8843,48.2248, 48.561,49.0652,49.4015,49.6715)
FOOTPRINT_POINT_LONGITUDE = (161.833,162.47,163.12,164.048,164.061, 164.074,164.093,164.105,164.124,164.136 ,164.148,164.159,164.17,164.185,164.196 ,164.206,164.216,164.226,164.239, 164.252,164.268,164.278,164.288,164.298 ,164.308,164.317,164.326,164.335, 164.343,164.351,164.358,164.361,164.375 ,164.39,164.396,164.405,164.415,164.427 ,164.435,164.446,164.456,164.464, 164.471,164.477,164.483,164.489,164.496 ,164.501,164.507,164.51,164.209,163.758 ,163.461,162.992,162.601,162.213, 161.975,161.987,161.998,162.013,162.027 ,162.035,162.047,162.053,162.059, 162.065,162.07,162.074,162.077,162.08, 162.083,162.084,162.086,162.086,162.087 ,162.086,162.085,162.083,162.08,162.076 ,162.07,162.066,162.058,162.052,162.043 ,162.036,162.029,162.017,162.008, 161.994,161.984,161.968,161.951,161.939 ,161.926,161.913,161.9,161.878,161.863, 161.833)
ORBIT_NUMBER = 1423
ORBITAL_ECCENTRICITY = 0.567
ORBITAL_INCLINATION = 86.6
ORBITAL_SEMIMAJOR_AXIS = 8542.47
PERIAPSIS_ALTITUDE = 324.28
PERIAPSIS_ARGUMENT_ANGLE = 110.07
PERIAPSIS_TIME = 2005-02-25T04:54:42.000Z
SPACECRAFT_ORIENTATION = (0.0,1.0,0.0)
^MEX_ORIENTATION_DESC = "MEX_ORIENTATION_DESC.TXT"
SPACECRAFT_POINTING_MODE = ACROSSTRACK
^MEX_POINTING_DESC = "MEX_POINTING_DESC.TXT"
RIGHT_ASCENSION = -1e+32
DECLINATION = -1e+32
OFFSET_ANGLE = 0.9
SPACECRAFT_SOLAR_DISTANCE = 2.24209e+08
TARGET_NAME = MARS
/* CAMERA DATA ELEMENTS */
DETECTOR_TEMPERATURE = 20.2056
FOCAL_PLANE_TEMPERATURE = 8.5833
INST_CMPRS_NAME = "DISCRETE COSINE TRANSFORMATION (DCT)"
INST_CMPRS_RATIO = 6.72011
INST_CMPRS_QUALITY = 0
INST_CMPRS_QUANTZ_TBL_ID = 0
INSTRUMENT_TEMPERATURE = 12.8652
LENS_TEMPERATURE = 9.3989
MACROPIXEL_SIZE = 2
MISSING_FRAMES = 0
PIXEL_SUBSAMPLING_FLAG = N
SIGNAL_CHAIN_ID = 3
/* RADIOMETRIC DATA ELEMENTS */
BANDWIDTH = 177.0
CENTER_FILTER_WAVELENGTH = 676.5
RADIANCE_OFFSET = 4.60155
RADIANCE_SCALING_FACTOR = 0.0308369
REFLECTANCE_SCALING_FACTOR = 0.000821922
MEX:REFLECTANCE_OFFSET = 0.122649
/* IMAGE OBJECT DEFINITIONS */
OBJECT = IMAGE
  INTERCHANGE_FORMAT = BINARY
  LINES = 47978
  LINE_SAMPLES = 5708
  SAMPLE_TYPE = UNSIGNED_INTEGER
  SAMPLE_BITS = 8
  BANDS = 1
  BAND_STORAGE_TYPE = BAND_SEQUENTIAL
  MAXIMUM = 223
  MEAN = 158.72
  MINIMUM = 73
  STANDARD_DEVIATION = 18.6283
END_OBJECT = IMAGE
/* MAP OBJECT DEFINITIONS */
OBJECT = IMAGE_MAP_PROJECTION
  ^DATA_SET_MAP_PROJECTION_CATALOG= "DSMAP.CAT"
  A_AXIS_RADIUS = 3396.0
  B_AXIS_RADIUS = 3396.0
  C_AXIS_RADIUS = 3396.0
  CENTER_LATITUDE = 0.0
  CENTER_LONGITUDE = 163.0
  COORDINATE_SYSTEM_NAME = PLANETOGRAPHIC
  COORDINATE_SYSTEM_TYPE = "BODY-FIXED ROTATING"
  EASTERNMOST_LONGITUDE = 164.51
  FIRST_STANDARD_PARALLEL = "N/A"
  LINE_FIRST_PIXEL = 1
  LINE_LAST_PIXEL = 47978
  LINE_PROJECTION_OFFSET = 117663.25
  MAP_PROJECTION_ROTATION = 0.0
  MAP_PROJECTION_TYPE = SINUSOIDAL
  MAP_RESOLUTION = 2370.85521546667
  MAP_SCALE = 0.025
  MAXIMUM_LATITUDE = 49.6754
  MINIMUM_LATITUDE = 29.3836
  POSITIVE_LONGITUDE_DIRECTION = EAST
  REFERENCE_LATITUDE = "N/A"
  REFERENCE_LONGITUDE = "N/A"
  SAMPLE_FIRST_PIXEL = 1
  SAMPLE_LAST_PIXEL = 5708
  SAMPLE_PROJECTION_OFFSET = 2342.75
  SECOND_STANDARD_PARALLEL = "N/A"
  WESTERNMOST_LONGITUDE = 161.833
END_OBJECT = IMAGE_MAP_PROJECTION
/* The JPEG2000 image data file associated with this label. */
OBJECT = COMPRESSED_FILE
  FILE_NAME = "H1423_0001_P23.JP2"
  RECORD_TYPE = UNDEFINED
  FILE_RECORDS = UNK
  ENCODING_TYPE = "JP2"
  INTERCHANGE_FORMAT = BINARY
  UNCOMPRESSED_FILE_NAME = "H1423_0001_P23.IMG"
  REQUIRED_STORAGE_BYTES = "273886964"
  ^DESCRIPTION = "JP2INFO.TXT"
END_OBJECT = COMPRESSED_FILE
END
