PDS_VERSION_ID = PDS3
/* FILE DATA ELEMENTS */
RECORD_TYPE = STREAM
/* POINTERS TO DATA OBJECTS */
^COMPRESSED_FILE = "H1425_0000_S23.JP2"
/* IDENTIFICATION DATA ELEMENTS */
DATA_SET_ID = "MEX-M-HRSC-5-REFDR-MAPPROJECTED-V3.0"
DATA_SET_NAME = "MARS EXPRESS HRSC MAP PROJECTED REFDR V3.0"
DETECTOR_ID = MEX_HRSC_S2
EVENT_TYPE = "MARS-REGIONAL-MAPPING-Gl-Pf-Eo"
INSTRUMENT_HOST_ID = MEX
INSTRUMENT_HOST_NAME = "MARS EXPRESS"
INSTRUMENT_ID = HRSC
INSTRUMENT_NAME = "HIGH RESOLUTION STEREO CAMERA"
MISSION_NAME = "MARS EXPRESS"
MISSION_PHASE_NAME = MR_Phase_4
PROCESSING_LEVEL_ID = 3
PRODUCT_CREATION_TIME = 2016-03-05T14:51:22.000Z
PRODUCT_ID = "H1425_0000_S23.JP2"
RELEASE_ID = 0019
REVISION_ID = 0000
/* QUALITY DATA ELEMENTS */
DATA_QUALITY_ID = 1
DATA_QUALITY_DESC = "Data calculated based on original SPICE kernels"
/* TIME DATA ELEMENTS */
SPACECRAFT_CLOCK_START_COUNT = "1/0057435390.57173"
SPACECRAFT_CLOCK_STOP_COUNT = "1/0057435785.34413"
START_TIME = 2005-02-25T18:16:38.451Z
STOP_TIME = 2005-02-25T18:27:34.735Z
/* ORBITAL DATA ELEMENTS */
ASCENDING_NODE_LONGITUDE = 198.65
MAXIMUM_RESOLUTION = 27.9
FOOTPRINT_POINT_LATITUDE = (85.2171,85.5309,84.7025,83.8626, 82.5845,81.732,80.8895,80.0387,79.2052, 78.3659,77.1244,76.298,75.0577,74.2484, 73.4357,72.6197,71.801,70.9795,70.1586, 69.3596,68.5587,67.7559,66.951,66.1445, 65.3365,64.5016,63.6629,62.8231,61.9822 ,61.1404,60.2981,59.4325,58.5608, 57.6886,56.3801,55.5076,54.6355,53.7639 ,52.8924,52.0214,51.151,49.8401,48.9725 ,48.1066,46.8073,45.9434,45.0815,44.221 ,43.3627,43.3248,43.3215,43.3107, 44.1672,45.0256,45.8857,46.7469,47.6106 ,48.4744,49.3399,50.2057,51.0802, 51.9483,52.8168,53.686,54.9902,56.2949, 57.1642,58.4677,59.3364,60.1997,61.0388 ,61.8768,62.7135,63.5492,64.3832, 65.2145,66.0173,66.8181,67.6169,68.4133 ,69.2075,69.9989,70.8099,71.6221, 72.4305,73.2352,74.0353,74.8305,76.0446 ,76.8509,77.6499,78.463,79.6676,80.4786 ,81.2747,82.0707,83.2363,83.9736, 84.6743,85.2171)
FOOTPRINT_POINT_LONGITUDE = (292.073,301.229,306.095,309.573, 313.272,315.049,316.47,317.655,318.628, 319.459,320.484,321.06,321.8,322.218, 322.594,322.935,323.244,323.527,323.784 ,324.014,324.226,324.421,324.603, 324.772,324.928,325.079,325.22,325.351, 325.474,325.588,325.695,325.799,325.896 ,325.987,326.114,326.192,326.265, 326.334,326.399,326.461,326.519,326.6, 326.65,326.696,326.764,326.805,326.844, 326.881,326.916,326.263,325.593,324.756 ,324.73,324.699,324.665,324.626,324.584 ,324.536,324.484,324.427,324.365, 324.297,324.223,324.142,324.008,323.857 ,323.745,323.56,323.425,323.278,323.124 ,322.958,322.779,322.585,322.374, 322.147,321.909,321.651,321.372,321.069 ,320.739,320.38,319.976,319.531,319.041 ,318.5,317.901,317.237,316.059,315.143, 314.105,312.886,310.687,308.857,306.686 ,304.014,298.748,294.081,287.993, 292.073)
ORBIT_NUMBER = 1425
ORBITAL_ECCENTRICITY = 0.567
ORBITAL_INCLINATION = 86.62
ORBITAL_SEMIMAJOR_AXIS = 8540.93
PERIAPSIS_ALTITUDE = 323.83
PERIAPSIS_ARGUMENT_ANGLE = 109.72
PERIAPSIS_TIME = 2005-02-25T18:21:19.000Z
SPACECRAFT_ORIENTATION = (0.0,1.0,0.0)
^MEX_ORIENTATION_DESC = "MEX_ORIENTATION_DESC.TXT"
SPACECRAFT_POINTING_MODE = ACROSSTRACK
^MEX_POINTING_DESC = "MEX_POINTING_DESC.TXT"
RIGHT_ASCENSION = -1e+32
DECLINATION = -1e+32
OFFSET_ANGLE = 0.4
SPACECRAFT_SOLAR_DISTANCE = 2.24099e+08
TARGET_NAME = MARS
/* CAMERA DATA ELEMENTS */
DETECTOR_TEMPERATURE = 18.5744
FOCAL_PLANE_TEMPERATURE = 8.9911
INST_CMPRS_NAME = "DISCRETE COSINE TRANSFORMATION (DCT)"
INST_CMPRS_RATIO = 12.525
INST_CMPRS_QUALITY = 0
INST_CMPRS_QUANTZ_TBL_ID = 0
INSTRUMENT_TEMPERATURE = 11.234
LENS_TEMPERATURE = 9.195
MACROPIXEL_SIZE = 2
MISSING_FRAMES = 2
PIXEL_SUBSAMPLING_FLAG = N
SIGNAL_CHAIN_ID = 1
/* RADIOMETRIC DATA ELEMENTS */
BANDWIDTH = 178.0
CENTER_FILTER_WAVELENGTH = 679.0
RADIANCE_OFFSET = 2.54523
RADIANCE_SCALING_FACTOR = 0.0127668
REFLECTANCE_SCALING_FACTOR = 0.000339542
MEX:REFLECTANCE_OFFSET = 0.0676923
/* IMAGE OBJECT DEFINITIONS */
OBJECT = IMAGE
  INTERCHANGE_FORMAT = BINARY
  LINES = 100081
  LINE_SAMPLES = 12968
  SAMPLE_TYPE = UNSIGNED_INTEGER
  SAMPLE_BITS = 8
  BANDS = 1
  BAND_STORAGE_TYPE = BAND_SEQUENTIAL
  MAXIMUM = 119
  MEAN = 73.0698
  MINIMUM = 41
  STANDARD_DEVIATION = 9.42109
END_OBJECT = IMAGE
/* MAP OBJECT DEFINITIONS */
OBJECT = IMAGE_MAP_PROJECTION
  ^DATA_SET_MAP_PROJECTION_CATALOG= "DSMAP.CAT"
  A_AXIS_RADIUS = 3396.0
  B_AXIS_RADIUS = 3396.0
  C_AXIS_RADIUS = 3396.0
  CENTER_LATITUDE = 0.0
  CENTER_LONGITUDE = 324.0
  COORDINATE_SYSTEM_NAME = PLANETOGRAPHIC
  COORDINATE_SYSTEM_TYPE = "BODY-FIXED ROTATING"
  EASTERNMOST_LONGITUDE = 326.916
  FIRST_STANDARD_PARALLEL = "N/A"
  LINE_FIRST_PIXEL = 1
  LINE_LAST_PIXEL = 100081
  LINE_PROJECTION_OFFSET = 202749.75
  MAP_PROJECTION_ROTATION = 0.0
  MAP_PROJECTION_TYPE = SINUSOIDAL
  MAP_RESOLUTION = 2370.85521546667
  MAP_SCALE = 0.025
  MAXIMUM_LATITUDE = 85.5309
  MINIMUM_LATITUDE = 43.3107
  POSITIVE_LONGITUDE_DIRECTION = EAST
  REFERENCE_LATITUDE = "N/A"
  REFERENCE_LONGITUDE = "N/A"
  SAMPLE_FIRST_PIXEL = 1
  SAMPLE_LAST_PIXEL = 12968
  SAMPLE_PROJECTION_OFFSET = 7836.75
  SECOND_STANDARD_PARALLEL = "N/A"
  WESTERNMOST_LONGITUDE = 287.993
END_OBJECT = IMAGE_MAP_PROJECTION
/* The JPEG2000 image data file associated with this label. */
OBJECT = COMPRESSED_FILE
  FILE_NAME = "H1425_0000_S23.JP2"
  RECORD_TYPE = UNDEFINED
  FILE_RECORDS = UNK
  ENCODING_TYPE = "JP2"
  INTERCHANGE_FORMAT = BINARY
  UNCOMPRESSED_FILE_NAME = "H1425_0000_S23.IMG"
  REQUIRED_STORAGE_BYTES = "1297889312"
  ^DESCRIPTION = "JP2INFO.TXT"
END_OBJECT = COMPRESSED_FILE
END
