PDS_VERSION_ID = PDS3
/* FILE DATA ELEMENTS */
RECORD_TYPE = STREAM
/* POINTERS TO DATA OBJECTS */
^COMPRESSED_FILE = "H1428_0000_IR3.JP2"
/* IDENTIFICATION DATA ELEMENTS */
DATA_SET_ID = "MEX-M-HRSC-5-REFDR-MAPPROJECTED-V3.0"
DATA_SET_NAME = "MARS EXPRESS HRSC MAP PROJECTED REFDR V3.0"
DETECTOR_ID = MEX_HRSC_IR
EVENT_TYPE = "MARS-REGIONAL-MAPPING-Te-Im-Mw"
INSTRUMENT_HOST_ID = MEX
INSTRUMENT_HOST_NAME = "MARS EXPRESS"
INSTRUMENT_ID = HRSC
INSTRUMENT_NAME = "HIGH RESOLUTION STEREO CAMERA"
MISSION_NAME = "MARS EXPRESS"
MISSION_PHASE_NAME = MR_Phase_4
PROCESSING_LEVEL_ID = 3
PRODUCT_CREATION_TIME = 2016-03-05T14:51:22.000Z
PRODUCT_ID = "H1428_0000_IR3.JP2"
RELEASE_ID = 0019
REVISION_ID = 0000
/* QUALITY DATA ELEMENTS */
DATA_QUALITY_ID = 1
DATA_QUALITY_DESC = "Data calculated based on original SPICE kernels"
/* TIME DATA ELEMENTS */
SPACECRAFT_CLOCK_START_COUNT = "1/0057508541.57278"
SPACECRAFT_CLOCK_STOP_COUNT = "1/0057509331.49195"
START_TIME = 2005-02-26T14:36:58.291Z
STOP_TIME = 2005-02-26T14:48:25.836Z
/* ORBITAL DATA ELEMENTS */
ASCENDING_NODE_LONGITUDE = 198.58
MAXIMUM_RESOLUTION = 71
FOOTPRINT_POINT_LATITUDE = (50.4092,50.44,49.4886,48.673,47.5758, 46.8303,46.2708,45.6976,45.1191,44.5359 ,43.9457,43.3435,42.7397,42.1268, 41.1855,40.2229,39.5822,38.9281,38.2661 ,37.5931,36.9079,36.2163,35.5116, 34.7948,34.07,33.3334,32.5846,31.8262, 31.0602,30.3029,29.5526,28.8086,28.0724 ,26.7112,26.0078,24.9561,24.2648, 23.5805,22.9027,22.2346,21.5729,20.9181 ,20.2727,19.3124,18.6939,18.0733, 17.4624,16.8583,16.8073,16.8341,16.8523 ,16.8723,16.8906,17.5015,18.1097,18.722 ,19.3421,19.9675,20.599,21.2402,21.8898 ,22.5513,23.2187,24.2333,24.9148, 25.6045,26.6599,28.0139,28.7428,29.4804 ,30.2243,30.9758,31.736,32.4995,33.2471 ,33.9784,34.6986,35.4112,36.1138, 36.8064,37.4896,38.1602,39.1552,39.8052 ,40.4459,41.0746,41.6901,42.307,42.9263 ,43.5238,44.4132,44.9945,45.5719, 46.4271,46.9864,47.7264,48.2732,48.8312 ,49.6297,50.4092)
FOOTPRINT_POINT_LONGITUDE = (29.0426,29.9828,31.1016,31.1605, 31.2414,31.292,31.3318,31.3694,31.4063, 31.4426,31.4782,31.5121,31.5476,31.5817 ,31.6276,31.6728,31.7074,31.7391, 31.7708,31.8017,31.8315,31.8622,31.8912 ,31.9199,31.949,31.9782,32.0067,32.0361 ,32.0646,32.0925,32.1192,32.1446, 32.1692,32.2157,32.2432,32.2785,32.3016 ,32.324,32.3456,32.3677,32.389,32.4098, 32.4312,32.4603,32.4848,32.5052,32.5265 ,32.5475,31.8273,30.8377,30.2291, 29.5436,28.8961,28.5067,28.5476,28.5889 ,28.6292,28.6693,28.709,28.7469,28.7834 ,28.8172,28.8505,28.8986,28.931,28.962, 29.0033,29.0489,29.0714,29.092,29.1115, 29.1293,29.1449,29.1552,29.1651,29.1745 ,29.1819,29.1857,29.1872,29.1861, 29.1831,29.18,29.1672,29.1577,29.1471, 29.1365,29.1266,29.1099,29.0856,29.0678 ,29.0347,29.0117,28.9863,28.9431, 28.9151,28.8705,28.8364,28.7915,28.7367 ,29.0426)
ORBIT_NUMBER = 1428
ORBITAL_ECCENTRICITY = 0.567
ORBITAL_INCLINATION = 86.6
ORBITAL_SEMIMAJOR_AXIS = 8543.37
PERIAPSIS_ALTITUDE = 323.98
PERIAPSIS_ARGUMENT_ANGLE = 109.18
PERIAPSIS_TIME = 2005-02-26T14:31:15.000Z
SPACECRAFT_ORIENTATION = (0.0,1.0,0.0)
^MEX_ORIENTATION_DESC = "MEX_ORIENTATION_DESC.TXT"
SPACECRAFT_POINTING_MODE = NADIR
^MEX_POINTING_DESC = "MEX_POINTING_DESC.TXT"
RIGHT_ASCENSION = -1e+32
DECLINATION = -1e+32
OFFSET_ANGLE = -1e+32
SPACECRAFT_SOLAR_DISTANCE = 2.23936e+08
TARGET_NAME = MARS
/* CAMERA DATA ELEMENTS */
DETECTOR_TEMPERATURE = 17.5549
FOCAL_PLANE_TEMPERATURE = 8.7872
INST_CMPRS_NAME = "DISCRETE COSINE TRANSFORMATION (DCT)"
INST_CMPRS_RATIO = 16.8693
INST_CMPRS_QUALITY = 0
INST_CMPRS_QUANTZ_TBL_ID = 0
INSTRUMENT_TEMPERATURE = 11.4379
LENS_TEMPERATURE = 9.195
MACROPIXEL_SIZE = 4
MISSING_FRAMES = 114
PIXEL_SUBSAMPLING_FLAG = N
SIGNAL_CHAIN_ID = 2
/* RADIOMETRIC DATA ELEMENTS */
BANDWIDTH = 81.0
CENTER_FILTER_WAVELENGTH = 955.5
RADIANCE_OFFSET = 0.857353
RADIANCE_SCALING_FACTOR = 0.0119869
REFLECTANCE_SCALING_FACTOR = 0.00129682
MEX:REFLECTANCE_OFFSET = 0.0927539
/* IMAGE OBJECT DEFINITIONS */
OBJECT = IMAGE
  INTERCHANGE_FORMAT = BINARY
  LINES = 39969
  LINE_SAMPLES = 4055
  SAMPLE_TYPE = UNSIGNED_INTEGER
  SAMPLE_BITS = 8
  BANDS = 1
  BAND_STORAGE_TYPE = BAND_SEQUENTIAL
  MAXIMUM = 246
  MEAN = 158.087
  MINIMUM = 45
  STANDARD_DEVIATION = 35.3521
END_OBJECT = IMAGE
/* MAP OBJECT DEFINITIONS */
OBJECT = IMAGE_MAP_PROJECTION
  ^DATA_SET_MAP_PROJECTION_CATALOG= "DSMAP.CAT"
  A_AXIS_RADIUS = 3396.0
  B_AXIS_RADIUS = 3396.0
  C_AXIS_RADIUS = 3396.0
  CENTER_LATITUDE = 0.0
  CENTER_LONGITUDE = 31.0
  COORDINATE_SYSTEM_NAME = PLANETOGRAPHIC
  COORDINATE_SYSTEM_TYPE = "BODY-FIXED ROTATING"
  EASTERNMOST_LONGITUDE = 32.5475
  FIRST_STANDARD_PARALLEL = "N/A"
  LINE_FIRST_PIXEL = 1
  LINE_LAST_PIXEL = 39969
  LINE_PROJECTION_OFFSET = 59916.625
  MAP_PROJECTION_ROTATION = 0.0
  MAP_PROJECTION_TYPE = SINUSOIDAL
  MAP_RESOLUTION = 1185.42760773333
  MAP_SCALE = 0.05
  MAXIMUM_LATITUDE = 50.44
  MINIMUM_LATITUDE = 16.8073
  POSITIVE_LONGITUDE_DIRECTION = EAST
  REFERENCE_LATITUDE = "N/A"
  REFERENCE_LONGITUDE = "N/A"
  SAMPLE_FIRST_PIXEL = 1
  SAMPLE_LAST_PIXEL = 4055
  SAMPLE_PROJECTION_OFFSET = 2606.875
  SECOND_STANDARD_PARALLEL = "N/A"
  WESTERNMOST_LONGITUDE = 28.5067
END_OBJECT = IMAGE_MAP_PROJECTION
/* The JPEG2000 image data file associated with this label. */
OBJECT = COMPRESSED_FILE
  FILE_NAME = "H1428_0000_IR3.JP2"
  RECORD_TYPE = UNDEFINED
  FILE_RECORDS = UNK
  ENCODING_TYPE = "JP2"
  INTERCHANGE_FORMAT = BINARY
  UNCOMPRESSED_FILE_NAME = "H1428_0000_IR3.IMG"
  REQUIRED_STORAGE_BYTES = "162098625"
  ^DESCRIPTION = "JP2INFO.TXT"
END_OBJECT = COMPRESSED_FILE
END
