PDS_VERSION_ID = PDS3
/* FILE DATA ELEMENTS */
RECORD_TYPE = STREAM
/* POINTERS TO DATA OBJECTS */
^COMPRESSED_FILE = "H1433_0000_IR3.JP2"
/* IDENTIFICATION DATA ELEMENTS */
DATA_SET_ID = "MEX-M-HRSC-5-REFDR-MAPPROJECTED-V3.0"
DATA_SET_NAME = "MARS EXPRESS HRSC MAP PROJECTED REFDR V3.0"
DETECTOR_ID = MEX_HRSC_IR
EVENT_TYPE = "MARS-REGIONAL-MAPPING-Gl-Pf-Eo"
INSTRUMENT_HOST_ID = MEX
INSTRUMENT_HOST_NAME = "MARS EXPRESS"
INSTRUMENT_ID = HRSC
INSTRUMENT_NAME = "HIGH RESOLUTION STEREO CAMERA"
MISSION_NAME = "MARS EXPRESS"
MISSION_PHASE_NAME = MR_Phase_4
PROCESSING_LEVEL_ID = 3
PRODUCT_CREATION_TIME = 2016-03-05T14:51:22.000Z
PRODUCT_ID = "H1433_0000_IR3.JP2"
RELEASE_ID = 0019
REVISION_ID = 0000
/* QUALITY DATA ELEMENTS */
DATA_QUALITY_ID = 1
DATA_QUALITY_DESC = "Data calculated based on original SPICE kernels"
/* TIME DATA ELEMENTS */
SPACECRAFT_CLOCK_START_COUNT = "1/0057628913.57332"
SPACECRAFT_CLOCK_STOP_COUNT = "1/0057629380.21621"
START_TIME = 2005-02-28T00:03:13.586Z
STOP_TIME = 2005-02-28T00:09:47.823Z
/* ORBITAL DATA ELEMENTS */
ASCENDING_NODE_LONGITUDE = 198.49
MAXIMUM_RESOLUTION = 54.6
FOOTPRINT_POINT_LATITUDE = (85.9537,86.5554,86.9529,87.076,87.1719 ,87.2713,87.2464,87.1012,86.8595, 86.5388,86.1645,85.7562,85.3165,84.8577 ,84.3935,83.9146,83.4265,82.9318, 82.4477,81.7128,81.2185,80.7188,80.2197 ,79.7319,78.9971,78.5062,78.0136, 77.5208,77.026,76.5314,75.7896,75.3099, 74.8306,74.3506,73.6306,72.9102,72.1913 ,71.7117,71.2325,70.7533,70.2745, 69.7962,69.3179,68.8299,68.3366,67.8436 ,67.3512,66.8595,66.3685,65.8783, 65.7569,65.7125,65.9285,66.4156,66.9032 ,67.3913,67.8798,68.3686,69.0987,69.572 ,70.0456,70.5193,70.9932,71.4671, 71.9401,72.4135,73.123,73.8315,74.3033, 75.0095,75.4793,75.9613,76.6854,77.1674 ,77.8857,78.3616,78.8353,79.54,80.009, 80.4857,80.9569,81.4208,81.8782,82.3269 ,83.0003,83.4326,83.8477,84.4384, 84.8008,85.1279,85.4143,85.6487,85.8175 ,85.9292,85.9018,85.7892,85.7017, 85.5949,85.4696,85.9537)
FOOTPRINT_POINT_LONGITUDE = (147.008,141.574,147.524,152.824,158.55 ,170.502,182.763,194.215,204.038, 212.263,218.903,224.216,228.57,232.147, 235.053,237.51,239.605,241.406,242.924, 244.863,245.973,246.962,247.846,248.62, 249.652,250.265,250.826,251.343,251.818 ,252.259,252.859,253.212,253.543, 253.853,254.282,254.672,255.031,255.253 ,255.463,255.662,255.85,256.029,256.199 ,256.365,256.524,256.675,256.819, 256.957,257.088,257.213,255.765,254.89, 254.296,254.124,253.943,253.753,253.553 ,253.342,253.004,252.771,252.524, 252.264,251.988,251.697,251.39,251.063, 250.534,249.955,249.536,248.856,248.362 ,247.818,246.92,246.258,245.166,244.36, 243.482,242.01,240.901,239.646,238.258, 236.722,235.003,233.078,229.611,226.903 ,223.818,218.261,213.838,208.749, 202.861,196.187,188.915,176.829,168.668 ,160.655,156.789,153.091,149.572, 147.008)
ORBIT_NUMBER = 1433
ORBITAL_ECCENTRICITY = 0.567
ORBITAL_INCLINATION = 86.6
ORBITAL_SEMIMAJOR_AXIS = 8539.84
PERIAPSIS_ALTITUDE = 323.59
PERIAPSIS_ARGUMENT_ANGLE = 108.27
PERIAPSIS_TIME = 2005-02-28T00:07:56.000Z
SPACECRAFT_ORIENTATION = (0.0,1.0,0.0)
^MEX_ORIENTATION_DESC = "MEX_ORIENTATION_DESC.TXT"
SPACECRAFT_POINTING_MODE = NADIR
^MEX_POINTING_DESC = "MEX_POINTING_DESC.TXT"
RIGHT_ASCENSION = -1e+32
DECLINATION = -1e+32
OFFSET_ANGLE = -1e+32
SPACECRAFT_SOLAR_DISTANCE = 2.23663e+08
TARGET_NAME = MARS
/* CAMERA DATA ELEMENTS */
DETECTOR_TEMPERATURE = 17.5549
FOCAL_PLANE_TEMPERATURE = 8.3794
INST_CMPRS_NAME = "DISCRETE COSINE TRANSFORMATION (DCT)"
INST_CMPRS_RATIO = 20.8189
INST_CMPRS_QUALITY = 0
INST_CMPRS_QUANTZ_TBL_ID = 0
INSTRUMENT_TEMPERATURE = 11.0301
LENS_TEMPERATURE = 8.5833
MACROPIXEL_SIZE = 4
MISSING_FRAMES = 0
PIXEL_SUBSAMPLING_FLAG = N
SIGNAL_CHAIN_ID = 2
/* RADIOMETRIC DATA ELEMENTS */
BANDWIDTH = 81.0
CENTER_FILTER_WAVELENGTH = 955.5
RADIANCE_OFFSET = 0.137456
RADIANCE_SCALING_FACTOR = 0.00545033
REFLECTANCE_SCALING_FACTOR = 0.000588224
MEX:REFLECTANCE_OFFSET = 0.0148349
/* IMAGE OBJECT DEFINITIONS */
OBJECT = IMAGE
  INTERCHANGE_FORMAT = BINARY
  LINES = 25572
  LINE_SAMPLES = 13763
  SAMPLE_TYPE = UNSIGNED_INTEGER
  SAMPLE_BITS = 8
  BANDS = 1
  BAND_STORAGE_TYPE = BAND_SEQUENTIAL
  MAXIMUM = 105
  MEAN = 54.5728
  MINIMUM = 5
  STANDARD_DEVIATION = 24.0644
END_OBJECT = IMAGE
/* MAP OBJECT DEFINITIONS */
OBJECT = IMAGE_MAP_PROJECTION
  ^DATA_SET_MAP_PROJECTION_CATALOG= "DSMAP.CAT"
  A_AXIS_RADIUS = 3396.0
  B_AXIS_RADIUS = 3396.0
  C_AXIS_RADIUS = 3396.0
  CENTER_LATITUDE = 0.0
  CENTER_LONGITUDE = 248.0
  COORDINATE_SYSTEM_NAME = PLANETOGRAPHIC
  COORDINATE_SYSTEM_TYPE = "BODY-FIXED ROTATING"
  EASTERNMOST_LONGITUDE = 257.213
  FIRST_STANDARD_PARALLEL = "N/A"
  LINE_FIRST_PIXEL = 1
  LINE_LAST_PIXEL = 25572
  LINE_PROJECTION_OFFSET = 103439.625
  MAP_PROJECTION_ROTATION = 0.0
  MAP_PROJECTION_TYPE = SINUSOIDAL
  MAP_RESOLUTION = 1185.42760773333
  MAP_SCALE = 0.05
  MAXIMUM_LATITUDE = 87.2713
  MINIMUM_LATITUDE = 65.71250000000001
  POSITIVE_LONGITUDE_DIRECTION = EAST
  REFERENCE_LATITUDE = "N/A"
  REFERENCE_LONGITUDE = "N/A"
  SAMPLE_FIRST_PIXEL = 1
  SAMPLE_LAST_PIXEL = 13763
  SAMPLE_PROJECTION_OFFSET = 9332.125
  SECOND_STANDARD_PARALLEL = "N/A"
  WESTERNMOST_LONGITUDE = 141.574
END_OBJECT = IMAGE_MAP_PROJECTION
/* The JPEG2000 image data file associated with this label. */
OBJECT = COMPRESSED_FILE
  FILE_NAME = "H1433_0000_IR3.JP2"
  RECORD_TYPE = UNDEFINED
  FILE_RECORDS = UNK
  ENCODING_TYPE = "JP2"
  INTERCHANGE_FORMAT = BINARY
  UNCOMPRESSED_FILE_NAME = "H1433_0000_IR3.IMG"
  REQUIRED_STORAGE_BYTES = "351988725"
  ^DESCRIPTION = "JP2INFO.TXT"
END_OBJECT = COMPRESSED_FILE
END
