PDS_VERSION_ID = PDS3
/* FILE DATA ELEMENTS */
RECORD_TYPE = STREAM
/* POINTERS TO DATA OBJECTS */
^COMPRESSED_FILE = "H1433_0000_S13.JP2"
/* IDENTIFICATION DATA ELEMENTS */
DATA_SET_ID = "MEX-M-HRSC-5-REFDR-MAPPROJECTED-V3.0"
DATA_SET_NAME = "MARS EXPRESS HRSC MAP PROJECTED REFDR V3.0"
DETECTOR_ID = MEX_HRSC_S1
EVENT_TYPE = "MARS-REGIONAL-MAPPING-Gl-Pf-Eo"
INSTRUMENT_HOST_ID = MEX
INSTRUMENT_HOST_NAME = "MARS EXPRESS"
INSTRUMENT_ID = HRSC
INSTRUMENT_NAME = "HIGH RESOLUTION STEREO CAMERA"
MISSION_NAME = "MARS EXPRESS"
MISSION_PHASE_NAME = MR_Phase_4
PROCESSING_LEVEL_ID = 3
PRODUCT_CREATION_TIME = 2016-03-05T14:51:22.000Z
PRODUCT_ID = "H1433_0000_S13.JP2"
RELEASE_ID = 0019
REVISION_ID = 0000
/* QUALITY DATA ELEMENTS */
DATA_QUALITY_ID = 1
DATA_QUALITY_DESC = "Data calculated based on original SPICE kernels"
/* TIME DATA ELEMENTS */
SPACECRAFT_CLOCK_START_COUNT = "1/0057628913.57332"
SPACECRAFT_CLOCK_STOP_COUNT = "1/0057629380.21621"
START_TIME = 2005-02-28T00:03:19.734Z
STOP_TIME = 2005-02-28T00:09:52.953Z
/* ORBITAL DATA ELEMENTS */
ASCENDING_NODE_LONGITUDE = 198.49
MAXIMUM_RESOLUTION = 27.8
FOOTPRINT_POINT_LATITUDE = (85.7737,86.1896,86.5378,86.9613, 87.1766,87.2741,87.2454,87.0979,86.8516 ,86.527,86.1542,85.742,85.0711,84.6148, 84.1379,83.4034,82.9161,82.4297,81.691, 81.1944,80.4458,79.9571,79.4658,78.9738 ,78.4809,77.9864,77.4921,76.9955, 76.4995,76.0074,75.5271,74.8064,74.3254 ,73.8447,73.3638,72.8832,72.4033, 71.9234,71.4437,70.9642,70.4851,70.0068 ,69.5284,68.7899,68.2969,67.8047, 67.3131,66.8222,66.3324,65.8433,65.7488 ,65.6901,66.1759,66.6622,67.1491, 67.6367,68.1247,68.6136,69.3456,69.8191 ,70.2927,70.7667,71.2407,71.7142, 72.1878,72.6617,73.1352,73.8449,74.554, 75.0252,75.4962,75.9691,76.6956,77.1788 ,77.8996,78.3772,79.0896,79.5603, 80.0275,80.5007,80.9741,81.4402,81.8997 ,82.3506,83.0189,83.4535,83.8706, 84.2653,84.6416,84.9889,85.2958,85.6632 ,85.8297,85.9205,85.9022,85.7856, 85.6956,85.5852,85.4571,85.7737)
FOOTPRINT_POINT_LONGITUDE = (148.781,145.698,142.429,147.774, 158.774,170.825,183.168,194.5,204.361, 212.566,219.102,224.416,230.613,233.777 ,236.451,239.722,241.484,243.0,244.937, 246.046,247.478,248.293,249.031,249.702 ,250.314,250.875,251.39,251.865,252.304 ,252.707,253.073,253.577,253.886, 254.176,254.448,254.704,254.945,255.173 ,255.389,255.592,255.785,255.968, 256.142,256.394,256.553,256.703,256.847 ,256.984,257.114,257.239,255.491, 254.373,254.206,254.03,253.846,253.651, 253.446,253.229,252.883,252.643,252.389 ,252.121,251.838,251.539,251.222, 250.884,250.526,249.946,249.305,248.844 ,248.348,247.814,246.912,246.249, 245.152,244.342,242.986,241.977,240.87, 239.62,238.222,236.674,234.939,232.995, 229.535,226.797,223.675,220.123,215.976 ,211.15,205.61,195.853,188.486,180.577, 168.149,160.193,156.331,152.608,149.086 ,148.781)
ORBIT_NUMBER = 1433
ORBITAL_ECCENTRICITY = 0.567
ORBITAL_INCLINATION = 86.6
ORBITAL_SEMIMAJOR_AXIS = 8539.84
PERIAPSIS_ALTITUDE = 323.59
PERIAPSIS_ARGUMENT_ANGLE = 108.27
PERIAPSIS_TIME = 2005-02-28T00:07:56.000Z
SPACECRAFT_ORIENTATION = (0.0,1.0,0.0)
^MEX_ORIENTATION_DESC = "MEX_ORIENTATION_DESC.TXT"
SPACECRAFT_POINTING_MODE = NADIR
^MEX_POINTING_DESC = "MEX_POINTING_DESC.TXT"
RIGHT_ASCENSION = -1e+32
DECLINATION = -1e+32
OFFSET_ANGLE = -1e+32
SPACECRAFT_SOLAR_DISTANCE = 2.23663e+08
TARGET_NAME = MARS
/* CAMERA DATA ELEMENTS */
DETECTOR_TEMPERATURE = 17.5549
FOCAL_PLANE_TEMPERATURE = 8.3794
INST_CMPRS_NAME = "DISCRETE COSINE TRANSFORMATION (DCT)"
INST_CMPRS_RATIO = 10.8596
INST_CMPRS_QUALITY = 0
INST_CMPRS_QUANTZ_TBL_ID = 0
INSTRUMENT_TEMPERATURE = 11.0301
LENS_TEMPERATURE = 8.5833
MACROPIXEL_SIZE = 2
MISSING_FRAMES = 0
PIXEL_SUBSAMPLING_FLAG = N
SIGNAL_CHAIN_ID = 1
/* RADIOMETRIC DATA ELEMENTS */
BANDWIDTH = 180.0
CENTER_FILTER_WAVELENGTH = 677.0
RADIANCE_OFFSET = 0.861709
RADIANCE_SCALING_FACTOR = 0.0232042
REFLECTANCE_SCALING_FACTOR = 0.00060562
MEX:REFLECTANCE_OFFSET = 0.0224902
/* IMAGE OBJECT DEFINITIONS */
OBJECT = IMAGE
  INTERCHANGE_FORMAT = BINARY
  LINES = 51143
  LINE_SAMPLES = 27525
  SAMPLE_TYPE = UNSIGNED_INTEGER
  SAMPLE_BITS = 8
  BANDS = 1
  BAND_STORAGE_TYPE = BAND_SEQUENTIAL
  MAXIMUM = 129
  MEAN = 66.8444
  MINIMUM = 13
  STANDARD_DEVIATION = 25.8301
END_OBJECT = IMAGE
/* MAP OBJECT DEFINITIONS */
OBJECT = IMAGE_MAP_PROJECTION
  ^DATA_SET_MAP_PROJECTION_CATALOG= "DSMAP.CAT"
  A_AXIS_RADIUS = 3396.0
  B_AXIS_RADIUS = 3396.0
  C_AXIS_RADIUS = 3396.0
  CENTER_LATITUDE = 0.0
  CENTER_LONGITUDE = 248.0
  COORDINATE_SYSTEM_NAME = PLANETOGRAPHIC
  COORDINATE_SYSTEM_TYPE = "BODY-FIXED ROTATING"
  EASTERNMOST_LONGITUDE = 257.239
  FIRST_STANDARD_PARALLEL = "N/A"
  LINE_FIRST_PIXEL = 1
  LINE_LAST_PIXEL = 51143
  LINE_PROJECTION_OFFSET = 206879.75
  MAP_PROJECTION_ROTATION = 0.0
  MAP_PROJECTION_TYPE = SINUSOIDAL
  MAP_RESOLUTION = 2370.85521546667
  MAP_SCALE = 0.025
  MAXIMUM_LATITUDE = 87.2741
  MINIMUM_LATITUDE = 65.6901
  POSITIVE_LONGITUDE_DIRECTION = EAST
  REFERENCE_LATITUDE = "N/A"
  REFERENCE_LONGITUDE = "N/A"
  SAMPLE_FIRST_PIXEL = 1
  SAMPLE_LAST_PIXEL = 27525
  SAMPLE_PROJECTION_OFFSET = 18664.75
  SECOND_STANDARD_PARALLEL = "N/A"
  WESTERNMOST_LONGITUDE = 142.429
END_OBJECT = IMAGE_MAP_PROJECTION
/* The JPEG2000 image data file associated with this label. */
OBJECT = COMPRESSED_FILE
  FILE_NAME = "H1433_0000_S13.JP2"
  RECORD_TYPE = UNDEFINED
  FILE_RECORDS = UNK
  ENCODING_TYPE = "JP2"
  INTERCHANGE_FORMAT = BINARY
  UNCOMPRESSED_FILE_NAME = "H1433_0000_S13.IMG"
  REQUIRED_STORAGE_BYTES = "1407793650"
  ^DESCRIPTION = "JP2INFO.TXT"
END_OBJECT = COMPRESSED_FILE
END
