PDS_VERSION_ID = PDS3
/* FILE DATA ELEMENTS */
RECORD_TYPE = STREAM
/* POINTERS TO DATA OBJECTS */
^COMPRESSED_FILE = "H1433_0009_ND3.JP2"
/* IDENTIFICATION DATA ELEMENTS */
DATA_SET_ID = "MEX-M-HRSC-5-REFDR-MAPPROJECTED-V3.0"
DATA_SET_NAME = "MARS EXPRESS HRSC MAP PROJECTED REFDR V3.0"
DETECTOR_ID = MEX_HRSC_NADIR
EVENT_TYPE = "MARS-REGIONAL-MAPPING-Vo-Te-Fl"
INSTRUMENT_HOST_ID = MEX
INSTRUMENT_HOST_NAME = "MARS EXPRESS"
INSTRUMENT_ID = HRSC
INSTRUMENT_NAME = "HIGH RESOLUTION STEREO CAMERA"
MISSION_NAME = "MARS EXPRESS"
MISSION_PHASE_NAME = MR_Phase_4
PROCESSING_LEVEL_ID = 3
PRODUCT_CREATION_TIME = 2016-03-05T14:51:22.000Z
PRODUCT_ID = "H1433_0009_ND3.JP2"
RELEASE_ID = 0019
REVISION_ID = 0000
/* QUALITY DATA ELEMENTS */
DATA_QUALITY_ID = 1
DATA_QUALITY_DESC = "Data calculated based on original SPICE kernels"
/* TIME DATA ELEMENTS */
SPACECRAFT_CLOCK_START_COUNT = "1/0057629567.56192"
SPACECRAFT_CLOCK_STOP_COUNT = "1/0057630150.04619"
START_TIME = 2005-02-28T00:13:32.575Z
STOP_TIME = 2005-02-28T00:20:48.586Z
/* ORBITAL DATA ELEMENTS */
ASCENDING_NODE_LONGITUDE = 198.49
MAXIMUM_RESOLUTION = 16.6
FOOTPRINT_POINT_LATITUDE = (49.7707,49.7945,49.8133,49.0082, 47.9858,47.5733,46.943,46.5225,46.0931, 45.6643,45.2281,44.7912,44.3475,43.9028 ,43.4505,42.7668,42.3064,41.8388, 41.3691,40.893,40.4119,39.9275,39.4363, 38.9395,38.438,37.9317,37.4184,36.8991, 36.3741,35.8434,35.3063,34.7627,34.2122 ,33.655,33.0904,32.519,31.9402,31.3538, 30.7662,30.1816,29.6001,29.0217,28.4463 ,27.874,27.3049,26.7388,26.1759,25.616, 24.76,24.7695,24.7732,24.7756,24.7744, 25.3264,25.8816,26.4399,27.0015,27.5661 ,28.134,28.7049,29.2791,29.8563,30.4367 ,31.313,31.8974,32.4741,33.0436,33.6063 ,34.1618,34.7106,35.2526,35.7882, 36.3174,36.8411,37.359,37.8706,38.3757, 38.876,39.3717,39.8613,40.3446,40.8245, 41.2992,41.7679,42.2345,42.6935,43.3756 ,43.8269,44.2704,44.7132,45.1488, 45.5842,46.0117,46.4402,46.8596,47.4886 ,47.8999,48.5167,49.3236,49.7707)
FOOTPRINT_POINT_LONGITUDE = (257.949,258.682,259.458,259.519, 259.593,259.621,259.663,259.691,259.718 ,259.744,259.77,259.796,259.822,259.847 ,259.871,259.907,259.93,259.953,259.975 ,259.997,260.018,260.04,260.062,260.084 ,260.105,260.127,260.148,260.169, 260.189,260.209,260.229,260.248,260.266 ,260.284,260.303,260.32,260.338,260.356 ,260.372,260.389,260.405,260.42,260.435 ,260.45,260.464,260.478,260.491,260.504 ,260.344,259.538,259.032,258.286, 257.495,257.515,257.533,257.551,257.568 ,257.584,257.599,257.613,257.626, 257.638,257.649,257.664,257.671,257.678 ,257.684,257.688,257.691,257.693, 257.695,257.695,257.695,257.694,257.691 ,257.688,257.683,257.677,257.67,257.661 ,257.652,257.64,257.628,257.615,257.6, 257.586,257.562,257.544,257.527,257.507 ,257.487,257.466,257.444,257.422, 257.398,257.361,257.336,257.295,257.238 ,257.949)
ORBIT_NUMBER = 1433
ORBITAL_ECCENTRICITY = 0.567
ORBITAL_INCLINATION = 86.6
ORBITAL_SEMIMAJOR_AXIS = 8539.84
PERIAPSIS_ALTITUDE = 323.59
PERIAPSIS_ARGUMENT_ANGLE = 108.27
PERIAPSIS_TIME = 2005-02-28T00:07:56.000Z
SPACECRAFT_ORIENTATION = (0.0,1.0,0.0)
^MEX_ORIENTATION_DESC = "MEX_ORIENTATION_DESC.TXT"
SPACECRAFT_POINTING_MODE = NADIR
^MEX_POINTING_DESC = "MEX_POINTING_DESC.TXT"
RIGHT_ASCENSION = -1e+32
DECLINATION = -1e+32
OFFSET_ANGLE = -1e+32
SPACECRAFT_SOLAR_DISTANCE = 2.23663e+08
TARGET_NAME = MARS
/* CAMERA DATA ELEMENTS */
DETECTOR_TEMPERATURE = 19.5939
FOCAL_PLANE_TEMPERATURE = 8.5833
INST_CMPRS_NAME = "DISCRETE COSINE TRANSFORMATION (DCT)"
INST_CMPRS_RATIO = 6.44532
INST_CMPRS_QUALITY = 0
INST_CMPRS_QUANTZ_TBL_ID = 0
INSTRUMENT_TEMPERATURE = 13.8847
LENS_TEMPERATURE = 8.9911
MACROPIXEL_SIZE = 1
MISSING_FRAMES = 0
PIXEL_SUBSAMPLING_FLAG = N
SIGNAL_CHAIN_ID = 0
/* RADIOMETRIC DATA ELEMENTS */
BANDWIDTH = 177.0
CENTER_FILTER_WAVELENGTH = 677.5
RADIANCE_OFFSET = 4.75461
RADIANCE_SCALING_FACTOR = 0.0414345
REFLECTANCE_SCALING_FACTOR = 0.00110111
MEX:REFLECTANCE_OFFSET = 0.126353
/* IMAGE OBJECT DEFINITIONS */
OBJECT = IMAGE
  INTERCHANGE_FORMAT = BINARY
  LINES = 118811
  LINE_SAMPLES = 13386
  SAMPLE_TYPE = UNSIGNED_INTEGER
  SAMPLE_BITS = 8
  BANDS = 1
  BAND_STORAGE_TYPE = BAND_SEQUENTIAL
  MAXIMUM = 176
  MEAN = 100.35
  MINIMUM = 18
  STANDARD_DEVIATION = 11.9169
END_OBJECT = IMAGE
/* MAP OBJECT DEFINITIONS */
OBJECT = IMAGE_MAP_PROJECTION
  ^DATA_SET_MAP_PROJECTION_CATALOG= "DSMAP.CAT"
  A_AXIS_RADIUS = 3396.0
  B_AXIS_RADIUS = 3396.0
  C_AXIS_RADIUS = 3396.0
  CENTER_LATITUDE = 0.0
  CENTER_LONGITUDE = 259.0
  COORDINATE_SYSTEM_NAME = PLANETOGRAPHIC
  COORDINATE_SYSTEM_TYPE = "BODY-FIXED ROTATING"
  EASTERNMOST_LONGITUDE = 260.504
  FIRST_STANDARD_PARALLEL = "N/A"
  LINE_FIRST_PIXEL = 1
  LINE_LAST_PIXEL = 118811
  LINE_PROJECTION_OFFSET = 236203.0
  MAP_PROJECTION_ROTATION = 0.0
  MAP_PROJECTION_TYPE = SINUSOIDAL
  MAP_RESOLUTION = 4741.71043093333
  MAP_SCALE = 0.0125
  MAXIMUM_LATITUDE = 49.8133
  MINIMUM_LATITUDE = 24.76
  POSITIVE_LONGITUDE_DIRECTION = EAST
  REFERENCE_LATITUDE = "N/A"
  REFERENCE_LONGITUDE = "N/A"
  SAMPLE_FIRST_PIXEL = 1
  SAMPLE_LAST_PIXEL = 13386
  SAMPLE_PROJECTION_OFFSET = 6650.0
  SECOND_STANDARD_PARALLEL = "N/A"
  WESTERNMOST_LONGITUDE = 257.238
END_OBJECT = IMAGE_MAP_PROJECTION
/* The JPEG2000 image data file associated with this label. */
OBJECT = COMPRESSED_FILE
  FILE_NAME = "H1433_0009_ND3.JP2"
  RECORD_TYPE = UNDEFINED
  FILE_RECORDS = UNK
  ENCODING_TYPE = "JP2"
  INTERCHANGE_FORMAT = BINARY
  UNCOMPRESSED_FILE_NAME = "H1433_0009_ND3.IMG"
  REQUIRED_STORAGE_BYTES = "1590444204"
  ^DESCRIPTION = "JP2INFO.TXT"
END_OBJECT = COMPRESSED_FILE
END
