PDS_VERSION_ID = PDS3
/* FILE DATA ELEMENTS */
RECORD_TYPE = STREAM
/* POINTERS TO DATA OBJECTS */
^COMPRESSED_FILE = "H1437_0001_BL3.JP2"
/* IDENTIFICATION DATA ELEMENTS */
DATA_SET_ID = "MEX-M-HRSC-5-REFDR-MAPPROJECTED-V3.0"
DATA_SET_NAME = "MARS EXPRESS HRSC MAP PROJECTED REFDR V3.0"
DETECTOR_ID = MEX_HRSC_BLUE
EVENT_TYPE = "MARS-REGIONAL-MAPPING-Vo-Te"
INSTRUMENT_HOST_ID = MEX
INSTRUMENT_HOST_NAME = "MARS EXPRESS"
INSTRUMENT_ID = HRSC
INSTRUMENT_NAME = "HIGH RESOLUTION STEREO CAMERA"
MISSION_NAME = "MARS EXPRESS"
MISSION_PHASE_NAME = MR_Phase_4
PROCESSING_LEVEL_ID = 3
PRODUCT_CREATION_TIME = 2016-03-05T14:51:22.000Z
PRODUCT_ID = "H1437_0001_BL3.JP2"
RELEASE_ID = 0019
REVISION_ID = 0000
/* QUALITY DATA ELEMENTS */
DATA_QUALITY_ID = 1
DATA_QUALITY_DESC = "Data calculated based on original SPICE kernels"
/* TIME DATA ELEMENTS */
SPACECRAFT_CLOCK_START_COUNT = "1/0057726508.57954"
SPACECRAFT_CLOCK_STOP_COUNT = "1/0057727209.23279"
START_TIME = 2005-03-01T03:09:15.950Z
STOP_TIME = 2005-03-01T03:17:03.252Z
/* ORBITAL DATA ELEMENTS */
ASCENDING_NODE_LONGITUDE = 198.4
MAXIMUM_RESOLUTION = 83.1
FOOTPRINT_POINT_LATITUDE = (40.7274,40.7424,40.2797,39.349,38.8771 ,38.3977,37.9161,37.4292,36.934,36.4347 ,35.9298,35.4194,34.9036,34.3812,33.852 ,33.3169,32.7754,32.2274,31.6817, 31.1391,30.5982,30.0592,29.5232,28.9901 ,28.459,27.9304,27.4036,26.879,26.3578, 25.8387,25.321,24.8062,24.2948,23.7859, 23.2811,22.7856,22.287,21.5407,21.0468, 20.5557,20.068,19.5841,18.8609,18.3779, 17.8997,17.4248,16.9492,16.4729,15.9985 ,15.4556,15.4756,15.493,15.5004,15.5061 ,16.4377,17.3784,17.8519,18.3274, 18.8056,19.2848,19.7671,20.2519,20.7388 ,21.2283,21.7208,22.2157,22.7137, 23.2044,23.7068,24.2124,24.7205,25.2315 ,25.7455,26.2619,26.7798,27.3018, 27.8257,28.3512,29.1455,29.6767,30.2115 ,30.7482,31.2875,31.8292,32.3735,33.187 ,33.7213,34.2488,34.7702,35.2859, 35.7958,36.3003,36.7997,37.2915,37.78, 38.2628,39.2103,39.9087,40.5974, 40.7274)
FOOTPRINT_POINT_LONGITUDE = (225.255,225.95,226.496,226.541,226.561 ,226.584,226.604,226.625,226.647, 226.667,226.687,226.707,226.727,226.747 ,226.767,226.786,226.804,226.822, 226.839,226.855,226.871,226.888,226.903 ,226.917,226.931,226.944,226.958, 226.972,226.985,226.997,227.011,227.023 ,227.034,227.045,227.053,227.051, 227.057,227.069,227.076,227.083,227.088 ,227.091,227.098,227.107,227.114, 227.119,227.128,227.141,227.154,226.737 ,225.872,224.904,224.197,223.575, 223.638,223.698,223.725,223.751,223.777 ,223.799,223.822,223.844,223.864, 223.885,223.905,223.924,223.944,223.944 ,223.961,223.979,223.996,224.013,224.03 ,224.046,224.059,224.075,224.089,224.1, 224.118,224.126,224.135,224.142,224.148 ,224.153,224.158,224.163,224.166, 224.167,224.167,224.167,224.165,224.162 ,224.159,224.153,224.15,224.144,224.122 ,224.106,224.089,225.255)
ORBIT_NUMBER = 1437
ORBITAL_ECCENTRICITY = 0.566
ORBITAL_INCLINATION = 86.62
ORBITAL_SEMIMAJOR_AXIS = 8537.78
PERIAPSIS_ALTITUDE = 323.65
PERIAPSIS_ARGUMENT_ANGLE = 107.57
PERIAPSIS_TIME = 2005-03-01T03:01:08.000Z
SPACECRAFT_ORIENTATION = (0.0,1.0,0.0)
^MEX_ORIENTATION_DESC = "MEX_ORIENTATION_DESC.TXT"
SPACECRAFT_POINTING_MODE = ACROSSTRACK
^MEX_POINTING_DESC = "MEX_POINTING_DESC.TXT"
RIGHT_ASCENSION = -1e+32
DECLINATION = -1e+32
OFFSET_ANGLE = -0.229
SPACECRAFT_SOLAR_DISTANCE = 2.23446e+08
TARGET_NAME = MARS
/* CAMERA DATA ELEMENTS */
DETECTOR_TEMPERATURE = 19.7978
FOCAL_PLANE_TEMPERATURE = 8.7872
INST_CMPRS_NAME = "DISCRETE COSINE TRANSFORMATION (DCT)"
INST_CMPRS_RATIO = 11.5588
INST_CMPRS_QUALITY = 0
INST_CMPRS_QUANTZ_TBL_ID = 0
INSTRUMENT_TEMPERATURE = 13.6808
LENS_TEMPERATURE = 9.6028
MACROPIXEL_SIZE = 4
MISSING_FRAMES = 0
PIXEL_SUBSAMPLING_FLAG = N
SIGNAL_CHAIN_ID = 2
/* RADIOMETRIC DATA ELEMENTS */
BANDWIDTH = 76.0
CENTER_FILTER_WAVELENGTH = 444.0
RADIANCE_OFFSET = 0.714988
RADIANCE_SCALING_FACTOR = 0.00385066
REFLECTANCE_SCALING_FACTOR = 0.000197529
MEX:REFLECTANCE_OFFSET = 0.0366771
/* IMAGE OBJECT DEFINITIONS */
OBJECT = IMAGE
  INTERCHANGE_FORMAT = BINARY
  LINES = 15007
  LINE_SAMPLES = 2199
  SAMPLE_TYPE = UNSIGNED_INTEGER
  SAMPLE_BITS = 8
  BANDS = 1
  BAND_STORAGE_TYPE = BAND_SEQUENTIAL
  MAXIMUM = 188
  MEAN = 124.065
  MINIMUM = 67
  STANDARD_DEVIATION = 12.5114
END_OBJECT = IMAGE
/* MAP OBJECT DEFINITIONS */
OBJECT = IMAGE_MAP_PROJECTION
  ^DATA_SET_MAP_PROJECTION_CATALOG= "DSMAP.CAT"
  A_AXIS_RADIUS = 3396.0
  B_AXIS_RADIUS = 3396.0
  C_AXIS_RADIUS = 3396.0
  CENTER_LATITUDE = 0.0
  CENTER_LONGITUDE = 226.0
  COORDINATE_SYSTEM_NAME = PLANETOGRAPHIC
  COORDINATE_SYSTEM_TYPE = "BODY-FIXED ROTATING"
  EASTERNMOST_LONGITUDE = 227.154
  FIRST_STANDARD_PARALLEL = "N/A"
  LINE_FIRST_PIXEL = 1
  LINE_LAST_PIXEL = 15007
  LINE_PROJECTION_OFFSET = 24150.875
  MAP_PROJECTION_ROTATION = 0.0
  MAP_PROJECTION_TYPE = SINUSOIDAL
  MAP_RESOLUTION = 592.713803866667
  MAP_SCALE = 0.1
  MAXIMUM_LATITUDE = 40.7424
  MINIMUM_LATITUDE = 15.4556
  POSITIVE_LONGITUDE_DIRECTION = EAST
  REFERENCE_LATITUDE = "N/A"
  REFERENCE_LONGITUDE = "N/A"
  SAMPLE_FIRST_PIXEL = 1
  SAMPLE_LAST_PIXEL = 2199
  SAMPLE_PROJECTION_OFFSET = 1451.875
  SECOND_STANDARD_PARALLEL = "N/A"
  WESTERNMOST_LONGITUDE = 223.575
END_OBJECT = IMAGE_MAP_PROJECTION
/* The JPEG2000 image data file associated with this label. */
OBJECT = COMPRESSED_FILE
  FILE_NAME = "H1437_0001_BL3.JP2"
  RECORD_TYPE = UNDEFINED
  FILE_RECORDS = UNK
  ENCODING_TYPE = "JP2"
  INTERCHANGE_FORMAT = BINARY
  UNCOMPRESSED_FILE_NAME = "H1437_0001_BL3.IMG"
  REQUIRED_STORAGE_BYTES = "33022383"
  ^DESCRIPTION = "JP2INFO.TXT"
END_OBJECT = COMPRESSED_FILE
END
