PDS_VERSION_ID = PDS3
/* FILE DATA ELEMENTS */
RECORD_TYPE = STREAM
/* POINTERS TO DATA OBJECTS */
^COMPRESSED_FILE = "H1437_0001_RE3.JP2"
/* IDENTIFICATION DATA ELEMENTS */
DATA_SET_ID = "MEX-M-HRSC-5-REFDR-MAPPROJECTED-V3.0"
DATA_SET_NAME = "MARS EXPRESS HRSC MAP PROJECTED REFDR V3.0"
DETECTOR_ID = MEX_HRSC_RED
EVENT_TYPE = "MARS-REGIONAL-MAPPING-Vo-Te"
INSTRUMENT_HOST_ID = MEX
INSTRUMENT_HOST_NAME = "MARS EXPRESS"
INSTRUMENT_ID = HRSC
INSTRUMENT_NAME = "HIGH RESOLUTION STEREO CAMERA"
MISSION_NAME = "MARS EXPRESS"
MISSION_PHASE_NAME = MR_Phase_4
PROCESSING_LEVEL_ID = 3
PRODUCT_CREATION_TIME = 2016-03-05T14:51:22.000Z
PRODUCT_ID = "H1437_0001_RE3.JP2"
RELEASE_ID = 0019
REVISION_ID = 0000
/* QUALITY DATA ELEMENTS */
DATA_QUALITY_ID = 1
DATA_QUALITY_DESC = "Data calculated based on original SPICE kernels"
/* TIME DATA ELEMENTS */
SPACECRAFT_CLOCK_START_COUNT = "1/0057726508.57954"
SPACECRAFT_CLOCK_STOP_COUNT = "1/0057727209.23279"
START_TIME = 2005-03-01T03:08:44.217Z
STOP_TIME = 2005-03-01T03:15:50.452Z
/* ORBITAL DATA ELEMENTS */
ASCENDING_NODE_LONGITUDE = 198.4
MAXIMUM_RESOLUTION = 82.9
FOOTPRINT_POINT_LATITUDE = (40.7409,40.7821,40.7475,40.3171, 39.8829,39.4447,38.7856,38.33,37.8817, 37.1875,36.4851,36.0116,35.5315,35.0469 ,34.5565,34.058,33.5551,33.0485,32.5366 ,32.0189,31.4971,30.9662,30.1567, 29.6106,29.0704,28.5271,27.9893,27.4488 ,26.9088,26.3747,25.8424,25.3048, 24.7728,24.245,23.7202,23.209,22.7307, 22.214,21.7006,21.1881,20.6805,20.1779, 19.6886,19.1956,18.6866,18.1809,17.6911 ,17.1891,16.675,16.1586,15.6404,15.5315 ,15.5363,15.539,15.5326,15.5158,16.2692 ,16.7735,17.2751,18.028,18.7825,19.2814 ,20.0382,20.5423,21.0492,21.5591, 22.0697,22.8377,23.3192,23.8392,24.6275 ,25.4168,26.2146,26.7457,27.2832,28.089 ,28.6283,29.1725,29.9814,30.791,31.3201 ,31.8429,32.361,32.8731,33.3808,33.8816 ,34.3755,34.8651,35.3518,35.8314, 36.3052,36.776,37.2365,37.931,38.3833, 38.8277,39.2632,39.9198,40.353,40.7409)
FOOTPRINT_POINT_LONGITUDE = (224.512,225.664,226.44,226.461,226.481 ,226.501,226.528,226.55,226.567,226.596 ,226.624,226.642,226.66,226.677,226.695 ,226.713,226.729,226.746,226.761, 226.777,226.791,226.806,226.828,226.842 ,226.855,226.868,226.88,226.893,226.906 ,226.917,226.927,226.94,226.951,226.96, 226.97,226.975,226.97,226.977,226.984, 226.99,226.996,227.0,227.0,227.002, 227.009,227.015,227.017,227.023,227.033 ,227.043,227.055,226.384,225.832, 225.001,224.536,223.745,223.791,223.821 ,223.848,223.886,223.922,223.942, 223.974,223.992,224.011,224.029,224.046 ,224.07,224.07,224.086,224.11,224.131, 224.153,224.165,224.178,224.194,224.204 ,224.214,224.223,224.232,224.236, 224.239,224.242,224.244,224.245,224.244 ,224.243,224.242,224.24,224.237,224.233 ,224.228,224.22,224.214,224.206,224.195 ,224.182,224.166,224.155,224.512)
ORBIT_NUMBER = 1437
ORBITAL_ECCENTRICITY = 0.566
ORBITAL_INCLINATION = 86.62
ORBITAL_SEMIMAJOR_AXIS = 8537.78
PERIAPSIS_ALTITUDE = 323.65
PERIAPSIS_ARGUMENT_ANGLE = 107.57
PERIAPSIS_TIME = 2005-03-01T03:01:08.000Z
SPACECRAFT_ORIENTATION = (0.0,1.0,0.0)
^MEX_ORIENTATION_DESC = "MEX_ORIENTATION_DESC.TXT"
SPACECRAFT_POINTING_MODE = ACROSSTRACK
^MEX_POINTING_DESC = "MEX_POINTING_DESC.TXT"
RIGHT_ASCENSION = -1e+32
DECLINATION = -1e+32
OFFSET_ANGLE = -0.229
SPACECRAFT_SOLAR_DISTANCE = 2.23446e+08
TARGET_NAME = MARS
/* CAMERA DATA ELEMENTS */
DETECTOR_TEMPERATURE = 21.2251
FOCAL_PLANE_TEMPERATURE = 8.7872
INST_CMPRS_NAME = "DISCRETE COSINE TRANSFORMATION (DCT)"
INST_CMPRS_RATIO = 7.88472
INST_CMPRS_QUALITY = 0
INST_CMPRS_QUANTZ_TBL_ID = 0
INSTRUMENT_TEMPERATURE = 13.6808
LENS_TEMPERATURE = 9.6028
MACROPIXEL_SIZE = 4
MISSING_FRAMES = 0
PIXEL_SUBSAMPLING_FLAG = N
SIGNAL_CHAIN_ID = 2
/* RADIOMETRIC DATA ELEMENTS */
BANDWIDTH = 48.0
CENTER_FILTER_WAVELENGTH = 748.0
RADIANCE_OFFSET = 1.74963
RADIANCE_SCALING_FACTOR = 0.00968203
REFLECTANCE_SCALING_FACTOR = 0.00110314
MEX:REFLECTANCE_OFFSET = 0.199347
/* IMAGE OBJECT DEFINITIONS */
OBJECT = IMAGE
  INTERCHANGE_FORMAT = BINARY
  LINES = 15007
  LINE_SAMPLES = 2199
  SAMPLE_TYPE = UNSIGNED_INTEGER
  SAMPLE_BITS = 8
  BANDS = 1
  BAND_STORAGE_TYPE = BAND_SEQUENTIAL
  MAXIMUM = 224
  MEAN = 167.129
  MINIMUM = 76
  STANDARD_DEVIATION = 12.0746
END_OBJECT = IMAGE
/* MAP OBJECT DEFINITIONS */
OBJECT = IMAGE_MAP_PROJECTION
  ^DATA_SET_MAP_PROJECTION_CATALOG= "DSMAP.CAT"
  A_AXIS_RADIUS = 3396.0
  B_AXIS_RADIUS = 3396.0
  C_AXIS_RADIUS = 3396.0
  CENTER_LATITUDE = 0.0
  CENTER_LONGITUDE = 226.0
  COORDINATE_SYSTEM_NAME = PLANETOGRAPHIC
  COORDINATE_SYSTEM_TYPE = "BODY-FIXED ROTATING"
  EASTERNMOST_LONGITUDE = 227.055
  FIRST_STANDARD_PARALLEL = "N/A"
  LINE_FIRST_PIXEL = 1
  LINE_LAST_PIXEL = 15007
  LINE_PROJECTION_OFFSET = 24150.875
  MAP_PROJECTION_ROTATION = 0.0
  MAP_PROJECTION_TYPE = SINUSOIDAL
  MAP_RESOLUTION = 592.713803866667
  MAP_SCALE = 0.1
  MAXIMUM_LATITUDE = 40.7821
  MINIMUM_LATITUDE = 15.5158
  POSITIVE_LONGITUDE_DIRECTION = EAST
  REFERENCE_LATITUDE = "N/A"
  REFERENCE_LONGITUDE = "N/A"
  SAMPLE_FIRST_PIXEL = 1
  SAMPLE_LAST_PIXEL = 2199
  SAMPLE_PROJECTION_OFFSET = 1451.875
  SECOND_STANDARD_PARALLEL = "N/A"
  WESTERNMOST_LONGITUDE = 223.745
END_OBJECT = IMAGE_MAP_PROJECTION
/* The JPEG2000 image data file associated with this label. */
OBJECT = COMPRESSED_FILE
  FILE_NAME = "H1437_0001_RE3.JP2"
  RECORD_TYPE = UNDEFINED
  FILE_RECORDS = UNK
  ENCODING_TYPE = "JP2"
  INTERCHANGE_FORMAT = BINARY
  UNCOMPRESSED_FILE_NAME = "H1437_0001_RE3.IMG"
  REQUIRED_STORAGE_BYTES = "33022383"
  ^DESCRIPTION = "JP2INFO.TXT"
END_OBJECT = COMPRESSED_FILE
END
