PDS_VERSION_ID = PDS3
/* FILE DATA ELEMENTS */
RECORD_TYPE = STREAM
/* POINTERS TO DATA OBJECTS */
^COMPRESSED_FILE = "H1440_0002_SR3.JP2"
/* IDENTIFICATION DATA ELEMENTS */
DATA_SET_ID = "MEX-M-HRSC-5-REFDR-MAPPROJECTED-V3.0"
DATA_SET_NAME = "MARS EXPRESS HRSC MAP PROJECTED REFDR V3.0"
DETECTOR_ID = MEX_HRSC_SRC
EVENT_TYPE = "MARS-REGIONAL-MAPPING-Vo-Te-Eo"
INSTRUMENT_HOST_ID = MEX
INSTRUMENT_HOST_NAME = "MARS EXPRESS"
INSTRUMENT_ID = HRSC
INSTRUMENT_NAME = "HIGH RESOLUTION STEREO CAMERA"
MISSION_NAME = "MARS EXPRESS"
MISSION_PHASE_NAME = MR_Phase_4
PROCESSING_LEVEL_ID = 3
PRODUCT_CREATION_TIME = 2016-03-05T14:51:22.000Z
PRODUCT_ID = "H1440_0002_SR3.JP2"
RELEASE_ID = 0019
REVISION_ID = 0000
/* QUALITY DATA ELEMENTS */
DATA_QUALITY_ID = 1
DATA_QUALITY_DESC = "Data calculated based on original SPICE kernels"
/* TIME DATA ELEMENTS */
SPACECRAFT_CLOCK_START_COUNT = "1/0057798664.57948"
SPACECRAFT_CLOCK_STOP_COUNT = "1/0057799161.26879"
IMAGE_TIME = 2005-03-01T23:16:52.193Z
START_TIME = 2005-03-01T23:16:52.190Z
STOP_TIME = 2005-03-01T23:16:52.195Z
/* ORBITAL DATA ELEMENTS */
ASCENDING_NODE_LONGITUDE = 198.34
MAXIMUM_RESOLUTION = 3.855
FOOTPRINT_POINT_LATITUDE = (50.8567,50.8545,50.8517,50.8494, 50.8459,50.8438,50.8418,50.8386,50.8365 ,50.8335,50.8314,50.8292,50.8266, 50.8242,50.8203,50.8176,50.8136,50.8107 ,50.8074,50.8041,50.8023,50.7997, 50.7978,50.7955,50.7928,50.7914,50.7912 ,50.7911,50.7909,50.7908,50.7906, 50.7905,50.7903,50.7902,50.79,50.7899, 50.7897,50.7896,50.7894,50.7893,50.7891 ,50.789,50.7888,50.7887,50.7885,50.7884 ,50.7882,50.7881,50.7879,50.7878, 50.7894,50.7914,50.7932,50.7953,50.7977 ,50.8015,50.8037,50.8067,50.81,50.8116, 50.8136,50.8164,50.8191,50.8228,50.8252 ,50.829,50.8319,50.8353,50.8377,50.8414 ,50.8442,50.8476,50.8496,50.8525, 50.8535,50.8536,50.8538,50.8539,50.8541 ,50.8542,50.8544,50.8545,50.8547, 50.8548,50.855,50.8551,50.8553,50.8554, 50.8556,50.8557,50.8559,50.856,50.8562, 50.8563,50.8565,50.8566,50.8568,50.8569 ,50.8571,50.8567)
FOOTPRINT_POINT_LONGITUDE = (289.848,289.848,289.848,289.849, 289.849,289.849,289.849,289.85,289.85, 289.85,289.85,289.85,289.851,289.851, 289.851,289.851,289.852,289.852,289.852 ,289.853,289.853,289.853,289.853, 289.853,289.854,289.849,289.844,289.84, 289.836,289.832,289.828,289.824,289.82, 289.815,289.811,289.807,289.803,289.799 ,289.795,289.791,289.787,289.782, 289.778,289.774,289.77,289.766,289.762, 289.758,289.754,289.749,289.749,289.748 ,289.748,289.748,289.748,289.748, 289.747,289.747,289.747,289.747,289.746 ,289.746,289.746,289.746,289.745, 289.745,289.745,289.744,289.744,289.744 ,289.744,289.743,289.743,289.743, 289.745,289.749,289.753,289.757,289.762 ,289.766,289.77,289.774,289.778,289.782 ,289.786,289.79,289.795,289.799,289.803 ,289.807,289.811,289.815,289.819, 289.824,289.828,289.832,289.836,289.84, 289.844,289.848)
ORBIT_NUMBER = 1440
ORBITAL_ECCENTRICITY = 0.566
ORBITAL_INCLINATION = 86.6
ORBITAL_SEMIMAJOR_AXIS = 8539.27
PERIAPSIS_ALTITUDE = 324.78
PERIAPSIS_ARGUMENT_ANGLE = 107.06
PERIAPSIS_TIME = 2005-03-01T23:11:13.000Z
SPACECRAFT_ORIENTATION = (0.0,1.0,0.0)
^MEX_ORIENTATION_DESC = "MEX_ORIENTATION_DESC.TXT"
SPACECRAFT_POINTING_MODE = ACROSSTRACK
^MEX_POINTING_DESC = "MEX_POINTING_DESC.TXT"
RIGHT_ASCENSION = -1e+32
DECLINATION = -1e+32
OFFSET_ANGLE = -0.15
SPACECRAFT_SOLAR_DISTANCE = 2.23282e+08
TARGET_NAME = MARS
/* CAMERA DATA ELEMENTS */
BUFFER_MODE_ID = BUFFER_8
EXPOSURE_DURATION = 5.04
INST_CMPRS_NAME = NONE
INST_CMPRS_RATIO = 1.0
INST_CMPRS_QUALITY = -2147483648
INST_CMPRS_QUANTZ_TBL_ID = -2147483648
INSTRUMENT_TEMPERATURE = 11.2121
MISSING_FRAMES = 0
START_BIT = 0
/* RADIOMETRIC DATA ELEMENTS */
BANDWIDTH = 250.0
CENTER_FILTER_WAVELENGTH = 600.0
RADIANCE_OFFSET = -9.99e+31
RADIANCE_SCALING_FACTOR = -9.99e+31
REFLECTANCE_SCALING_FACTOR = -9.99e+31
MEX:REFLECTANCE_OFFSET = -9.99e+31
/* IMAGE OBJECT DEFINITIONS */
OBJECT = IMAGE
  INTERCHANGE_FORMAT = BINARY
  LINES = 888
  LINE_SAMPLES = 893
  SAMPLE_TYPE = UNSIGNED_INTEGER
  SAMPLE_BITS = 8
  BANDS = 1
  BAND_STORAGE_TYPE = BAND_SEQUENTIAL
  MAXIMUM = 5410
  MEAN = 4691.17
  MINIMUM = 3900
  STANDARD_DEVIATION = 165.73
END_OBJECT = IMAGE
/* MAP OBJECT DEFINITIONS */
OBJECT = IMAGE_MAP_PROJECTION
  ^DATA_SET_MAP_PROJECTION_CATALOG= "DSMAP.CAT"
  A_AXIS_RADIUS = 3396.19
  B_AXIS_RADIUS = 3396.19
  C_AXIS_RADIUS = 3396.19
  CENTER_LATITUDE = 0.0
  CENTER_LONGITUDE = 290.0
  COORDINATE_SYSTEM_NAME = PLANETOGRAPHIC
  COORDINATE_SYSTEM_TYPE = "BODY-FIXED ROTATING"
  EASTERNMOST_LONGITUDE = 289.854
  FIRST_STANDARD_PARALLEL = "N/A"
  LINE_FIRST_PIXEL = 1
  LINE_LAST_PIXEL = 888
  LINE_PROJECTION_OFFSET = 602136.0
  MAP_PROJECTION_ROTATION = 0.0
  MAP_PROJECTION_TYPE = SINUSOIDAL
  MAP_RESOLUTION = 11854.9393024378
  MAP_SCALE = 0.005
  MAXIMUM_LATITUDE = 50.8571
  MINIMUM_LATITUDE = 50.7878
  POSITIVE_LONGITUDE_DIRECTION = EAST
  REFERENCE_LATITUDE = "N/A"
  REFERENCE_LONGITUDE = "N/A"
  SAMPLE_FIRST_PIXEL = 1
  SAMPLE_LAST_PIXEL = 893
  SAMPLE_PROJECTION_OFFSET = 2011.0
  SECOND_STANDARD_PARALLEL = "N/A"
  WESTERNMOST_LONGITUDE = 289.743
END_OBJECT = IMAGE_MAP_PROJECTION
/* The JPEG2000 image data file associated with this label. */
OBJECT = COMPRESSED_FILE
  FILE_NAME = "H1440_0002_SR3.JP2"
  RECORD_TYPE = UNDEFINED
  FILE_RECORDS = UNK
  ENCODING_TYPE = "JP2"
  INTERCHANGE_FORMAT = BINARY
  UNCOMPRESSED_FILE_NAME = "H1440_0002_SR3.IMG"
  REQUIRED_STORAGE_BYTES = "811737"
  ^DESCRIPTION = "JP2INFO.TXT"
END_OBJECT = COMPRESSED_FILE
END
