PDS_VERSION_ID = PDS3
/* FILE DATA ELEMENTS */
RECORD_TYPE = STREAM
/* POINTERS TO DATA OBJECTS */
^COMPRESSED_FILE = "H1440_0008_SR3.JP2"
/* IDENTIFICATION DATA ELEMENTS */
DATA_SET_ID = "MEX-M-HRSC-5-REFDR-MAPPROJECTED-V3.0"
DATA_SET_NAME = "MARS EXPRESS HRSC MAP PROJECTED REFDR V3.0"
DETECTOR_ID = MEX_HRSC_SRC
EVENT_TYPE = "MARS-REGIONAL-MAPPING-Vo-Te-Eo"
INSTRUMENT_HOST_ID = MEX
INSTRUMENT_HOST_NAME = "MARS EXPRESS"
INSTRUMENT_ID = HRSC
INSTRUMENT_NAME = "HIGH RESOLUTION STEREO CAMERA"
MISSION_NAME = "MARS EXPRESS"
MISSION_PHASE_NAME = MR_Phase_4
PROCESSING_LEVEL_ID = 3
PRODUCT_CREATION_TIME = 2016-03-05T14:51:22.000Z
PRODUCT_ID = "H1440_0008_SR3.JP2"
RELEASE_ID = 0019
REVISION_ID = 0000
/* QUALITY DATA ELEMENTS */
DATA_QUALITY_ID = 1
DATA_QUALITY_DESC = "Data calculated based on original SPICE kernels"
/* TIME DATA ELEMENTS */
SPACECRAFT_CLOCK_START_COUNT = "1/0057798664.57948"
SPACECRAFT_CLOCK_STOP_COUNT = "1/0057799161.26879"
IMAGE_TIME = 2005-03-01T23:16:55.463Z
START_TIME = 2005-03-01T23:16:55.460Z
STOP_TIME = 2005-03-01T23:16:55.465Z
/* ORBITAL DATA ELEMENTS */
ASCENDING_NODE_LONGITUDE = 198.34
MAXIMUM_RESOLUTION = 3.872
FOOTPRINT_POINT_LATITUDE = (50.6528,50.6495,50.6455,50.6422, 50.6401,50.6371,50.6353,50.6325,50.6292 ,50.6253,50.6234,50.6211,50.619,50.617, 50.6145,50.6126,50.6109,50.6079,50.6042 ,50.6016,50.5983,50.596,50.5935,50.5905 ,50.5881,50.588,50.5879,50.5877,50.5875 ,50.5874,50.5872,50.5871,50.5869, 50.5868,50.5866,50.5865,50.5863,50.5862 ,50.586,50.5859,50.5857,50.5856,50.5854 ,50.5853,50.5851,50.585,50.5849,50.5847 ,50.5845,50.585,50.5876,50.59,50.5918, 50.5938,50.597,50.5999,50.6035,50.6064, 50.6103,50.614,50.6174,50.6209,50.6227, 50.6248,50.6277,50.63,50.6335,50.6363, 50.6381,50.6402,50.6427,50.6444,50.647, 50.6504,50.6506,50.6507,50.6509,50.651, 50.6512,50.6513,50.6515,50.6516,50.6518 ,50.6519,50.6521,50.6522,50.6524, 50.6525,50.6527,50.6528,50.653,50.6531, 50.6532,50.6534,50.6535,50.6537,50.6538 ,50.6539,50.6541,50.6528)
FOOTPRINT_POINT_LONGITUDE = (289.866,289.866,289.867,289.867, 289.867,289.867,289.868,289.868,289.868 ,289.868,289.869,289.869,289.869, 289.869,289.869,289.87,289.87,289.87, 289.87,289.871,289.871,289.871,289.871, 289.872,289.871,289.866,289.862,289.858 ,289.853,289.849,289.845,289.841, 289.837,289.832,289.828,289.824,289.82, 289.816,289.812,289.808,289.804,289.799 ,289.795,289.791,289.787,289.783, 289.779,289.775,289.771,289.767,289.767 ,289.766,289.766,289.766,289.766, 289.765,289.765,289.765,289.764,289.764 ,289.764,289.763,289.763,289.763, 289.763,289.763,289.762,289.762,289.762 ,289.762,289.762,289.761,289.761, 289.762,289.766,289.77,289.774,289.779, 289.783,289.787,289.791,289.795,289.799 ,289.803,289.807,289.812,289.816,289.82 ,289.824,289.828,289.832,289.836, 289.841,289.845,289.849,289.853,289.856 ,289.86,289.864,289.866)
ORBIT_NUMBER = 1440
ORBITAL_ECCENTRICITY = 0.566
ORBITAL_INCLINATION = 86.6
ORBITAL_SEMIMAJOR_AXIS = 8539.27
PERIAPSIS_ALTITUDE = 324.78
PERIAPSIS_ARGUMENT_ANGLE = 107.06
PERIAPSIS_TIME = 2005-03-01T23:11:13.000Z
SPACECRAFT_ORIENTATION = (0.0,1.0,0.0)
^MEX_ORIENTATION_DESC = "MEX_ORIENTATION_DESC.TXT"
SPACECRAFT_POINTING_MODE = ACROSSTRACK
^MEX_POINTING_DESC = "MEX_POINTING_DESC.TXT"
RIGHT_ASCENSION = -1e+32
DECLINATION = -1e+32
OFFSET_ANGLE = -0.15
SPACECRAFT_SOLAR_DISTANCE = 2.23282e+08
TARGET_NAME = MARS
/* CAMERA DATA ELEMENTS */
BUFFER_MODE_ID = BUFFER_8
EXPOSURE_DURATION = 5.04
INST_CMPRS_NAME = NONE
INST_CMPRS_RATIO = 1.0
INST_CMPRS_QUALITY = -2147483648
INST_CMPRS_QUANTZ_TBL_ID = -2147483648
INSTRUMENT_TEMPERATURE = 11.2121
MISSING_FRAMES = 0
START_BIT = 0
/* RADIOMETRIC DATA ELEMENTS */
BANDWIDTH = 250.0
CENTER_FILTER_WAVELENGTH = 600.0
RADIANCE_OFFSET = -9.99e+31
RADIANCE_SCALING_FACTOR = -9.99e+31
REFLECTANCE_SCALING_FACTOR = -9.99e+31
MEX:REFLECTANCE_OFFSET = -9.99e+31
/* IMAGE OBJECT DEFINITIONS */
OBJECT = IMAGE
  INTERCHANGE_FORMAT = BINARY
  LINES = 891
  LINE_SAMPLES = 897
  SAMPLE_TYPE = UNSIGNED_INTEGER
  SAMPLE_BITS = 8
  BANDS = 1
  BAND_STORAGE_TYPE = BAND_SEQUENTIAL
  MAXIMUM = 5071
  MEAN = 4411.97
  MINIMUM = 3527
  STANDARD_DEVIATION = 161.359
END_OBJECT = IMAGE
/* MAP OBJECT DEFINITIONS */
OBJECT = IMAGE_MAP_PROJECTION
  ^DATA_SET_MAP_PROJECTION_CATALOG= "DSMAP.CAT"
  A_AXIS_RADIUS = 3396.19
  B_AXIS_RADIUS = 3396.19
  C_AXIS_RADIUS = 3396.19
  CENTER_LATITUDE = 0.0
  CENTER_LONGITUDE = 290.0
  COORDINATE_SYSTEM_NAME = PLANETOGRAPHIC
  COORDINATE_SYSTEM_TYPE = "BODY-FIXED ROTATING"
  EASTERNMOST_LONGITUDE = 289.872
  FIRST_STANDARD_PARALLEL = "N/A"
  LINE_FIRST_PIXEL = 1
  LINE_LAST_PIXEL = 891
  LINE_PROJECTION_OFFSET = 599737.0
  MAP_PROJECTION_ROTATION = 0.0
  MAP_PROJECTION_TYPE = SINUSOIDAL
  MAP_RESOLUTION = 11854.9393024378
  MAP_SCALE = 0.005
  MAXIMUM_LATITUDE = 50.6541
  MINIMUM_LATITUDE = 50.5845
  POSITIVE_LONGITUDE_DIRECTION = EAST
  REFERENCE_LATITUDE = "N/A"
  REFERENCE_LONGITUDE = "N/A"
  SAMPLE_FIRST_PIXEL = 1
  SAMPLE_LAST_PIXEL = 897
  SAMPLE_PROJECTION_OFFSET = 1884.0
  SECOND_STANDARD_PARALLEL = "N/A"
  WESTERNMOST_LONGITUDE = 289.761
END_OBJECT = IMAGE_MAP_PROJECTION
/* The JPEG2000 image data file associated with this label. */
OBJECT = COMPRESSED_FILE
  FILE_NAME = "H1440_0008_SR3.JP2"
  RECORD_TYPE = UNDEFINED
  FILE_RECORDS = UNK
  ENCODING_TYPE = "JP2"
  INTERCHANGE_FORMAT = BINARY
  UNCOMPRESSED_FILE_NAME = "H1440_0008_SR3.IMG"
  REQUIRED_STORAGE_BYTES = "818064"
  ^DESCRIPTION = "JP2INFO.TXT"
END_OBJECT = COMPRESSED_FILE
END
