PDS_VERSION_ID = PDS3
/* FILE DATA ELEMENTS */
RECORD_TYPE = STREAM
/* POINTERS TO DATA OBJECTS */
^COMPRESSED_FILE = "H1443_0000_P23.JP2"
/* IDENTIFICATION DATA ELEMENTS */
DATA_SET_ID = "MEX-M-HRSC-5-REFDR-MAPPROJECTED-V3.0"
DATA_SET_NAME = "MARS EXPRESS HRSC MAP PROJECTED REFDR V3.0"
DETECTOR_ID = MEX_HRSC_P2
EVENT_TYPE = "MARS-REGIONAL-MAPPING-Im-Gl-Pf"
INSTRUMENT_HOST_ID = MEX
INSTRUMENT_HOST_NAME = "MARS EXPRESS"
INSTRUMENT_ID = HRSC
INSTRUMENT_NAME = "HIGH RESOLUTION STEREO CAMERA"
MISSION_NAME = "MARS EXPRESS"
MISSION_PHASE_NAME = MR_Phase_4
PROCESSING_LEVEL_ID = 3
PRODUCT_CREATION_TIME = 2016-03-05T14:51:22.000Z
PRODUCT_ID = "H1443_0000_P23.JP2"
RELEASE_ID = 0019
REVISION_ID = 0000
/* QUALITY DATA ELEMENTS */
DATA_QUALITY_ID = 1
DATA_QUALITY_DESC = "Data calculated based on original SPICE kernels"
/* TIME DATA ELEMENTS */
SPACECRAFT_CLOCK_START_COUNT = "1/0057871026.57148"
SPACECRAFT_CLOCK_STOP_COUNT = "1/0057871473.37961"
START_TIME = 2005-03-02T19:17:26.683Z
STOP_TIME = 2005-03-02T19:24:00.394Z
/* ORBITAL DATA ELEMENTS */
ASCENDING_NODE_LONGITUDE = 198.27
MAXIMUM_RESOLUTION = 54.1
FOOTPRINT_POINT_LATITUDE = (85.0009,85.2582,85.5016,85.472,85.0048 ,84.5296,84.0452,83.5551,83.0692,82.577 ,82.0796,81.3313,80.8401,80.3455,79.595 ,79.0945,78.3537,77.8648,77.3741, 76.8823,76.389,75.8946,75.3989,74.9021, 74.4042,73.9055,73.1592,72.6751,72.1904 ,71.705,71.219,70.7324,70.2459,69.7566, 69.2513,68.4932,67.9874,67.4812,66.7215 ,66.2148,65.7077,65.2007,64.6933, 64.1858,63.4,62.8755,62.3512,61.8267, 61.3024,60.6757,60.6457,60.8681,61.3989 ,61.9209,62.4428,62.9647,63.4868, 64.0112,64.5073,65.0114,65.5229,66.0301 ,66.5299,67.0328,67.7865,68.2884, 68.7895,69.2904,69.7863,70.2692,70.7506 ,71.2318,71.7116,72.4301,72.9078, 73.6416,74.1325,74.6194,75.1097,75.5956 ,76.08,76.5623,77.0426,77.5202,77.9956, 78.4678,78.9531,79.6742,80.1516,80.6216 ,81.0865,81.5586,82.0233,82.4787, 82.9237,83.3646,83.7938,84.2067,84.602, 85.0009)
FOOTPRINT_POINT_LONGITUDE = (314.608,317.641,321.037,328.448, 331.817,334.562,336.828,338.726,340.337 ,341.74,342.972,344.549,345.433,346.23, 347.306,347.926,348.744,349.225,349.671 ,350.081,350.462,350.816,351.146, 351.455,351.743,352.013,352.386,352.609 ,352.821,353.02,353.209,353.389,353.557 ,353.719,353.879,354.102,354.242, 354.375,354.563,354.681,354.795,354.902 ,355.006,355.105,355.25,355.341,355.429 ,355.513,355.594,355.186,354.29,353.11, 353.003,352.894,352.778,352.657,352.53, 352.397,352.258,352.115,351.967,351.809 ,351.642,351.468,351.188,350.989, 350.779,350.557,350.325,350.087,349.834 ,349.568,349.286,348.831,348.505, 347.962,347.568,347.147,346.696,346.214 ,345.696,345.14,344.54,343.893,343.193, 342.435,341.581,340.148,339.073,337.891 ,336.583,335.086,333.41,331.529,329.409 ,326.956,324.137,320.902,317.14, 314.608)
ORBIT_NUMBER = 1443
ORBITAL_ECCENTRICITY = 0.566
ORBITAL_INCLINATION = 86.61
ORBITAL_SEMIMAJOR_AXIS = 8538.89
PERIAPSIS_ALTITUDE = 325.06
PERIAPSIS_ARGUMENT_ANGLE = 106.49
PERIAPSIS_TIME = 2005-03-02T19:21:08.000Z
SPACECRAFT_ORIENTATION = (0.0,1.0,0.0)
^MEX_ORIENTATION_DESC = "MEX_ORIENTATION_DESC.TXT"
SPACECRAFT_POINTING_MODE = ACROSSTRACK
^MEX_POINTING_DESC = "MEX_POINTING_DESC.TXT"
RIGHT_ASCENSION = -1e+32
DECLINATION = -1e+32
OFFSET_ANGLE = 0.24
SPACECRAFT_SOLAR_DISTANCE = 2.2312e+08
TARGET_NAME = MARS
/* CAMERA DATA ELEMENTS */
DETECTOR_TEMPERATURE = 18.7783
FOCAL_PLANE_TEMPERATURE = 8.9911
INST_CMPRS_NAME = "DISCRETE COSINE TRANSFORMATION (DCT)"
INST_CMPRS_RATIO = 17.5288
INST_CMPRS_QUALITY = 0
INST_CMPRS_QUANTZ_TBL_ID = 0
INSTRUMENT_TEMPERATURE = 11.234
LENS_TEMPERATURE = 9.3989
MACROPIXEL_SIZE = 4
MISSING_FRAMES = 0
PIXEL_SUBSAMPLING_FLAG = N
SIGNAL_CHAIN_ID = 3
/* RADIOMETRIC DATA ELEMENTS */
BANDWIDTH = 177.0
CENTER_FILTER_WAVELENGTH = 676.5
RADIANCE_OFFSET = 1.65744
RADIANCE_SCALING_FACTOR = 0.0193549
REFLECTANCE_SCALING_FACTOR = 0.000510888
MEX:REFLECTANCE_OFFSET = 0.0437496
/* IMAGE OBJECT DEFINITIONS */
OBJECT = IMAGE
  INTERCHANGE_FORMAT = BINARY
  LINES = 29690
  LINE_SAMPLES = 7002
  SAMPLE_TYPE = UNSIGNED_INTEGER
  SAMPLE_BITS = 8
  BANDS = 1
  BAND_STORAGE_TYPE = BAND_SEQUENTIAL
  MAXIMUM = 210
  MEAN = 115.374
  MINIMUM = 43
  STANDARD_DEVIATION = 35.4208
END_OBJECT = IMAGE
/* MAP OBJECT DEFINITIONS */
OBJECT = IMAGE_MAP_PROJECTION
  ^DATA_SET_MAP_PROJECTION_CATALOG= "DSMAP.CAT"
  A_AXIS_RADIUS = 3396.0
  B_AXIS_RADIUS = 3396.0
  C_AXIS_RADIUS = 3396.0
  CENTER_LATITUDE = 0.0
  CENTER_LONGITUDE = 350.0
  COORDINATE_SYSTEM_NAME = PLANETOGRAPHIC
  COORDINATE_SYSTEM_TYPE = "BODY-FIXED ROTATING"
  EASTERNMOST_LONGITUDE = 355.594
  FIRST_STANDARD_PARALLEL = "N/A"
  LINE_FIRST_PIXEL = 1
  LINE_LAST_PIXEL = 29690
  LINE_PROJECTION_OFFSET = 101545.125
  MAP_PROJECTION_ROTATION = 0.0
  MAP_PROJECTION_TYPE = SINUSOIDAL
  MAP_RESOLUTION = 1185.42760773333
  MAP_SCALE = 0.05
  MAXIMUM_LATITUDE = 85.5016
  MINIMUM_LATITUDE = 60.6457
  POSITIVE_LONGITUDE_DIRECTION = EAST
  REFERENCE_LATITUDE = "N/A"
  REFERENCE_LONGITUDE = "N/A"
  SAMPLE_FIRST_PIXEL = 1
  SAMPLE_LAST_PIXEL = 7002
  SAMPLE_PROJECTION_OFFSET = 3739.625
  SECOND_STANDARD_PARALLEL = "N/A"
  WESTERNMOST_LONGITUDE = 314.608
END_OBJECT = IMAGE_MAP_PROJECTION
/* The JPEG2000 image data file associated with this label. */
OBJECT = COMPRESSED_FILE
  FILE_NAME = "H1443_0000_P23.JP2"
  RECORD_TYPE = UNDEFINED
  FILE_RECORDS = UNK
  ENCODING_TYPE = "JP2"
  INTERCHANGE_FORMAT = BINARY
  UNCOMPRESSED_FILE_NAME = "H1443_0000_P23.IMG"
  REQUIRED_STORAGE_BYTES = "207917388"
  ^DESCRIPTION = "JP2INFO.TXT"
END_OBJECT = COMPRESSED_FILE
END
