PDS_VERSION_ID = PDS3
/* FILE DATA ELEMENTS */
RECORD_TYPE = STREAM
/* POINTERS TO DATA OBJECTS */
^COMPRESSED_FILE = "H1446_0000_P23.JP2"
/* IDENTIFICATION DATA ELEMENTS */
DATA_SET_ID = "MEX-M-HRSC-5-REFDR-MAPPROJECTED-V3.0"
DATA_SET_NAME = "MARS EXPRESS HRSC MAP PROJECTED REFDR V3.0"
DETECTOR_ID = MEX_HRSC_P2
EVENT_TYPE = "MARS-REGIONAL-STEREO-Te-Fl-Mw"
INSTRUMENT_HOST_ID = MEX
INSTRUMENT_HOST_NAME = "MARS EXPRESS"
INSTRUMENT_ID = HRSC
INSTRUMENT_NAME = "HIGH RESOLUTION STEREO CAMERA"
MISSION_NAME = "MARS EXPRESS"
MISSION_PHASE_NAME = MR_Phase_4
PROCESSING_LEVEL_ID = 3
PRODUCT_CREATION_TIME = 2016-03-05T14:51:22.000Z
PRODUCT_ID = "H1446_0000_P23.JP2"
RELEASE_ID = 0019
REVISION_ID = 0000
/* QUALITY DATA ELEMENTS */
DATA_QUALITY_ID = 1
DATA_QUALITY_DESC = "Data calculated based on original SPICE kernels"
/* TIME DATA ELEMENTS */
SPACECRAFT_CLOCK_START_COUNT = "1/0057943993.57296"
SPACECRAFT_CLOCK_STOP_COUNT = "1/0057944669.53134"
START_TIME = 2005-03-03T15:33:31.840Z
STOP_TIME = 2005-03-03T15:42:32.860Z
/* ORBITAL DATA ELEMENTS */
ASCENDING_NODE_LONGITUDE = 198.2
MAXIMUM_RESOLUTION = 28.3
FOOTPRINT_POINT_LATITUDE = (62.9918,62.7113,62.198,61.6844,61.1612 ,60.6316,60.1021,59.5731,58.7648, 58.2195,57.6753,57.1233,56.5636,55.7233 ,54.8609,54.2863,53.6975,53.1078, 52.2078,51.604,50.9861,50.0511,49.4192, 48.7762,47.7982,47.1377,46.4634,45.7809 ,45.0906,44.3894,43.6751,42.9507, 42.2133,41.4676,40.7058,39.9317,39.1452 ,38.3441,37.529,36.6967,35.8486,34.9848 ,34.1053,33.2016,32.2876,31.3559, 30.3906,29.4177,28.9197,28.9188,28.909, 29.8934,30.86,31.8038,32.7267,33.6265, 34.521,35.3856,36.2404,37.0735,37.8949, 38.7021,39.496,40.2748,41.0398,41.7915, 42.5312,43.2606,43.9751,44.6809,45.3764 ,46.0625,46.736,47.4021,48.0609,48.7064 ,49.3479,49.9785,50.6026,51.219,52.129, 53.0264,53.614,54.201,54.7734,55.3469, 56.1924,56.7498,57.3082,57.8434,58.3942 ,58.9363,59.47,60.2609,60.7879,61.3152, 61.8277,62.3386,62.8495,62.9918)
FOOTPRINT_POINT_LONGITUDE = (58.6372,60.1077,60.1981,60.2853, 60.3707,60.4532,60.5325,60.6083,60.7195 ,60.7907,60.8584,60.9254,60.9896, 61.0829,61.1721,61.2291,61.2854,61.3396 ,61.4181,61.4683,61.5175,61.5886,61.634 ,61.6786,61.7434,61.7849,61.8254,61.865 ,61.903,61.9404,61.9768,62.0117,62.047, 62.0787,62.1121,62.144,62.1743,62.2042, 62.2331,62.2612,62.2889,62.3158,62.3398 ,62.3677,62.389,62.4092,62.436,62.4542, 61.6771,60.5099,59.6593,59.6796,59.6983 ,59.7127,59.7233,59.7289,59.7375, 59.7375,59.738,59.7337,59.7282,59.7203, 59.7102,59.6973,59.6818,59.664,59.644, 59.6225,59.597,59.5702,59.5408,59.5093, 59.4757,59.4397,59.4013,59.3608,59.3178 ,59.2726,59.2248,59.1744,59.0946, 59.0087,58.9483,58.8847,58.819,58.75, 58.6415,58.5645,58.4844,58.3984,58.3158 ,58.2243,58.1307,57.983,57.8782,57.7683 ,57.6563,57.5391,57.4162,58.6372)
ORBIT_NUMBER = 1446
ORBITAL_ECCENTRICITY = 0.566
ORBITAL_INCLINATION = 86.61
ORBITAL_SEMIMAJOR_AXIS = 8540.21
PERIAPSIS_ALTITUDE = 324.43
PERIAPSIS_ARGUMENT_ANGLE = 105.97
PERIAPSIS_TIME = 2005-03-03T15:31:06.000Z
SPACECRAFT_ORIENTATION = (0.0,1.0,0.0)
^MEX_ORIENTATION_DESC = "MEX_ORIENTATION_DESC.TXT"
SPACECRAFT_POINTING_MODE = ACROSSTRACK
^MEX_POINTING_DESC = "MEX_POINTING_DESC.TXT"
RIGHT_ASCENSION = -1e+32
DECLINATION = -1e+32
OFFSET_ANGLE = 0.1
SPACECRAFT_SOLAR_DISTANCE = 2.22957e+08
TARGET_NAME = MARS
/* CAMERA DATA ELEMENTS */
DETECTOR_TEMPERATURE = 18.7783
FOCAL_PLANE_TEMPERATURE = 8.9911
INST_CMPRS_NAME = "DISCRETE COSINE TRANSFORMATION (DCT)"
INST_CMPRS_RATIO = 9.78255
INST_CMPRS_QUALITY = 0
INST_CMPRS_QUANTZ_TBL_ID = 0
INSTRUMENT_TEMPERATURE = 11.6418
LENS_TEMPERATURE = 7.7677
MACROPIXEL_SIZE = 2
MISSING_FRAMES = 0
PIXEL_SUBSAMPLING_FLAG = N
SIGNAL_CHAIN_ID = 3
/* RADIOMETRIC DATA ELEMENTS */
BANDWIDTH = 177.0
CENTER_FILTER_WAVELENGTH = 676.5
RADIANCE_OFFSET = 3.72307
RADIANCE_SCALING_FACTOR = 0.0299969
REFLECTANCE_SCALING_FACTOR = 0.000790632
MEX:REFLECTANCE_OFFSET = 0.0981294
/* IMAGE OBJECT DEFINITIONS */
OBJECT = IMAGE
  INTERCHANGE_FORMAT = BINARY
  LINES = 80754
  LINE_SAMPLES = 7163
  SAMPLE_TYPE = UNSIGNED_INTEGER
  SAMPLE_BITS = 8
  BANDS = 1
  BAND_STORAGE_TYPE = BAND_SEQUENTIAL
  MAXIMUM = 178
  MEAN = 98.5581
  MINIMUM = 52
  STANDARD_DEVIATION = 24.9065
END_OBJECT = IMAGE
/* MAP OBJECT DEFINITIONS */
OBJECT = IMAGE_MAP_PROJECTION
  ^DATA_SET_MAP_PROJECTION_CATALOG= "DSMAP.CAT"
  A_AXIS_RADIUS = 3396.0
  B_AXIS_RADIUS = 3396.0
  C_AXIS_RADIUS = 3396.0
  CENTER_LATITUDE = 0.0
  CENTER_LONGITUDE = 61.0
  COORDINATE_SYSTEM_NAME = PLANETOGRAPHIC
  COORDINATE_SYSTEM_TYPE = "BODY-FIXED ROTATING"
  EASTERNMOST_LONGITUDE = 62.4542
  FIRST_STANDARD_PARALLEL = "N/A"
  LINE_FIRST_PIXEL = 1
  LINE_LAST_PIXEL = 80754
  LINE_PROJECTION_OFFSET = 149310.75
  MAP_PROJECTION_ROTATION = 0.0
  MAP_PROJECTION_TYPE = SINUSOIDAL
  MAP_RESOLUTION = 2370.85521546667
  MAP_SCALE = 0.025
  MAXIMUM_LATITUDE = 62.9918
  MINIMUM_LATITUDE = 28.909
  POSITIVE_LONGITUDE_DIRECTION = EAST
  REFERENCE_LATITUDE = "N/A"
  REFERENCE_LONGITUDE = "N/A"
  SAMPLE_FIRST_PIXEL = 1
  SAMPLE_LAST_PIXEL = 7163
  SAMPLE_PROJECTION_OFFSET = 3862.25
  SECOND_STANDARD_PARALLEL = "N/A"
  WESTERNMOST_LONGITUDE = 57.4162
END_OBJECT = IMAGE_MAP_PROJECTION
/* The JPEG2000 image data file associated with this label. */
OBJECT = COMPRESSED_FILE
  FILE_NAME = "H1446_0000_P23.JP2"
  RECORD_TYPE = UNDEFINED
  FILE_RECORDS = UNK
  ENCODING_TYPE = "JP2"
  INTERCHANGE_FORMAT = BINARY
  UNCOMPRESSED_FILE_NAME = "H1446_0000_P23.IMG"
  REQUIRED_STORAGE_BYTES = "578469554"
  ^DESCRIPTION = "JP2INFO.TXT"
END_OBJECT = COMPRESSED_FILE
END
