PDS_VERSION_ID = PDS3
/* FILE DATA ELEMENTS */
RECORD_TYPE = STREAM
/* POINTERS TO DATA OBJECTS */
^COMPRESSED_FILE = "H1450_0000_GR3.JP2"
/* IDENTIFICATION DATA ELEMENTS */
DATA_SET_ID = "MEX-M-HRSC-5-REFDR-MAPPROJECTED-V3.0"
DATA_SET_NAME = "MARS EXPRESS HRSC MAP PROJECTED REFDR V3.0"
DETECTOR_ID = MEX_HRSC_GREEN
EVENT_TYPE = "MARS-REGIONAL-MAPPING-Te-Gl-Mw"
INSTRUMENT_HOST_ID = MEX
INSTRUMENT_HOST_NAME = "MARS EXPRESS"
INSTRUMENT_ID = HRSC
INSTRUMENT_NAME = "HIGH RESOLUTION STEREO CAMERA"
MISSION_NAME = "MARS EXPRESS"
MISSION_PHASE_NAME = MR_Phase_4
PROCESSING_LEVEL_ID = 3
PRODUCT_CREATION_TIME = 2016-03-05T14:51:22.000Z
PRODUCT_ID = "H1450_0000_GR3.JP2"
RELEASE_ID = 0019
REVISION_ID = 0000
/* QUALITY DATA ELEMENTS */
DATA_QUALITY_ID = 1
DATA_QUALITY_DESC = "Data calculated based on original SPICE kernels"
/* TIME DATA ELEMENTS */
SPACECRAFT_CLOCK_START_COUNT = "1/0058040507.56187"
SPACECRAFT_CLOCK_STOP_COUNT = "1/0058040943.10975"
START_TIME = 2005-03-04T18:22:32.421Z
STOP_TIME = 2005-03-04T18:36:44.576Z
/* ORBITAL DATA ELEMENTS */
ASCENDING_NODE_LONGITUDE = 198.11
MAXIMUM_RESOLUTION = 105.3
FOOTPRINT_POINT_LATITUDE = (81.6925,80.7573,79.662,78.5864,77.5064 ,76.424,75.34,74.2551,73.1696,72.0844, 70.9995,69.9155,68.8326,67.7216,66.6065 ,65.4937,64.3837,63.2766,62.173,61.0731 ,59.9771,58.8855,57.7983,56.7159, 55.6386,54.5667,53.5,52.4387,51.385, 50.339,49.2953,48.2584,47.229,46.2077, 45.1923,44.185,43.1843,42.1903,41.2039, 40.2282,39.2586,38.2955,37.3412,36.3956 ,35.4563,34.526,33.6058,32.6926,30.8898 ,29.9757,29.9745,31.7514,32.6504, 33.5591,34.477,35.4028,36.3369,37.279, 38.2292,39.1877,40.1537,41.1293,42.1115 ,43.101,44.0981,45.1026,46.1143,47.1329 ,48.1585,49.1916,50.2322,51.2766, 52.3271,53.3849,54.4482,55.5168,56.5906 ,57.6695,58.753,59.8409,60.9328,62.0284 ,63.1274,64.2294,65.3341,66.441,67.5497 ,68.6554,69.7305,70.8059,71.8812, 72.9556,74.0285,75.0991,76.1665,77.2293 ,78.2862,79.3347,80.3935,81.6925)
FOOTPRINT_POINT_LONGITUDE = (16.194,21.4948,22.7048,23.6594,24.4332 ,25.0782,25.6252,26.0933,26.4973, 26.8504,27.1597,27.4342,27.6756,27.8982 ,28.0992,28.2787,28.4405,28.5862, 28.7189,28.8393,28.9495,29.0503,29.1427 ,29.2269,29.3051,29.3779,29.4429, 29.5007,29.5642,29.6332,29.6731,29.7115 ,29.7523,29.796,29.8313,29.869,29.9004, 29.9267,29.9509,29.9881,30.0156,30.0353 ,30.0577,30.0818,30.0968,30.115,30.14, 30.1587,30.1889,28.4437,27.1435,27.2013 ,27.2284,27.2523,27.2732,27.2919, 27.3078,27.3211,27.3314,27.3385,27.3424 ,27.3421,27.3386,27.3313,27.3196, 27.3034,27.2823,27.256,27.2241,27.1862, 27.1421,27.0903,27.0305,26.9629,26.886, 26.7991,26.7011,26.5912,26.4677,26.3294 ,26.1744,26.0008,25.8063,25.5882, 25.3434,25.0678,24.7572,24.4078,24.0232 ,23.5869,23.0902,22.5212,21.866,21.1061 ,20.2179,19.1697,17.92,16.4091,14.5111, 16.194)
ORBIT_NUMBER = 1450
ORBITAL_ECCENTRICITY = 0.566
ORBITAL_INCLINATION = 86.6
ORBITAL_SEMIMAJOR_AXIS = 8539.34
PERIAPSIS_ALTITUDE = 325.48
PERIAPSIS_ARGUMENT_ANGLE = 105.26
PERIAPSIS_TIME = 2005-03-04T18:24:19.000Z
SPACECRAFT_ORIENTATION = (0.0,1.0,0.0)
^MEX_ORIENTATION_DESC = "MEX_ORIENTATION_DESC.TXT"
SPACECRAFT_POINTING_MODE = ACROSSTRACK
^MEX_POINTING_DESC = "MEX_POINTING_DESC.TXT"
RIGHT_ASCENSION = -1e+32
DECLINATION = -1e+32
OFFSET_ANGLE = 0.85
SPACECRAFT_SOLAR_DISTANCE = 2.2274e+08
TARGET_NAME = MARS
/* CAMERA DATA ELEMENTS */
DETECTOR_TEMPERATURE = 17.9627
FOCAL_PLANE_TEMPERATURE = 8.3794
INST_CMPRS_NAME = "DISCRETE COSINE TRANSFORMATION (DCT)"
INST_CMPRS_RATIO = 27.145
INST_CMPRS_QUALITY = 0
INST_CMPRS_QUANTZ_TBL_ID = 0
INSTRUMENT_TEMPERATURE = 11.234
LENS_TEMPERATURE = 8.7872
MACROPIXEL_SIZE = 8
MISSING_FRAMES = 0
PIXEL_SUBSAMPLING_FLAG = N
SIGNAL_CHAIN_ID = 2
/* RADIOMETRIC DATA ELEMENTS */
BANDWIDTH = 88.0
CENTER_FILTER_WAVELENGTH = 538.0
RADIANCE_OFFSET = 1.18381
RADIANCE_SCALING_FACTOR = 0.00928477
REFLECTANCE_SCALING_FACTOR = 0.000396605
MEX:REFLECTANCE_OFFSET = 0.0505672
/* IMAGE OBJECT DEFINITIONS */
OBJECT = IMAGE
  INTERCHANGE_FORMAT = BINARY
  LINES = 30751
  LINE_SAMPLES = 2580
  SAMPLE_TYPE = UNSIGNED_INTEGER
  SAMPLE_BITS = 8
  BANDS = 1
  BAND_STORAGE_TYPE = BAND_SEQUENTIAL
  MAXIMUM = 132
  MEAN = 71.8371
  MINIMUM = 40
  STANDARD_DEVIATION = 16.2999
END_OBJECT = IMAGE
/* MAP OBJECT DEFINITIONS */
OBJECT = IMAGE_MAP_PROJECTION
  ^DATA_SET_MAP_PROJECTION_CATALOG= "DSMAP.CAT"
  A_AXIS_RADIUS = 3396.0
  B_AXIS_RADIUS = 3396.0
  C_AXIS_RADIUS = 3396.0
  CENTER_LATITUDE = 0.0
  CENTER_LONGITUDE = 28.0
  COORDINATE_SYSTEM_NAME = PLANETOGRAPHIC
  COORDINATE_SYSTEM_TYPE = "BODY-FIXED ROTATING"
  EASTERNMOST_LONGITUDE = 30.1889
  FIRST_STANDARD_PARALLEL = "N/A"
  LINE_FIRST_PIXEL = 1
  LINE_LAST_PIXEL = 30751
  LINE_PROJECTION_OFFSET = 48507.5625
  MAP_PROJECTION_ROTATION = 0.0
  MAP_PROJECTION_TYPE = SINUSOIDAL
  MAP_RESOLUTION = 592.713803866667
  MAP_SCALE = 0.1
  MAXIMUM_LATITUDE = 81.6925
  MINIMUM_LATITUDE = 29.9745
  POSITIVE_LONGITUDE_DIRECTION = EAST
  REFERENCE_LATITUDE = "N/A"
  REFERENCE_LONGITUDE = "N/A"
  SAMPLE_FIRST_PIXEL = 1
  SAMPLE_LAST_PIXEL = 2580
  SAMPLE_PROJECTION_OFFSET = 1413.9375
  SECOND_STANDARD_PARALLEL = "N/A"
  WESTERNMOST_LONGITUDE = 14.5111
END_OBJECT = IMAGE_MAP_PROJECTION
/* The JPEG2000 image data file associated with this label. */
OBJECT = COMPRESSED_FILE
  FILE_NAME = "H1450_0000_GR3.JP2"
  RECORD_TYPE = UNDEFINED
  FILE_RECORDS = UNK
  ENCODING_TYPE = "JP2"
  INTERCHANGE_FORMAT = BINARY
  UNCOMPRESSED_FILE_NAME = "H1450_0000_GR3.IMG"
  REQUIRED_STORAGE_BYTES = "79358220"
  ^DESCRIPTION = "JP2INFO.TXT"
END_OBJECT = COMPRESSED_FILE
END
