PDS_VERSION_ID = PDS3
/* FILE DATA ELEMENTS */
RECORD_TYPE = STREAM
/* POINTERS TO DATA OBJECTS */
^COMPRESSED_FILE = "H1450_0000_P23.JP2"
/* IDENTIFICATION DATA ELEMENTS */
DATA_SET_ID = "MEX-M-HRSC-5-REFDR-MAPPROJECTED-V3.0"
DATA_SET_NAME = "MARS EXPRESS HRSC MAP PROJECTED REFDR V3.0"
DETECTOR_ID = MEX_HRSC_P2
EVENT_TYPE = "MARS-REGIONAL-MAPPING-Te-Gl-Mw"
INSTRUMENT_HOST_ID = MEX
INSTRUMENT_HOST_NAME = "MARS EXPRESS"
INSTRUMENT_ID = HRSC
INSTRUMENT_NAME = "HIGH RESOLUTION STEREO CAMERA"
MISSION_NAME = "MARS EXPRESS"
MISSION_PHASE_NAME = MR_Phase_4
PROCESSING_LEVEL_ID = 3
PRODUCT_CREATION_TIME = 2016-03-05T14:51:22.000Z
PRODUCT_ID = "H1450_0000_P23.JP2"
RELEASE_ID = 0019
REVISION_ID = 0000
/* QUALITY DATA ELEMENTS */
DATA_QUALITY_ID = 1
DATA_QUALITY_DESC = "Data calculated based on original SPICE kernels"
/* TIME DATA ELEMENTS */
SPACECRAFT_CLOCK_START_COUNT = "1/0058040507.56187"
SPACECRAFT_CLOCK_STOP_COUNT = "1/0058040943.10975"
START_TIME = 2005-03-04T18:22:06.502Z
STOP_TIME = 2005-03-04T18:35:40.364Z
/* ORBITAL DATA ELEMENTS */
ASCENDING_NODE_LONGITUDE = 198.11
MAXIMUM_RESOLUTION = 54.2
FOOTPRINT_POINT_LATITUDE = (81.7592,81.8461,80.2905,79.2451, 78.1965,77.1742,76.1476,75.1175,74.0841 ,73.0482,72.0095,70.969,69.9266,68.8835 ,67.8388,66.7873,65.7066,64.6259, 63.5453,62.465,61.3857,60.3071,59.2297, 58.154,57.0806,56.0083,54.9385,53.8711, 52.808,51.216,50.1458,49.0969,47.5327, 46.4899,44.9337,43.8971,42.8679,41.3441 ,40.3205,39.3071,38.3054,37.306,36.3085 ,35.3239,34.3406,32.867,31.9032,30.4584 ,29.9524,29.9792,30.4599,31.4126, 32.8681,33.8364,34.8147,35.797,37.2832, 38.2815,39.2833,40.2927,41.2989,42.3171 ,43.3399,44.3684,45.4021,46.4384, 47.4822,48.5253,49.5639,50.6194,51.683, 52.7402,53.8014,54.8656,55.9325,57.0013 ,58.0718,59.144,60.2176,61.2923,62.3678 ,63.4435,64.5192,65.5945,66.6694, 67.7166,68.7541,69.7903,70.8242,71.8551 ,72.8833,73.9072,74.9268,75.9411, 76.9492,77.9498,78.9687,79.9848,80.9844 ,81.7592)
FOOTPRINT_POINT_LONGITUDE = (14.8445,20.1646,22.2028,23.2194, 24.0691,24.741,25.3124,25.8022,26.2274, 26.5979,26.9255,27.2144,27.4727,27.7008 ,27.9082,28.096,28.27,28.4268,28.5692, 28.6991,28.817,28.9256,29.025,29.1159, 29.1986,29.2763,29.3478,29.4138,29.4723 ,29.557,29.6283,29.6679,29.7189,29.7566 ,29.8082,29.8454,29.8766,29.9066, 29.9404,29.9664,29.9838,30.0031,30.0245 ,30.0373,30.0534,30.0839,30.0926, 30.1132,29.3189,27.7911,27.3016,27.3269 ,27.362,27.3811,27.3981,27.412,27.4276, 27.4341,27.4371,27.4368,27.4327,27.4248 ,27.4128,27.3962,27.3749,27.3487, 27.3167,27.2795,27.2378,27.1871,27.1278 ,27.0629,26.9893,26.9064,26.8134, 26.7095,26.5935,26.4643,26.3202,26.1599 ,25.9812,25.7824,25.5608,25.3134, 25.0366,24.7345,24.3993,24.0225,23.5983 ,23.1192,22.5747,21.9538,21.2409, 20.4171,19.4574,18.3299,16.9484,15.26, 13.1926,14.8445)
ORBIT_NUMBER = 1450
ORBITAL_ECCENTRICITY = 0.566
ORBITAL_INCLINATION = 86.6
ORBITAL_SEMIMAJOR_AXIS = 8539.34
PERIAPSIS_ALTITUDE = 325.48
PERIAPSIS_ARGUMENT_ANGLE = 105.26
PERIAPSIS_TIME = 2005-03-04T18:24:19.000Z
SPACECRAFT_ORIENTATION = (0.0,1.0,0.0)
^MEX_ORIENTATION_DESC = "MEX_ORIENTATION_DESC.TXT"
SPACECRAFT_POINTING_MODE = ACROSSTRACK
^MEX_POINTING_DESC = "MEX_POINTING_DESC.TXT"
RIGHT_ASCENSION = -1e+32
DECLINATION = -1e+32
OFFSET_ANGLE = 0.85
SPACECRAFT_SOLAR_DISTANCE = 2.2274e+08
TARGET_NAME = MARS
/* CAMERA DATA ELEMENTS */
DETECTOR_TEMPERATURE = 18.5744
FOCAL_PLANE_TEMPERATURE = 8.3794
INST_CMPRS_NAME = "DISCRETE COSINE TRANSFORMATION (DCT)"
INST_CMPRS_RATIO = 16.8408
INST_CMPRS_QUALITY = 0
INST_CMPRS_QUANTZ_TBL_ID = 0
INSTRUMENT_TEMPERATURE = 11.234
LENS_TEMPERATURE = 8.7872
MACROPIXEL_SIZE = 4
MISSING_FRAMES = 0
PIXEL_SUBSAMPLING_FLAG = N
SIGNAL_CHAIN_ID = 3
/* RADIOMETRIC DATA ELEMENTS */
BANDWIDTH = 177.0
CENTER_FILTER_WAVELENGTH = 676.5
RADIANCE_OFFSET = 2.43674
RADIANCE_SCALING_FACTOR = 0.0398161
REFLECTANCE_SCALING_FACTOR = 0.0010474
MEX:REFLECTANCE_OFFSET = 0.064101
/* IMAGE OBJECT DEFINITIONS */
OBJECT = IMAGE
  INTERCHANGE_FORMAT = BINARY
  LINES = 61501
  LINE_SAMPLES = 5160
  SAMPLE_TYPE = UNSIGNED_INTEGER
  SAMPLE_BITS = 8
  BANDS = 1
  BAND_STORAGE_TYPE = BAND_SEQUENTIAL
  MAXIMUM = 170
  MEAN = 79.2391
  MINIMUM = 29
  STANDARD_DEVIATION = 25.1656
END_OBJECT = IMAGE
/* MAP OBJECT DEFINITIONS */
OBJECT = IMAGE_MAP_PROJECTION
  ^DATA_SET_MAP_PROJECTION_CATALOG= "DSMAP.CAT"
  A_AXIS_RADIUS = 3396.0
  B_AXIS_RADIUS = 3396.0
  C_AXIS_RADIUS = 3396.0
  CENTER_LATITUDE = 0.0
  CENTER_LONGITUDE = 28.0
  COORDINATE_SYSTEM_NAME = PLANETOGRAPHIC
  COORDINATE_SYSTEM_TYPE = "BODY-FIXED ROTATING"
  EASTERNMOST_LONGITUDE = 30.1132
  FIRST_STANDARD_PARALLEL = "N/A"
  LINE_FIRST_PIXEL = 1
  LINE_LAST_PIXEL = 61501
  LINE_PROJECTION_OFFSET = 97015.625
  MAP_PROJECTION_ROTATION = 0.0
  MAP_PROJECTION_TYPE = SINUSOIDAL
  MAP_RESOLUTION = 1185.42760773333
  MAP_SCALE = 0.05
  MAXIMUM_LATITUDE = 81.84610000000001
  MINIMUM_LATITUDE = 29.9524
  POSITIVE_LONGITUDE_DIRECTION = EAST
  REFERENCE_LATITUDE = "N/A"
  REFERENCE_LONGITUDE = "N/A"
  SAMPLE_FIRST_PIXEL = 1
  SAMPLE_LAST_PIXEL = 5160
  SAMPLE_PROJECTION_OFFSET = 2828.375
  SECOND_STANDARD_PARALLEL = "N/A"
  WESTERNMOST_LONGITUDE = 13.1926
END_OBJECT = IMAGE_MAP_PROJECTION
/* The JPEG2000 image data file associated with this label. */
OBJECT = COMPRESSED_FILE
  FILE_NAME = "H1450_0000_P23.JP2"
  RECORD_TYPE = UNDEFINED
  FILE_RECORDS = UNK
  ENCODING_TYPE = "JP2"
  INTERCHANGE_FORMAT = BINARY
  UNCOMPRESSED_FILE_NAME = "H1450_0000_P23.IMG"
  REQUIRED_STORAGE_BYTES = "317370960"
  ^DESCRIPTION = "JP2INFO.TXT"
END_OBJECT = COMPRESSED_FILE
END
