PDS_VERSION_ID = PDS3
/* FILE DATA ELEMENTS */
RECORD_TYPE = STREAM
/* POINTERS TO DATA OBJECTS */
^COMPRESSED_FILE = "H1451_0000_P13.JP2"
/* IDENTIFICATION DATA ELEMENTS */
DATA_SET_ID = "MEX-M-HRSC-5-REFDR-MAPPROJECTED-V3.0"
DATA_SET_NAME = "MARS EXPRESS HRSC MAP PROJECTED REFDR V3.0"
DETECTOR_ID = MEX_HRSC_P1
EVENT_TYPE = "MARS-REGIONAL-MAPPING-Te-Gl-Eo"
INSTRUMENT_HOST_ID = MEX
INSTRUMENT_HOST_NAME = "MARS EXPRESS"
INSTRUMENT_ID = HRSC
INSTRUMENT_NAME = "HIGH RESOLUTION STEREO CAMERA"
MISSION_NAME = "MARS EXPRESS"
MISSION_PHASE_NAME = MR_Phase_4
PROCESSING_LEVEL_ID = 3
PRODUCT_CREATION_TIME = 2016-03-05T14:51:22.000Z
PRODUCT_ID = "H1451_0000_P13.JP2"
RELEASE_ID = 0019
REVISION_ID = 0000
/* QUALITY DATA ELEMENTS */
DATA_QUALITY_ID = 1
DATA_QUALITY_DESC = "Data calculated based on original SPICE kernels"
/* TIME DATA ELEMENTS */
SPACECRAFT_CLOCK_START_COUNT = "1/0058064752.57943"
SPACECRAFT_CLOCK_STOP_COUNT = "1/0058065205.63360"
START_TIME = 2005-03-05T01:06:50.578Z
STOP_TIME = 2005-03-05T01:14:14.372Z
/* ORBITAL DATA ELEMENTS */
ASCENDING_NODE_LONGITUDE = 198.1
MAXIMUM_RESOLUTION = 54
FOOTPRINT_POINT_LATITUDE = (78.6954,78.8987,78.6111,78.0925, 77.5723,77.0507,76.528,76.0044,75.48, 74.955,74.4294,73.9036,73.3777,72.8516, 72.3255,71.7994,71.2735,70.7478,70.2223 ,69.7007,69.1728,68.6489,67.8456, 67.3056,66.7662,66.2274,65.6898,64.8666 ,64.3141,63.7628,63.2121,62.6459, 62.0809,61.5175,60.9423,60.3647,59.4934 ,58.9031,58.3145,57.7112,57.1098, 56.4968,55.5775,54.9673,54.3597,53.7544 ,53.1521,52.5514,51.9535,51.3603, 51.3222,51.5849,52.1792,52.776,53.3754, 53.9771,54.5815,55.1881,55.7967,56.4076 ,57.0182,57.617,58.2176,58.8033,59.3909 ,60.2581,60.8329,61.4045,61.9649, 62.5266,63.0893,63.6365,64.1843,64.733, 65.2837,65.8169,66.3508,66.8856,67.4207 ,67.9561,68.4841,69.003,69.5219,70.041, 70.56,71.079,71.5978,72.1163,72.6342, 73.1518,73.6686,74.1845,74.6993,75.2129 ,75.7251,76.2355,76.7439,77.2501, 77.7534,78.6954)
FOOTPRINT_POINT_LONGITUDE = (271.616,274.552,277.659,278.398, 279.075,279.695,280.267,280.794,281.283 ,281.736,282.157,282.55,282.917,283.261 ,283.583,283.886,284.171,284.439, 284.692,284.93,285.157,285.371,285.679, 285.873,286.057,286.232,286.398,286.638 ,286.79,286.935,287.073,287.209,287.338 ,287.462,287.583,287.699,287.865, 287.972,288.074,288.174,288.27,288.364, 288.498,288.582,288.663,288.741,288.816 ,288.887,288.955,289.021,287.485, 286.437,286.371,286.302,286.228,286.15, 286.067,285.98,285.887,285.788,285.684, 285.576,285.462,285.345,285.221,285.026 ,284.888,284.744,284.595,284.438, 284.272,284.102,283.923,283.734,283.532 ,283.33,283.115,282.886,282.645,282.391 ,282.125,281.849,281.557,281.248,280.92 ,280.571,280.201,279.806,279.386, 278.937,278.456,277.942,277.39,276.797, 276.158,275.469,274.724,273.916,273.038 ,271.616)
ORBIT_NUMBER = 1451
ORBITAL_ECCENTRICITY = 0.566
ORBITAL_INCLINATION = 86.6
ORBITAL_SEMIMAJOR_AXIS = 8537.47
PERIAPSIS_ALTITUDE = 325.32
PERIAPSIS_ARGUMENT_ANGLE = 105.1
PERIAPSIS_TIME = 2005-03-05T01:07:44.000Z
SPACECRAFT_ORIENTATION = (0.0,1.0,0.0)
^MEX_ORIENTATION_DESC = "MEX_ORIENTATION_DESC.TXT"
SPACECRAFT_POINTING_MODE = ACROSSTRACK
^MEX_POINTING_DESC = "MEX_POINTING_DESC.TXT"
RIGHT_ASCENSION = -1e+32
DECLINATION = -1e+32
OFFSET_ANGLE = -0.49
SPACECRAFT_SOLAR_DISTANCE = 2.22686e+08
TARGET_NAME = MARS
/* CAMERA DATA ELEMENTS */
DETECTOR_TEMPERATURE = 17.5549
FOCAL_PLANE_TEMPERATURE = 8.3794
INST_CMPRS_NAME = "DISCRETE COSINE TRANSFORMATION (DCT)"
INST_CMPRS_RATIO = 29.6409
INST_CMPRS_QUALITY = 0
INST_CMPRS_QUANTZ_TBL_ID = 0
INSTRUMENT_TEMPERATURE = 11.234
LENS_TEMPERATURE = 8.5833
MACROPIXEL_SIZE = 4
MISSING_FRAMES = 0
PIXEL_SUBSAMPLING_FLAG = N
SIGNAL_CHAIN_ID = 3
/* RADIOMETRIC DATA ELEMENTS */
BANDWIDTH = 174.0
CENTER_FILTER_WAVELENGTH = 675.0
RADIANCE_OFFSET = 2.24904
RADIANCE_SCALING_FACTOR = 0.0245419
REFLECTANCE_SCALING_FACTOR = 0.000654607
MEX:REFLECTANCE_OFFSET = 0.0599886
/* IMAGE OBJECT DEFINITIONS */
OBJECT = IMAGE
  INTERCHANGE_FORMAT = BINARY
  LINES = 33034
  LINE_SAMPLES = 6096
  SAMPLE_TYPE = UNSIGNED_INTEGER
  SAMPLE_BITS = 8
  BANDS = 1
  BAND_STORAGE_TYPE = BAND_SEQUENTIAL
  MAXIMUM = 180
  MEAN = 99.2429
  MINIMUM = 46
  STANDARD_DEVIATION = 29.2039
END_OBJECT = IMAGE
/* MAP OBJECT DEFINITIONS */
OBJECT = IMAGE_MAP_PROJECTION
  ^DATA_SET_MAP_PROJECTION_CATALOG= "DSMAP.CAT"
  A_AXIS_RADIUS = 3396.0
  B_AXIS_RADIUS = 3396.0
  C_AXIS_RADIUS = 3396.0
  CENTER_LATITUDE = 0.0
  CENTER_LONGITUDE = 285.0
  COORDINATE_SYSTEM_NAME = PLANETOGRAPHIC
  COORDINATE_SYSTEM_TYPE = "BODY-FIXED ROTATING"
  EASTERNMOST_LONGITUDE = 289.021
  FIRST_STANDARD_PARALLEL = "N/A"
  LINE_FIRST_PIXEL = 1
  LINE_LAST_PIXEL = 33034
  LINE_PROJECTION_OFFSET = 93813.125
  MAP_PROJECTION_ROTATION = 0.0
  MAP_PROJECTION_TYPE = SINUSOIDAL
  MAP_RESOLUTION = 1185.42760773333
  MAP_SCALE = 0.05
  MAXIMUM_LATITUDE = 78.89870000000001
  MINIMUM_LATITUDE = 51.3222
  POSITIVE_LONGITUDE_DIRECTION = EAST
  REFERENCE_LATITUDE = "N/A"
  REFERENCE_LONGITUDE = "N/A"
  SAMPLE_FIRST_PIXEL = 1
  SAMPLE_LAST_PIXEL = 6096
  SAMPLE_PROJECTION_OFFSET = 3161.375
  SECOND_STANDARD_PARALLEL = "N/A"
  WESTERNMOST_LONGITUDE = 271.616
END_OBJECT = IMAGE_MAP_PROJECTION
/* The JPEG2000 image data file associated with this label. */
OBJECT = COMPRESSED_FILE
  FILE_NAME = "H1451_0000_P13.JP2"
  RECORD_TYPE = UNDEFINED
  FILE_RECORDS = UNK
  ENCODING_TYPE = "JP2"
  INTERCHANGE_FORMAT = BINARY
  UNCOMPRESSED_FILE_NAME = "H1451_0000_P13.IMG"
  REQUIRED_STORAGE_BYTES = "201405744"
  ^DESCRIPTION = "JP2INFO.TXT"
END_OBJECT = COMPRESSED_FILE
END
