PDS_VERSION_ID = PDS3
/* FILE DATA ELEMENTS */
RECORD_TYPE = STREAM
/* POINTERS TO DATA OBJECTS */
^COMPRESSED_FILE = "H1454_0000_ND3.JP2"
/* IDENTIFICATION DATA ELEMENTS */
DATA_SET_ID = "MEX-M-HRSC-5-REFDR-MAPPROJECTED-V3.0"
DATA_SET_NAME = "MARS EXPRESS HRSC MAP PROJECTED REFDR V3.0"
DETECTOR_ID = MEX_HRSC_NADIR
EVENT_TYPE = "MARS-REGIONAL-MAPPING-Im-Gl-Eo"
INSTRUMENT_HOST_ID = MEX
INSTRUMENT_HOST_NAME = "MARS EXPRESS"
INSTRUMENT_ID = HRSC
INSTRUMENT_NAME = "HIGH RESOLUTION STEREO CAMERA"
MISSION_NAME = "MARS EXPRESS"
MISSION_PHASE_NAME = MR_Phase_4
PROCESSING_LEVEL_ID = 3
PRODUCT_CREATION_TIME = 2016-03-05T14:51:22.000Z
PRODUCT_ID = "H1454_0000_ND3.JP2"
RELEASE_ID = 0019
REVISION_ID = 0000
/* QUALITY DATA ELEMENTS */
DATA_QUALITY_ID = 1
DATA_QUALITY_DESC = "Data calculated based on original SPICE kernels"
/* TIME DATA ELEMENTS */
SPACECRAFT_CLOCK_START_COUNT = "1/0058137283.56202"
SPACECRAFT_CLOCK_STOP_COUNT = "1/0058137724.53152"
START_TIME = 2005-03-05T21:15:23.554Z
STOP_TIME = 2005-03-05T21:24:48.542Z
/* ORBITAL DATA ELEMENTS */
ASCENDING_NODE_LONGITUDE = 198.04
MAXIMUM_RESOLUTION = 13.2
FOOTPRINT_POINT_LATITUDE = (83.3217,82.8988,82.2425,81.2449,80.588 ,79.9253,79.258,78.5865,77.9117,77.2342 ,76.5542,75.8723,74.8465,73.8319,73.145 ,72.4573,71.7691,71.0805,70.3917, 69.7027,69.0138,68.3251,67.6366,66.9297 ,66.2192,65.5093,64.8002,64.0761,63.346 ,62.617,61.5002,60.7518,59.6064,58.8397 ,58.0748,57.312,56.5513,55.7928,55.0366 ,54.2828,53.5315,52.7827,52.0348,51.127 ,50.387,49.6499,48.9157,48.1846,47.7934 ,47.7685,47.7438,48.0853,48.8141, 49.5458,50.2805,51.0181,51.9229,52.6683 ,53.4145,54.1632,54.9143,55.6677, 56.4236,57.1813,57.9409,58.7026,59.466, 60.6066,61.3513,62.4629,63.1879,63.9139 ,64.6331,65.3383,66.0434,66.7484, 67.4501,68.1327,68.8152,69.4973,70.179, 70.86,71.5401,72.2191,72.8969,73.5729, 74.5695,75.5743,76.2405,76.903,77.5612, 78.2144,78.8618,79.5023,80.135,80.7573, 81.6912,82.2965,82.8798,83.3217)
FOOTPRINT_POINT_LONGITUDE = (328.625,334.725,336.934,339.608, 341.038,342.279,343.371,344.329,345.179 ,345.938,346.619,347.233,348.048, 348.749,349.173,349.563,349.922,350.254 ,350.561,350.847,351.113,351.361, 351.592,351.814,352.023,352.218,352.407 ,352.578,352.748,352.905,353.13,353.27, 353.469,353.593,353.71,353.821,353.926, 354.025,354.119,354.208,354.292,354.373 ,354.449,354.537,354.606,354.671, 354.733,354.792,354.403,353.538,352.844 ,352.285,352.233,352.177,352.116, 352.051,351.963,351.885,351.802,351.712 ,351.616,351.512,351.404,351.284, 351.154,351.016,350.869,350.628,350.457 ,350.18,349.984,349.775,349.538,349.312 ,349.062,348.789,348.499,348.195,347.87 ,347.519,347.14,346.732,346.289,345.809 ,345.287,344.718,343.778,342.682, 341.859,340.947,339.935,338.805,337.54, 336.116,334.51,332.675,329.31,326.593, 323.414,328.625)
ORBIT_NUMBER = 1454
ORBITAL_ECCENTRICITY = 0.566
ORBITAL_INCLINATION = 86.61
ORBITAL_SEMIMAJOR_AXIS = 8537.18
PERIAPSIS_ALTITUDE = 325.79
PERIAPSIS_ARGUMENT_ANGLE = 104.53
PERIAPSIS_TIME = 2005-03-05T21:17:39.000Z
SPACECRAFT_ORIENTATION = (0.0,1.0,0.0)
^MEX_ORIENTATION_DESC = "MEX_ORIENTATION_DESC.TXT"
SPACECRAFT_POINTING_MODE = ACROSSTRACK
^MEX_POINTING_DESC = "MEX_POINTING_DESC.TXT"
RIGHT_ASCENSION = -1e+32
DECLINATION = -1e+32
OFFSET_ANGLE = -0.229
SPACECRAFT_SOLAR_DISTANCE = 2.22524e+08
TARGET_NAME = MARS
/* CAMERA DATA ELEMENTS */
DETECTOR_TEMPERATURE = 17.9627
FOCAL_PLANE_TEMPERATURE = 8.1755
INST_CMPRS_NAME = "DISCRETE COSINE TRANSFORMATION (DCT)"
INST_CMPRS_RATIO = 7.86128
INST_CMPRS_QUALITY = 0
INST_CMPRS_QUANTZ_TBL_ID = 0
INSTRUMENT_TEMPERATURE = 11.0301
LENS_TEMPERATURE = 8.5833
MACROPIXEL_SIZE = 1
MISSING_FRAMES = 95
PIXEL_SUBSAMPLING_FLAG = N
SIGNAL_CHAIN_ID = 0
/* RADIOMETRIC DATA ELEMENTS */
BANDWIDTH = 177.0
CENTER_FILTER_WAVELENGTH = 677.5
RADIANCE_OFFSET = 1.53224
RADIANCE_SCALING_FACTOR = 0.0187774
REFLECTANCE_SCALING_FACTOR = 0.000493941
MEX:REFLECTANCE_OFFSET = 0.0403056
/* IMAGE OBJECT DEFINITIONS */
OBJECT = IMAGE
  INTERCHANGE_FORMAT = BINARY
  LINES = 169799
  LINE_SAMPLES = 30634
  SAMPLE_TYPE = UNSIGNED_INTEGER
  SAMPLE_BITS = 8
  BANDS = 1
  BAND_STORAGE_TYPE = BAND_SEQUENTIAL
  MAXIMUM = 145
  MEAN = 64.0969
  MINIMUM = 19
  STANDARD_DEVIATION = 17.8104
END_OBJECT = IMAGE
/* MAP OBJECT DEFINITIONS */
OBJECT = IMAGE_MAP_PROJECTION
  ^DATA_SET_MAP_PROJECTION_CATALOG= "DSMAP.CAT"
  A_AXIS_RADIUS = 3396.0
  B_AXIS_RADIUS = 3396.0
  C_AXIS_RADIUS = 3396.0
  CENTER_LATITUDE = 0.0
  CENTER_LONGITUDE = 350.0
  COORDINATE_SYSTEM_NAME = PLANETOGRAPHIC
  COORDINATE_SYSTEM_TYPE = "BODY-FIXED ROTATING"
  EASTERNMOST_LONGITUDE = 354.792
  FIRST_STANDARD_PARALLEL = "N/A"
  LINE_FIRST_PIXEL = 1
  LINE_LAST_PIXEL = 169799
  LINE_PROJECTION_OFFSET = 396101.0
  MAP_PROJECTION_ROTATION = 0.0
  MAP_PROJECTION_TYPE = SINUSOIDAL
  MAP_RESOLUTION = 4741.71043093333
  MAP_SCALE = 0.0125
  MAXIMUM_LATITUDE = 83.32170000000001
  MINIMUM_LATITUDE = 47.7438
  POSITIVE_LONGITUDE_DIRECTION = EAST
  REFERENCE_LATITUDE = "N/A"
  REFERENCE_LONGITUDE = "N/A"
  SAMPLE_FIRST_PIXEL = 1
  SAMPLE_LAST_PIXEL = 30634
  SAMPLE_PROJECTION_OFFSET = 15340.0
  SECOND_STANDARD_PARALLEL = "N/A"
  WESTERNMOST_LONGITUDE = 323.414
END_OBJECT = IMAGE_MAP_PROJECTION
/* The JPEG2000 image data file associated with this label. */
OBJECT = COMPRESSED_FILE
  FILE_NAME = "H1454_0000_ND3.JP2"
  RECORD_TYPE = UNDEFINED
  FILE_RECORDS = UNK
  ENCODING_TYPE = "JP2"
  INTERCHANGE_FORMAT = BINARY
  UNCOMPRESSED_FILE_NAME = "H1454_0000_ND3.IMG"
  REQUIRED_STORAGE_BYTES = "5201714468"
  ^DESCRIPTION = "JP2INFO.TXT"
END_OBJECT = COMPRESSED_FILE
END
