PDS_VERSION_ID = PDS3
/* FILE DATA ELEMENTS */
RECORD_TYPE = STREAM
/* POINTERS TO DATA OBJECTS */
^COMPRESSED_FILE = "H1461_0000_S23.JP2"
/* IDENTIFICATION DATA ELEMENTS */
DATA_SET_ID = "MEX-M-HRSC-5-REFDR-MAPPROJECTED-V3.0"
DATA_SET_NAME = "MARS EXPRESS HRSC MAP PROJECTED REFDR V3.0"
DETECTOR_ID = MEX_HRSC_S2
EVENT_TYPE = "MARS-REGIONAL-MAPPING-Te-Gl-Mw"
INSTRUMENT_HOST_ID = MEX
INSTRUMENT_HOST_NAME = "MARS EXPRESS"
INSTRUMENT_ID = HRSC
INSTRUMENT_NAME = "HIGH RESOLUTION STEREO CAMERA"
MISSION_NAME = "MARS EXPRESS"
MISSION_PHASE_NAME = MR_Phase_5
PROCESSING_LEVEL_ID = 3
PRODUCT_CREATION_TIME = 2016-03-05T14:51:22.000Z
PRODUCT_ID = "H1461_0000_S23.JP2"
RELEASE_ID = 0019
REVISION_ID = 0000
/* QUALITY DATA ELEMENTS */
DATA_QUALITY_ID = 1
DATA_QUALITY_DESC = "Data calculated based on original SPICE kernels"
/* TIME DATA ELEMENTS */
SPACECRAFT_CLOCK_START_COUNT = "1/0058306733.57286"
SPACECRAFT_CLOCK_STOP_COUNT = "1/0058307185.61860"
START_TIME = 2005-03-07T20:19:01.456Z
STOP_TIME = 2005-03-07T20:31:25.970Z
/* ORBITAL DATA ELEMENTS */
ASCENDING_NODE_LONGITUDE = 197.88
MAXIMUM_RESOLUTION = 28
FOOTPRINT_POINT_LATITUDE = (81.3977,81.4658,80.6872,79.9255, 78.7691,77.9962,77.2201,76.44,75.6571, 74.8711,73.6876,69.6976,68.3887,67.587, 66.7732,65.5272,64.6963,63.8598,63.0012 ,62.1425,60.8283,59.9429,59.0383, 58.1271,57.1942,56.2528,55.2907,53.8179 ,52.8348,51.3542,50.3693,49.3883, 48.4282,47.4542,46.4907,45.5201,44.5588 ,43.5914,42.6346,41.6843,40.7403, 39.3195,38.3779,37.4399,36.5059,35.5772 ,34.6531,33.7331,33.2757,33.2748, 33.2675,34.1824,35.0992,36.0268,36.9542 ,37.8867,38.8234,39.7604,41.1707, 42.1205,43.5546,44.9953,45.9546,46.9185 ,47.8872,48.86,49.8342,50.81,51.788, 52.7676,53.7494,55.2184,56.1775,57.1159 ,58.0464,58.9544,59.8564,60.7385, 61.6199,62.4743,63.3292,64.1756,65.0024 ,65.8283,66.6535,67.4622,68.2583, 69.5132,73.5026,74.2808,75.0551,75.8254 ,76.5907,77.3508,78.1055,78.8537, 79.5961,80.3282,81.0696,81.3977)
FOOTPRINT_POINT_LONGITUDE = (10.8268,15.4353,16.7836,17.896,19.2956 ,20.0645,20.7377,21.3346,21.865,22.3405 ,22.9661,24.5147,24.8911,25.098,25.2927 ,25.5636,25.7276,25.8814,26.028,26.1645 ,26.3568,26.4752,26.5881,26.6943, 26.7957,26.8916,26.9832,27.1123,27.1902 ,27.3046,27.3752,27.4399,27.4877, 27.5437,27.591,27.6417,27.6853,27.7318, 27.7712,27.8063,27.8378,27.8874,27.9175 ,27.9459,27.9724,27.9967,28.0192, 28.0403,27.1907,26.0713,25.2923,25.3031 ,25.3107,25.3167,25.3189,25.3181,25.314 ,25.3058,25.2862,25.2692,25.2364, 25.1932,25.1575,25.1168,25.0709,25.0193 ,24.9611,24.896,24.8237,24.7435,24.6549 ,24.5056,24.3961,24.2788,24.1519, 24.0169,23.8711,23.716,23.5476,23.3702, 23.1777,22.9707,22.7511,22.5128,22.2538 ,21.9776,21.6815,21.159,18.8753,18.2758 ,17.61,16.8675,16.0363,15.1008,14.0417, 12.8355,11.4502,9.85169,7.93084, 10.8268)
ORBIT_NUMBER = 1461
ORBITAL_ECCENTRICITY = 0.566
ORBITAL_INCLINATION = 86.6
ORBITAL_SEMIMAJOR_AXIS = 8537.61
PERIAPSIS_ALTITUDE = 326.08
PERIAPSIS_ARGUMENT_ANGLE = 103.3
PERIAPSIS_TIME = 2005-03-07T20:20:50.000Z
SPACECRAFT_ORIENTATION = (0.0,1.0,0.0)
^MEX_ORIENTATION_DESC = "MEX_ORIENTATION_DESC.TXT"
SPACECRAFT_POINTING_MODE = ACROSSTRACK
^MEX_POINTING_DESC = "MEX_POINTING_DESC.TXT"
RIGHT_ASCENSION = -1e+32
DECLINATION = -1e+32
OFFSET_ANGLE = 0.35
SPACECRAFT_SOLAR_DISTANCE = 2.22146e+08
TARGET_NAME = MARS
/* CAMERA DATA ELEMENTS */
DETECTOR_TEMPERATURE = 18.5744
FOCAL_PLANE_TEMPERATURE = 8.5833
INST_CMPRS_NAME = "DISCRETE COSINE TRANSFORMATION (DCT)"
INST_CMPRS_RATIO = 11.0025
INST_CMPRS_QUALITY = 0
INST_CMPRS_QUANTZ_TBL_ID = 0
INSTRUMENT_TEMPERATURE = 11.234
LENS_TEMPERATURE = 8.9911
MACROPIXEL_SIZE = 2
MISSING_FRAMES = 1102
PIXEL_SUBSAMPLING_FLAG = N
SIGNAL_CHAIN_ID = 1
/* RADIOMETRIC DATA ELEMENTS */
BANDWIDTH = 178.0
CENTER_FILTER_WAVELENGTH = 679.0
RADIANCE_OFFSET = 2.47645
RADIANCE_SCALING_FACTOR = 0.0363619
REFLECTANCE_SCALING_FACTOR = 0.000950285
MEX:REFLECTANCE_OFFSET = 0.0647197
/* IMAGE OBJECT DEFINITIONS */
OBJECT = IMAGE
  INTERCHANGE_FORMAT = BINARY
  LINES = 114261
  LINE_SAMPLES = 10952
  SAMPLE_TYPE = UNSIGNED_INTEGER
  SAMPLE_BITS = 8
  BANDS = 1
  BAND_STORAGE_TYPE = BAND_SEQUENTIAL
  MAXIMUM = 223
  MEAN = 109.645
  MINIMUM = 39
  STANDARD_DEVIATION = 33.7866
END_OBJECT = IMAGE
/* MAP OBJECT DEFINITIONS */
OBJECT = IMAGE_MAP_PROJECTION
  ^DATA_SET_MAP_PROJECTION_CATALOG= "DSMAP.CAT"
  A_AXIS_RADIUS = 3396.0
  B_AXIS_RADIUS = 3396.0
  C_AXIS_RADIUS = 3396.0
  CENTER_LATITUDE = 0.0
  CENTER_LONGITUDE = 26.0
  COORDINATE_SYSTEM_NAME = PLANETOGRAPHIC
  COORDINATE_SYSTEM_TYPE = "BODY-FIXED ROTATING"
  EASTERNMOST_LONGITUDE = 28.0403
  FIRST_STANDARD_PARALLEL = "N/A"
  LINE_FIRST_PIXEL = 1
  LINE_LAST_PIXEL = 114261
  LINE_PROJECTION_OFFSET = 193147.75
  MAP_PROJECTION_ROTATION = 0.0
  MAP_PROJECTION_TYPE = SINUSOIDAL
  MAP_RESOLUTION = 2370.85521546667
  MAP_SCALE = 0.025
  MAXIMUM_LATITUDE = 81.4658
  MINIMUM_LATITUDE = 33.2675
  POSITIVE_LONGITUDE_DIRECTION = EAST
  REFERENCE_LATITUDE = "N/A"
  REFERENCE_LONGITUDE = "N/A"
  SAMPLE_FIRST_PIXEL = 1
  SAMPLE_LAST_PIXEL = 10952
  SAMPLE_PROJECTION_OFFSET = 6611.25
  SECOND_STANDARD_PARALLEL = "N/A"
  WESTERNMOST_LONGITUDE = 7.93084
END_OBJECT = IMAGE_MAP_PROJECTION
/* The JPEG2000 image data file associated with this label. */
OBJECT = COMPRESSED_FILE
  FILE_NAME = "H1461_0000_S23.JP2"
  RECORD_TYPE = UNDEFINED
  FILE_RECORDS = UNK
  ENCODING_TYPE = "JP2"
  INTERCHANGE_FORMAT = BINARY
  UNCOMPRESSED_FILE_NAME = "H1461_0000_S23.IMG"
  REQUIRED_STORAGE_BYTES = "1251419328"
  ^DESCRIPTION = "JP2INFO.TXT"
END_OBJECT = COMPRESSED_FILE
END
