PDS_VERSION_ID = PDS3
/* FILE DATA ELEMENTS */
RECORD_TYPE = STREAM
/* POINTERS TO DATA OBJECTS */
^COMPRESSED_FILE = "H1462_0000_GR3.JP2"
/* IDENTIFICATION DATA ELEMENTS */
DATA_SET_ID = "MEX-M-HRSC-5-REFDR-MAPPROJECTED-V3.0"
DATA_SET_NAME = "MARS EXPRESS HRSC MAP PROJECTED REFDR V3.0"
DETECTOR_ID = MEX_HRSC_GREEN
EVENT_TYPE = "MARS-REGIONAL-STEREO-Vo-Te-Gl"
INSTRUMENT_HOST_ID = MEX
INSTRUMENT_HOST_NAME = "MARS EXPRESS"
INSTRUMENT_ID = HRSC
INSTRUMENT_NAME = "HIGH RESOLUTION STEREO CAMERA"
MISSION_NAME = "MARS EXPRESS"
MISSION_PHASE_NAME = MR_Phase_5
PROCESSING_LEVEL_ID = 3
PRODUCT_CREATION_TIME = 2016-03-05T14:51:22.000Z
PRODUCT_ID = "H1462_0000_GR3.JP2"
RELEASE_ID = 0019
REVISION_ID = 0000
/* QUALITY DATA ELEMENTS */
DATA_QUALITY_ID = 1
DATA_QUALITY_DESC = "Data calculated based on original SPICE kernels"
/* TIME DATA ELEMENTS */
SPACECRAFT_CLOCK_START_COUNT = "1/0058331309.57323"
SPACECRAFT_CLOCK_STOP_COUNT = "1/0058331891.32388"
START_TIME = 2005-03-08T03:09:19.695Z
STOP_TIME = 2005-03-08T03:16:50.974Z
/* ORBITAL DATA ELEMENTS */
ASCENDING_NODE_LONGITUDE = 197.87
MAXIMUM_RESOLUTION = 64.9
FOOTPRINT_POINT_LATITUDE = (57.1781,57.2164,57.0791,56.4667, 55.8453,55.4281,54.8018,54.1641,53.7384 ,53.0881,52.6543,52.211,51.7687,51.3188 ,50.8685,50.4106,49.7188,49.2516, 48.7789,48.0619,47.3344,46.8447,46.3472 ,45.8459,45.3408,44.8272,44.309,43.7853 ,43.256,42.7207,42.1788,41.6297,41.0743 ,40.5132,39.9432,39.3672,38.7837, 38.1922,37.593,36.9864,36.372,35.7488, 35.1166,34.4762,33.4985,32.8473,32.2005 ,31.558,31.551,31.5483,31.5397,31.5332, 32.1718,32.8148,33.4623,34.1119,34.7538 ,35.387,36.0115,36.6281,37.2364,37.836, 38.4282,39.0123,39.5902,40.1605,40.7228 ,41.2791,41.8287,42.3724,42.9083, 43.4394,43.9653,44.4838,44.9963,45.5042 ,46.0074,46.5031,46.995,47.4827,47.9637 ,48.6777,49.1485,49.6134,50.3026,50.759 ,51.2076,51.6559,52.0964,52.5379, 52.9702,53.6179,54.0419,54.6769,55.3007 ,55.7163,56.3349,56.7429,57.1437, 57.1781)
FOOTPRINT_POINT_LONGITUDE = (284.273,285.033,286.173,286.278, 286.381,286.447,286.543,286.637,286.698 ,286.787,286.845,286.902,286.958, 287.013,287.067,287.12,287.197,287.248, 287.298,287.37,287.441,287.487,287.533, 287.577,287.621,287.664,287.706,287.748 ,287.788,287.828,287.868,287.906, 287.944,287.982,288.019,288.055,288.09, 288.125,288.159,288.193,288.226,288.259 ,288.292,288.323,288.369,288.399, 288.428,288.455,287.608,286.753,285.828 ,285.276,285.282,285.286,285.289, 285.291,285.292,285.29,285.285,285.279, 285.271,285.259,285.247,285.236,285.219 ,285.2,285.185,285.164,285.143,285.115, 285.096,285.07,285.04,285.007,284.974, 284.94,284.905,284.868,284.825,284.788, 284.741,284.672,284.627,284.58,284.507, 284.457,284.405,284.351,284.296,284.238 ,284.18,284.088,284.025,283.927,283.823 ,283.752,283.64,283.564,283.485, 284.273)
ORBIT_NUMBER = 1462
ORBITAL_ECCENTRICITY = 0.566
ORBITAL_INCLINATION = 86.6
ORBITAL_SEMIMAJOR_AXIS = 8536.0
PERIAPSIS_ALTITUDE = 326.03
PERIAPSIS_ARGUMENT_ANGLE = 103.14
PERIAPSIS_TIME = 2005-03-08T03:04:15.000Z
SPACECRAFT_ORIENTATION = (0.0,1.0,0.0)
^MEX_ORIENTATION_DESC = "MEX_ORIENTATION_DESC.TXT"
SPACECRAFT_POINTING_MODE = ACROSSTRACK
^MEX_POINTING_DESC = "MEX_POINTING_DESC.TXT"
RIGHT_ASCENSION = -1e+32
DECLINATION = -1e+32
OFFSET_ANGLE = -0.85
SPACECRAFT_SOLAR_DISTANCE = 2.22092e+08
TARGET_NAME = MARS
/* CAMERA DATA ELEMENTS */
DETECTOR_TEMPERATURE = 18.1666
FOCAL_PLANE_TEMPERATURE = 8.5833
INST_CMPRS_NAME = "DISCRETE COSINE TRANSFORMATION (DCT)"
INST_CMPRS_RATIO = 11.0857
INST_CMPRS_QUALITY = 0
INST_CMPRS_QUANTZ_TBL_ID = 0
INSTRUMENT_TEMPERATURE = 11.234
LENS_TEMPERATURE = 8.9911
MACROPIXEL_SIZE = 4
MISSING_FRAMES = 1
PIXEL_SUBSAMPLING_FLAG = N
SIGNAL_CHAIN_ID = 2
/* RADIOMETRIC DATA ELEMENTS */
BANDWIDTH = 88.0
CENTER_FILTER_WAVELENGTH = 538.0
RADIANCE_OFFSET = 1.23456
RADIANCE_SCALING_FACTOR = 0.0100863
REFLECTANCE_SCALING_FACTOR = 0.000428335
MEX:REFLECTANCE_OFFSET = 0.0524282
/* IMAGE OBJECT DEFINITIONS */
OBJECT = IMAGE
  INTERCHANGE_FORMAT = BINARY
  LINES = 30545
  LINE_SAMPLES = 4083
  SAMPLE_TYPE = UNSIGNED_INTEGER
  SAMPLE_BITS = 8
  BANDS = 1
  BAND_STORAGE_TYPE = BAND_SEQUENTIAL
  MAXIMUM = 191
  MEAN = 122.91
  MINIMUM = 54
  STANDARD_DEVIATION = 16.1027
END_OBJECT = IMAGE
/* MAP OBJECT DEFINITIONS */
OBJECT = IMAGE_MAP_PROJECTION
  ^DATA_SET_MAP_PROJECTION_CATALOG= "DSMAP.CAT"
  A_AXIS_RADIUS = 3396.0
  B_AXIS_RADIUS = 3396.0
  C_AXIS_RADIUS = 3396.0
  CENTER_LATITUDE = 0.0
  CENTER_LONGITUDE = 286.0
  COORDINATE_SYSTEM_NAME = PLANETOGRAPHIC
  COORDINATE_SYSTEM_TYPE = "BODY-FIXED ROTATING"
  EASTERNMOST_LONGITUDE = 288.455
  FIRST_STANDARD_PARALLEL = "N/A"
  LINE_FIRST_PIXEL = 1
  LINE_LAST_PIXEL = 30545
  LINE_PROJECTION_OFFSET = 67907.375
  MAP_PROJECTION_ROTATION = 0.0
  MAP_PROJECTION_TYPE = SINUSOIDAL
  MAP_RESOLUTION = 1185.42760773333
  MAP_SCALE = 0.05
  MAXIMUM_LATITUDE = 57.2164
  MINIMUM_LATITUDE = 31.5332
  POSITIVE_LONGITUDE_DIRECTION = EAST
  REFERENCE_LATITUDE = "N/A"
  REFERENCE_LONGITUDE = "N/A"
  SAMPLE_FIRST_PIXEL = 1
  SAMPLE_LAST_PIXEL = 4083
  SAMPLE_PROJECTION_OFFSET = 1622.875
  SECOND_STANDARD_PARALLEL = "N/A"
  WESTERNMOST_LONGITUDE = 283.485
END_OBJECT = IMAGE_MAP_PROJECTION
/* The JPEG2000 image data file associated with this label. */
OBJECT = COMPRESSED_FILE
  FILE_NAME = "H1462_0000_GR3.JP2"
  RECORD_TYPE = UNDEFINED
  FILE_RECORDS = UNK
  ENCODING_TYPE = "JP2"
  INTERCHANGE_FORMAT = BINARY
  UNCOMPRESSED_FILE_NAME = "H1462_0000_GR3.IMG"
  REQUIRED_STORAGE_BYTES = "124739733"
  ^DESCRIPTION = "JP2INFO.TXT"
END_OBJECT = COMPRESSED_FILE
END
