PDS_VERSION_ID = PDS3
/* FILE DATA ELEMENTS */
RECORD_TYPE = STREAM
/* POINTERS TO DATA OBJECTS */
^COMPRESSED_FILE = "H1468_0000_IR3.JP2"
/* IDENTIFICATION DATA ELEMENTS */
DATA_SET_ID = "MEX-M-HRSC-5-REFDR-MAPPROJECTED-V3.0"
DATA_SET_NAME = "MARS EXPRESS HRSC MAP PROJECTED REFDR V3.0"
DETECTOR_ID = MEX_HRSC_IR
EVENT_TYPE = "MARS-REGIONAL-MAPPING-Gl-Eo-La"
INSTRUMENT_HOST_ID = MEX
INSTRUMENT_HOST_NAME = "MARS EXPRESS"
INSTRUMENT_ID = HRSC
INSTRUMENT_NAME = "HIGH RESOLUTION STEREO CAMERA"
MISSION_NAME = "MARS EXPRESS"
MISSION_PHASE_NAME = MR_Phase_5
PROCESSING_LEVEL_ID = 3
PRODUCT_CREATION_TIME = 2016-03-05T14:51:22.000Z
PRODUCT_ID = "H1468_0000_IR3.JP2"
RELEASE_ID = 0019
REVISION_ID = 0000
/* QUALITY DATA ELEMENTS */
DATA_QUALITY_ID = 1
DATA_QUALITY_DESC = "Data calculated based on original SPICE kernels"
/* TIME DATA ELEMENTS */
SPACECRAFT_CLOCK_START_COUNT = "1/0058476122.57163"
SPACECRAFT_CLOCK_STOP_COUNT = "1/0058476343.47639"
START_TIME = 2005-03-09T19:23:06.168Z
STOP_TIME = 2005-03-09T19:25:44.053Z
/* ORBITAL DATA ELEMENTS */
ASCENDING_NODE_LONGITUDE = 197.73
MAXIMUM_RESOLUTION = 109.9
FOOTPRINT_POINT_LATITUDE = (82.7851,82.9285,82.9965,83.0619, 83.2615,82.9826,82.7049,82.5177,82.3288 ,82.1407,81.9531,81.6702,81.4802, 81.2948,81.105,80.9159,80.7251,80.5347, 80.249,80.058,79.867,79.6762,79.3898, 79.1986,78.9111,78.624,78.4323,78.2405, 78.0482,77.761,77.5693,77.3778,77.186, 76.9943,76.7066,76.5147,76.2272,75.5629 ,75.2756,75.0841,74.8926,74.7012, 74.5098,74.3183,74.1272,73.9361,73.6494 ,73.4584,73.2675,73.1065,73.0601, 73.0264,72.9657,72.9258,73.1146,73.3032 ,73.4919,73.6807,73.8693,74.058,74.3412 ,74.5298,74.7186,74.9073,75.096,75.3789 ,76.0322,76.2206,76.4088,76.597,76.8792 ,77.1611,77.3488,77.5363,77.8174, 78.0982,78.2851,78.5652,78.7515,78.9377 ,79.1233,79.3089,79.4941,79.6789, 79.8632,80.1384,80.3215,80.5057,80.6859 ,80.9593,81.1412,81.4104,81.5875,81.765 ,81.9434,82.1219,82.2957,82.4705, 82.6446,82.7851)
FOOTPRINT_POINT_LONGITUDE = (37.4221,39.7685,40.9872,42.2376, 44.0309,44.8247,45.5628,46.0206,46.4523 ,46.8661,47.2621,47.82,48.1686,48.5134, 48.8336,49.1424,49.4346,49.7161,50.118, 50.3718,50.6163,50.8521,51.1898,51.4042 ,51.7103,52.0016,52.1872,52.3662, 52.5382,52.7887,52.9487,53.1039,53.2538 ,53.3992,53.6089,53.7432,53.9381, 54.3564,54.5254,54.6342,54.7401,54.8431 ,54.9433,55.0408,55.1363,55.2291, 55.3639,55.4511,55.5362,54.9444,53.9941 ,53.3562,52.2837,51.6029,51.4822, 51.3585,51.2317,51.1014,50.968,50.8308, 50.6181,50.4716,50.3209,50.1661,50.0071 ,49.76,49.147,48.9584,48.7642,48.564, 48.252,47.9252,47.6987,47.4651,47.1, 46.7165,46.45,46.0327,45.7425,45.442, 45.1309,44.8081,44.4735,44.1265,43.7667 ,43.2016,42.806,42.3908,41.9675,41.2887 ,40.8109,40.0631,39.5421,38.994,38.4156 ,37.8065,37.1836,36.5228,35.8287, 37.4221)
ORBIT_NUMBER = 1468
ORBITAL_ECCENTRICITY = 0.566
ORBITAL_INCLINATION = 86.61
ORBITAL_SEMIMAJOR_AXIS = 8536.71
PERIAPSIS_ALTITUDE = 325.96
PERIAPSIS_ARGUMENT_ANGLE = 102.06
PERIAPSIS_TIME = 2005-03-09T19:24:09.000Z
SPACECRAFT_ORIENTATION = (0.0,1.0,0.0)
^MEX_ORIENTATION_DESC = "MEX_ORIENTATION_DESC.TXT"
SPACECRAFT_POINTING_MODE = ACROSSTRACK
^MEX_POINTING_DESC = "MEX_POINTING_DESC.TXT"
RIGHT_ASCENSION = -1e+32
DECLINATION = -1e+32
OFFSET_ANGLE = 0.49
SPACECRAFT_SOLAR_DISTANCE = 2.2177e+08
TARGET_NAME = MARS
/* CAMERA DATA ELEMENTS */
DETECTOR_TEMPERATURE = 17.351
FOCAL_PLANE_TEMPERATURE = 7.9716
INST_CMPRS_NAME = "DISCRETE COSINE TRANSFORMATION (DCT)"
INST_CMPRS_RATIO = 31.327
INST_CMPRS_QUALITY = 0
INST_CMPRS_QUANTZ_TBL_ID = 0
INSTRUMENT_TEMPERATURE = 11.0301
LENS_TEMPERATURE = 8.3794
MACROPIXEL_SIZE = 8
MISSING_FRAMES = 43
PIXEL_SUBSAMPLING_FLAG = N
SIGNAL_CHAIN_ID = 2
/* RADIOMETRIC DATA ELEMENTS */
BANDWIDTH = 81.0
CENTER_FILTER_WAVELENGTH = 955.5
RADIANCE_OFFSET = 0.394031
RADIANCE_SCALING_FACTOR = 0.00247954
REFLECTANCE_SCALING_FACTOR = 0.00026309
MEX:REFLECTANCE_OFFSET = 0.0418085
/* IMAGE OBJECT DEFINITIONS */
OBJECT = IMAGE
  INTERCHANGE_FORMAT = BINARY
  LINES = 6114
  LINE_SAMPLES = 2123
  SAMPLE_TYPE = UNSIGNED_INTEGER
  SAMPLE_BITS = 8
  BANDS = 1
  BAND_STORAGE_TYPE = BAND_SEQUENTIAL
  MAXIMUM = 112
  MEAN = 71.6991
  MINIMUM = 42
  STANDARD_DEVIATION = 17.1402
END_OBJECT = IMAGE
/* MAP OBJECT DEFINITIONS */
OBJECT = IMAGE_MAP_PROJECTION
  ^DATA_SET_MAP_PROJECTION_CATALOG= "DSMAP.CAT"
  A_AXIS_RADIUS = 3396.0
  B_AXIS_RADIUS = 3396.0
  C_AXIS_RADIUS = 3396.0
  CENTER_LATITUDE = 0.0
  CENTER_LONGITUDE = 49.0
  COORDINATE_SYSTEM_NAME = PLANETOGRAPHIC
  COORDINATE_SYSTEM_TYPE = "BODY-FIXED ROTATING"
  EASTERNMOST_LONGITUDE = 55.5362
  FIRST_STANDARD_PARALLEL = "N/A"
  LINE_FIRST_PIXEL = 1
  LINE_LAST_PIXEL = 6114
  LINE_PROJECTION_OFFSET = 49341.9375
  MAP_PROJECTION_ROTATION = 0.0
  MAP_PROJECTION_TYPE = SINUSOIDAL
  MAP_RESOLUTION = 592.713803866667
  MAP_SCALE = 0.1
  MAXIMUM_LATITUDE = 83.2615
  MINIMUM_LATITUDE = 72.9258
  POSITIVE_LONGITUDE_DIRECTION = EAST
  REFERENCE_LATITUDE = "N/A"
  REFERENCE_LONGITUDE = "N/A"
  SAMPLE_FIRST_PIXEL = 1
  SAMPLE_LAST_PIXEL = 2123
  SAMPLE_PROJECTION_OFFSET = 1029.4375
  SECOND_STANDARD_PARALLEL = "N/A"
  WESTERNMOST_LONGITUDE = 35.8287
END_OBJECT = IMAGE_MAP_PROJECTION
/* The JPEG2000 image data file associated with this label. */
OBJECT = COMPRESSED_FILE
  FILE_NAME = "H1468_0000_IR3.JP2"
  RECORD_TYPE = UNDEFINED
  FILE_RECORDS = UNK
  ENCODING_TYPE = "JP2"
  INTERCHANGE_FORMAT = BINARY
  UNCOMPRESSED_FILE_NAME = "H1468_0000_IR3.IMG"
  REQUIRED_STORAGE_BYTES = "13001252"
  ^DESCRIPTION = "JP2INFO.TXT"
END_OBJECT = COMPRESSED_FILE
END
