PDS_VERSION_ID = PDS3
/* FILE DATA ELEMENTS */
RECORD_TYPE = STREAM
/* POINTERS TO DATA OBJECTS */
^COMPRESSED_FILE = "H1468_0001_P13.JP2"
/* IDENTIFICATION DATA ELEMENTS */
DATA_SET_ID = "MEX-M-HRSC-5-REFDR-MAPPROJECTED-V3.0"
DATA_SET_NAME = "MARS EXPRESS HRSC MAP PROJECTED REFDR V3.0"
DETECTOR_ID = MEX_HRSC_P1
EVENT_TYPE = "MARS-REGIONAL-STEREO-Te-Fl-Mw"
INSTRUMENT_HOST_ID = MEX
INSTRUMENT_HOST_NAME = "MARS EXPRESS"
INSTRUMENT_ID = HRSC
INSTRUMENT_NAME = "HIGH RESOLUTION STEREO CAMERA"
MISSION_NAME = "MARS EXPRESS"
MISSION_PHASE_NAME = MR_Phase_5
PROCESSING_LEVEL_ID = 3
PRODUCT_CREATION_TIME = 2016-03-05T14:51:22.000Z
PRODUCT_ID = "H1468_0001_P13.JP2"
RELEASE_ID = 0019
REVISION_ID = 0000
/* QUALITY DATA ELEMENTS */
DATA_QUALITY_ID = 1
DATA_QUALITY_DESC = "Data calculated based on original SPICE kernels"
/* TIME DATA ELEMENTS */
SPACECRAFT_CLOCK_START_COUNT = "1/0058476480.57976"
SPACECRAFT_CLOCK_STOP_COUNT = "1/0058477129.17907"
START_TIME = 2005-03-09T19:29:07.454Z
STOP_TIME = 2005-03-09T19:38:12.258Z
/* ORBITAL DATA ELEMENTS */
ASCENDING_NODE_LONGITUDE = 197.73
MAXIMUM_RESOLUTION = 33.1
FOOTPRINT_POINT_LATITUDE = (59.8575,59.5278,58.8511,58.3929, 57.9431,57.469,57.0055,56.5328,56.0593, 55.5797,55.0973,54.6094,54.1187,53.6204 ,52.8671,52.3598,51.8443,51.3252, 50.8018,50.2704,49.7343,49.1933,48.6467 ,48.0915,47.5311,46.9639,46.39,45.8091, 45.2215,44.6258,44.0233,43.4123,42.7934 ,42.1682,41.5312,40.8866,40.2342, 39.5721,38.901,38.2191,37.5285,36.826, 36.1091,35.388,34.6529,33.9099,32.76, 31.9831,31.1942,30.7579,30.7594,30.7598 ,30.7589,31.5473,32.3261,33.0915, 33.8458,34.5873,35.3225,36.0429,36.7571 ,37.4546,38.1403,38.8213,39.4906, 40.1505,40.7967,41.7596,42.3872,43.008, 43.6217,44.2263,44.823,45.4122,45.9958, 46.5719,47.1392,47.7021,48.2574,48.8064 ,49.3503,49.8884,50.4184,50.944,51.4657 ,51.9796,52.7426,53.4941,53.9908, 54.4799,54.9668,55.4477,55.9263,56.3987 ,56.8699,57.3334,58.026,58.4812,59.6069 ,59.8575)
FOOTPRINT_POINT_LONGITUDE = (57.4405,58.7491,58.8282,58.8785, 58.9374,58.9763,59.026,59.0724,59.1184, 59.1629,59.2065,59.2491,59.2908,59.3313 ,59.3908,59.4291,59.4671,59.5036, 59.5399,59.5754,59.6099,59.6436,59.678, 59.7106,59.743,59.7745,59.8054,59.8358, 59.8659,59.8952,59.9245,59.9527,59.9803 ,60.0088,60.0355,60.0623,60.089,60.1161 ,60.1422,60.1677,60.1935,60.2184, 60.2397,60.2662,60.2904,60.3175,60.3475 ,60.371,60.3957,59.3253,58.5615,57.8695 ,56.822,56.8531,56.8804,56.9052,56.9275 ,56.9477,56.9635,56.9784,56.9895, 57.0007,57.0103,57.0162,57.0204,57.0233 ,57.0255,57.0217,57.0182,57.0124, 57.0046,56.9955,56.9846,56.972,56.9572, 56.9409,56.9235,56.9035,56.8821,56.8594 ,56.8347,56.8085,56.7807,56.751,56.7197 ,56.6866,56.6336,56.5767,56.5365, 56.4945,56.4505,56.4047,56.3567,56.3069 ,56.2549,56.2012,56.1162,56.0568, 55.8982,57.4405)
ORBIT_NUMBER = 1468
ORBITAL_ECCENTRICITY = 0.566
ORBITAL_INCLINATION = 86.61
ORBITAL_SEMIMAJOR_AXIS = 8536.71
PERIAPSIS_ALTITUDE = 325.96
PERIAPSIS_ARGUMENT_ANGLE = 102.06
PERIAPSIS_TIME = 2005-03-09T19:24:09.000Z
SPACECRAFT_ORIENTATION = (0.0,1.0,0.0)
^MEX_ORIENTATION_DESC = "MEX_ORIENTATION_DESC.TXT"
SPACECRAFT_POINTING_MODE = ACROSSTRACK
^MEX_POINTING_DESC = "MEX_POINTING_DESC.TXT"
RIGHT_ASCENSION = -1e+32
DECLINATION = -1e+32
OFFSET_ANGLE = 0.49
SPACECRAFT_SOLAR_DISTANCE = 2.2177e+08
TARGET_NAME = MARS
/* CAMERA DATA ELEMENTS */
DETECTOR_TEMPERATURE = 20.0017
FOCAL_PLANE_TEMPERATURE = 8.1755
INST_CMPRS_NAME = "DISCRETE COSINE TRANSFORMATION (DCT)"
INST_CMPRS_RATIO = 11.3624
INST_CMPRS_QUALITY = 0
INST_CMPRS_QUANTZ_TBL_ID = 0
INSTRUMENT_TEMPERATURE = 12.4574
LENS_TEMPERATURE = 8.7872
MACROPIXEL_SIZE = 2
MISSING_FRAMES = 0
PIXEL_SUBSAMPLING_FLAG = N
SIGNAL_CHAIN_ID = 3
/* RADIOMETRIC DATA ELEMENTS */
BANDWIDTH = 174.0
CENTER_FILTER_WAVELENGTH = 675.0
RADIANCE_OFFSET = 3.38326
RADIANCE_SCALING_FACTOR = 0.033722
REFLECTANCE_SCALING_FACTOR = 0.000892078
MEX:REFLECTANCE_OFFSET = 0.0895003
/* IMAGE OBJECT DEFINITIONS */
OBJECT = IMAGE
  INTERCHANGE_FORMAT = BINARY
  LINES = 69276
  LINE_SAMPLES = 7101
  SAMPLE_TYPE = UNSIGNED_INTEGER
  SAMPLE_BITS = 8
  BANDS = 1
  BAND_STORAGE_TYPE = BAND_SEQUENTIAL
  MAXIMUM = 269
  MEAN = 151.648
  MINIMUM = 67
  STANDARD_DEVIATION = 37.7618
END_OBJECT = IMAGE
/* MAP OBJECT DEFINITIONS */
OBJECT = IMAGE_MAP_PROJECTION
  ^DATA_SET_MAP_PROJECTION_CATALOG= "DSMAP.CAT"
  A_AXIS_RADIUS = 3396.0
  B_AXIS_RADIUS = 3396.0
  C_AXIS_RADIUS = 3396.0
  CENTER_LATITUDE = 0.0
  CENTER_LONGITUDE = 58.0
  COORDINATE_SYSTEM_NAME = PLANETOGRAPHIC
  COORDINATE_SYSTEM_TYPE = "BODY-FIXED ROTATING"
  EASTERNMOST_LONGITUDE = 60.3957
  FIRST_STANDARD_PARALLEL = "N/A"
  LINE_FIRST_PIXEL = 1
  LINE_LAST_PIXEL = 69276
  LINE_PROJECTION_OFFSET = 142156.75
  MAP_PROJECTION_ROTATION = 0.0
  MAP_PROJECTION_TYPE = SINUSOIDAL
  MAP_RESOLUTION = 2370.85521546667
  MAP_SCALE = 0.025
  MAXIMUM_LATITUDE = 59.8575
  MINIMUM_LATITUDE = 30.7579
  POSITIVE_LONGITUDE_DIRECTION = EAST
  REFERENCE_LATITUDE = "N/A"
  REFERENCE_LONGITUDE = "N/A"
  SAMPLE_FIRST_PIXEL = 1
  SAMPLE_LAST_PIXEL = 7101
  SAMPLE_PROJECTION_OFFSET = 2480.75
  SECOND_STANDARD_PARALLEL = "N/A"
  WESTERNMOST_LONGITUDE = 55.8982
END_OBJECT = IMAGE_MAP_PROJECTION
/* The JPEG2000 image data file associated with this label. */
OBJECT = COMPRESSED_FILE
  FILE_NAME = "H1468_0001_P13.JP2"
  RECORD_TYPE = UNDEFINED
  FILE_RECORDS = UNK
  ENCODING_TYPE = "JP2"
  INTERCHANGE_FORMAT = BINARY
  UNCOMPRESSED_FILE_NAME = "H1468_0001_P13.IMG"
  REQUIRED_STORAGE_BYTES = "491964381"
  ^DESCRIPTION = "JP2INFO.TXT"
END_OBJECT = COMPRESSED_FILE
END
