PDS_VERSION_ID = PDS3
/* FILE DATA ELEMENTS */
RECORD_TYPE = STREAM
/* POINTERS TO DATA OBJECTS */
^COMPRESSED_FILE = "H1468_0001_RE3.JP2"
/* IDENTIFICATION DATA ELEMENTS */
DATA_SET_ID = "MEX-M-HRSC-5-REFDR-MAPPROJECTED-V3.0"
DATA_SET_NAME = "MARS EXPRESS HRSC MAP PROJECTED REFDR V3.0"
DETECTOR_ID = MEX_HRSC_RED
EVENT_TYPE = "MARS-REGIONAL-STEREO-Te-Fl-Mw"
INSTRUMENT_HOST_ID = MEX
INSTRUMENT_HOST_NAME = "MARS EXPRESS"
INSTRUMENT_ID = HRSC
INSTRUMENT_NAME = "HIGH RESOLUTION STEREO CAMERA"
MISSION_NAME = "MARS EXPRESS"
MISSION_PHASE_NAME = MR_Phase_5
PROCESSING_LEVEL_ID = 3
PRODUCT_CREATION_TIME = 2016-03-05T14:51:22.000Z
PRODUCT_ID = "H1468_0001_RE3.JP2"
RELEASE_ID = 0019
REVISION_ID = 0000
/* QUALITY DATA ELEMENTS */
DATA_QUALITY_ID = 1
DATA_QUALITY_DESC = "Data calculated based on original SPICE kernels"
/* TIME DATA ELEMENTS */
SPACECRAFT_CLOCK_START_COUNT = "1/0058476480.57976"
SPACECRAFT_CLOCK_STOP_COUNT = "1/0058477129.17907"
START_TIME = 2005-03-09T19:28:14.074Z
STOP_TIME = 2005-03-09T19:35:58.846Z
/* ORBITAL DATA ELEMENTS */
ASCENDING_NODE_LONGITUDE = 197.73
MAXIMUM_RESOLUTION = 63.2
FOOTPRINT_POINT_LATITUDE = (60.0092,59.9438,59.2636,58.793,58.3234 ,57.8442,57.3828,56.9105,56.4418, 55.9718,55.5033,55.0227,54.3022,53.8115 ,53.3196,52.5703,52.0682,51.5554, 51.0419,50.5192,49.7274,49.1925,48.6487 ,47.8243,47.2678,46.7008,46.1292, 45.5515,44.9639,44.3693,43.7669,43.1582 ,42.5387,41.9097,41.2734,40.6286, 39.9732,39.3059,38.6302,37.9443,37.2476 ,36.54,35.8247,35.0904,34.3459,33.5874, 32.8297,32.045,31.2425,30.7417,30.7571, 30.7604,30.756,31.5611,32.3509,33.1253, 33.887,34.6353,35.3753,36.0882,37.1531, 37.8495,38.5356,39.2125,39.8726,40.8534 ,41.4923,42.1235,42.7484,43.3611, 43.9689,44.5654,45.1557,45.7389,46.3138 ,46.8792,47.718,48.5416,49.0847,49.6184 ,50.1484,50.6715,51.4453,51.958,52.4588 ,53.2078,53.6976,54.1886,54.6678, 55.1466,55.6216,56.0886,56.7907,57.2586 ,57.7278,58.4313,58.9013,59.3705, 59.8221,60.0092)
FOOTPRINT_POINT_LONGITUDE = (57.0723,58.6197,58.6997,58.7512,58.8, 58.8601,58.8958,58.9443,58.9873,59.0309 ,59.0718,59.1128,59.1716,59.2093, 59.2467,59.3006,59.335,59.3693,59.4024, 59.4346,59.4817,59.5118,59.5426,59.5858 ,59.6137,59.6413,59.6679,59.694,59.7189 ,59.7436,59.768,59.7909,59.8144,59.8373 ,59.8585,59.8789,59.8995,59.921,59.9408 ,59.9599,59.9787,59.9959,60.0102,60.029 ,60.0458,60.0623,60.071,60.0863,60.1037 ,59.5225,58.6335,57.7228,57.1354,57.156 ,57.1739,57.1893,57.2026,57.2138, 57.2238,57.2285,57.2361,57.2388,57.24, 57.2396,57.2362,57.2298,57.2228,57.2144 ,57.2049,57.1932,57.1802,57.1657, 57.1497,57.1321,57.1127,57.092,57.0582, 57.0209,56.9941,56.966,56.9361,56.9048, 56.8549,56.8193,56.7826,56.724,56.683, 56.64,56.5957,56.5493,56.5011,56.4514, 56.3723,56.3164,56.2579,56.165,56.0993, 56.0307,55.9617,57.0723)
ORBIT_NUMBER = 1468
ORBITAL_ECCENTRICITY = 0.566
ORBITAL_INCLINATION = 86.61
ORBITAL_SEMIMAJOR_AXIS = 8536.71
PERIAPSIS_ALTITUDE = 325.96
PERIAPSIS_ARGUMENT_ANGLE = 102.06
PERIAPSIS_TIME = 2005-03-09T19:24:09.000Z
SPACECRAFT_ORIENTATION = (0.0,1.0,0.0)
^MEX_ORIENTATION_DESC = "MEX_ORIENTATION_DESC.TXT"
SPACECRAFT_POINTING_MODE = ACROSSTRACK
^MEX_POINTING_DESC = "MEX_POINTING_DESC.TXT"
RIGHT_ASCENSION = -1e+32
DECLINATION = -1e+32
OFFSET_ANGLE = 0.49
SPACECRAFT_SOLAR_DISTANCE = 2.2177e+08
TARGET_NAME = MARS
/* CAMERA DATA ELEMENTS */
DETECTOR_TEMPERATURE = 19.7978
FOCAL_PLANE_TEMPERATURE = 8.1755
INST_CMPRS_NAME = "DISCRETE COSINE TRANSFORMATION (DCT)"
INST_CMPRS_RATIO = 15.1231
INST_CMPRS_QUALITY = 0
INST_CMPRS_QUANTZ_TBL_ID = 0
INSTRUMENT_TEMPERATURE = 12.4574
LENS_TEMPERATURE = 8.7872
MACROPIXEL_SIZE = 4
MISSING_FRAMES = 0
PIXEL_SUBSAMPLING_FLAG = N
SIGNAL_CHAIN_ID = 2
/* RADIOMETRIC DATA ELEMENTS */
BANDWIDTH = 48.0
CENTER_FILTER_WAVELENGTH = 748.0
RADIANCE_OFFSET = 0.836626
RADIANCE_SCALING_FACTOR = 0.00953314
REFLECTANCE_SCALING_FACTOR = 0.00106996
MEX:REFLECTANCE_OFFSET = 0.093899
/* IMAGE OBJECT DEFINITIONS */
OBJECT = IMAGE
  INTERCHANGE_FORMAT = BINARY
  LINES = 34638
  LINE_SAMPLES = 3551
  SAMPLE_TYPE = UNSIGNED_INTEGER
  SAMPLE_BITS = 8
  BANDS = 1
  BAND_STORAGE_TYPE = BAND_SEQUENTIAL
  MAXIMUM = 247
  MEAN = 115.425
  MINIMUM = 48
  STANDARD_DEVIATION = 30.8669
END_OBJECT = IMAGE
/* MAP OBJECT DEFINITIONS */
OBJECT = IMAGE_MAP_PROJECTION
  ^DATA_SET_MAP_PROJECTION_CATALOG= "DSMAP.CAT"
  A_AXIS_RADIUS = 3396.0
  B_AXIS_RADIUS = 3396.0
  C_AXIS_RADIUS = 3396.0
  CENTER_LATITUDE = 0.0
  CENTER_LONGITUDE = 58.0
  COORDINATE_SYSTEM_NAME = PLANETOGRAPHIC
  COORDINATE_SYSTEM_TYPE = "BODY-FIXED ROTATING"
  EASTERNMOST_LONGITUDE = 60.1037
  FIRST_STANDARD_PARALLEL = "N/A"
  LINE_FIRST_PIXEL = 1
  LINE_LAST_PIXEL = 34638
  LINE_PROJECTION_OFFSET = 71078.125
  MAP_PROJECTION_ROTATION = 0.0
  MAP_PROJECTION_TYPE = SINUSOIDAL
  MAP_RESOLUTION = 1185.42760773333
  MAP_SCALE = 0.05
  MAXIMUM_LATITUDE = 60.0092
  MINIMUM_LATITUDE = 30.7417
  POSITIVE_LONGITUDE_DIRECTION = EAST
  REFERENCE_LATITUDE = "N/A"
  REFERENCE_LONGITUDE = "N/A"
  SAMPLE_FIRST_PIXEL = 1
  SAMPLE_LAST_PIXEL = 3551
  SAMPLE_PROJECTION_OFFSET = 1240.125
  SECOND_STANDARD_PARALLEL = "N/A"
  WESTERNMOST_LONGITUDE = 55.9617
END_OBJECT = IMAGE_MAP_PROJECTION
/* The JPEG2000 image data file associated with this label. */
OBJECT = COMPRESSED_FILE
  FILE_NAME = "H1468_0001_RE3.JP2"
  RECORD_TYPE = UNDEFINED
  FILE_RECORDS = UNK
  ENCODING_TYPE = "JP2"
  INTERCHANGE_FORMAT = BINARY
  UNCOMPRESSED_FILE_NAME = "H1468_0001_RE3.IMG"
  REQUIRED_STORAGE_BYTES = "123020844"
  ^DESCRIPTION = "JP2INFO.TXT"
END_OBJECT = COMPRESSED_FILE
END
