PDS_VERSION_ID = PDS3
/* FILE DATA ELEMENTS */
RECORD_TYPE = STREAM
/* POINTERS TO DATA OBJECTS */
^COMPRESSED_FILE = "H1475_0000_IR3.JP2"
/* IDENTIFICATION DATA ELEMENTS */
DATA_SET_ID = "MEX-M-HRSC-5-REFDR-MAPPROJECTED-V3.0"
DATA_SET_NAME = "MARS EXPRESS HRSC MAP PROJECTED REFDR V3.0"
DETECTOR_ID = MEX_HRSC_IR
EVENT_TYPE = "MARS-REGIONAL-MAPPING-Te-Gl-Eo"
INSTRUMENT_HOST_ID = MEX
INSTRUMENT_HOST_NAME = "MARS EXPRESS"
INSTRUMENT_ID = HRSC
INSTRUMENT_NAME = "HIGH RESOLUTION STEREO CAMERA"
MISSION_NAME = "MARS EXPRESS"
MISSION_PHASE_NAME = MR_Phase_5
PROCESSING_LEVEL_ID = 3
PRODUCT_CREATION_TIME = 2016-03-05T14:51:22.000Z
PRODUCT_ID = "H1475_0000_IR3.JP2"
RELEASE_ID = 0019
REVISION_ID = 0000
/* QUALITY DATA ELEMENTS */
DATA_QUALITY_ID = 1
DATA_QUALITY_DESC = "Data calculated based on original SPICE kernels"
/* TIME DATA ELEMENTS */
SPACECRAFT_CLOCK_START_COUNT = "1/0058645547.56480"
SPACECRAFT_CLOCK_STOP_COUNT = "1/0058645996.23578"
START_TIME = 2005-03-11T18:26:52.656Z
STOP_TIME = 2005-03-11T18:33:14.376Z
/* ORBITAL DATA ELEMENTS */
ASCENDING_NODE_LONGITUDE = 197.59
MAXIMUM_RESOLUTION = 56.1
FOOTPRINT_POINT_LATITUDE = (81.0566,81.32,81.507,81.1095,80.705, 80.0891,79.6732,79.2537,78.8309,78.4056 ,77.9778,77.548,77.1164,76.6833,76.249, 75.8134,75.377,74.9397,74.5019,73.8295, 73.3767,72.9233,72.47,72.0167,71.5633, 71.1098,70.6569,70.2043,69.7517,69.2996 ,68.8478,68.3967,67.9461,67.4963, 67.0467,66.5983,66.0956,65.5788,65.0631 ,64.5487,64.0357,63.5236,63.0131,62.504 ,61.9961,61.4762,60.9574,60.1686, 59.6408,59.1023,58.565,58.4882,58.4619, 58.699,59.2334,60.0258,60.8103,61.3247, 61.8406,62.3451,62.8502,63.3562,63.8634 ,64.3718,64.8811,65.3912,65.9023, 66.4061,67.2932,67.7375,68.1821,68.627, 69.072,69.5173,69.9624,70.4077,70.8527, 71.2976,71.7423,72.1863,72.8515,73.2938 ,73.7355,74.1711,74.5966,75.0208, 75.4435,75.8644,76.2832,76.6997,77.1137 ,77.5246,77.9322,78.3362,78.7359, 79.1307,79.5203,80.0932,80.4662, 81.0566)
FOOTPRINT_POINT_LONGITUDE = (56.4883,59.2866,63.4102,64.9603, 66.3912,68.3115,69.4624,70.5224,71.5029 ,72.4085,73.2493,74.0311,74.7592, 75.4387,76.0739,76.6695,77.2275,77.753, 78.2467,78.9497,79.3885,79.8042,80.1963 ,80.5675,80.9198,81.2546,81.5715, 81.8731,82.1608,82.435,82.6965,82.9459, 83.1842,83.4117,83.6304,83.8387,84.0623 ,84.2824,84.4924,84.6927,84.8836, 85.0666,85.2415,85.4089,85.5695,85.7275 ,85.8793,86.0981,86.238,86.3753,86.507, 85.2722,84.3484,83.3703,83.2222,82.9874 ,82.7398,82.5673,82.3863,82.2016, 82.0069,81.8034,81.5896,81.3646,81.1287 ,80.8812,80.6201,80.349,79.8384,79.5638 ,79.2765,78.9755,78.6598,78.3276, 77.9802,77.6137,77.2283,76.8224,76.3931 ,75.9419,75.215,74.6967,74.1448,73.5681 ,72.9693,72.3324,71.6557,70.9369, 70.1713,69.3565,68.484,67.5532,66.5588, 65.4862,64.3357,63.1097,61.7776,59.585, 57.9502,56.4883)
ORBIT_NUMBER = 1475
ORBITAL_ECCENTRICITY = 0.566
ORBITAL_INCLINATION = 86.61
ORBITAL_SEMIMAJOR_AXIS = 8535.72
PERIAPSIS_ALTITUDE = 325.73
PERIAPSIS_ARGUMENT_ANGLE = 100.8
PERIAPSIS_TIME = 2005-03-11T18:27:26.000Z
SPACECRAFT_ORIENTATION = (0.0,1.0,0.0)
^MEX_ORIENTATION_DESC = "MEX_ORIENTATION_DESC.TXT"
SPACECRAFT_POINTING_MODE = ACROSSTRACK
^MEX_POINTING_DESC = "MEX_POINTING_DESC.TXT"
RIGHT_ASCENSION = -1e+32
DECLINATION = -1e+32
OFFSET_ANGLE = -1.603
SPACECRAFT_SOLAR_DISTANCE = 2.21395e+08
TARGET_NAME = MARS
/* CAMERA DATA ELEMENTS */
DETECTOR_TEMPERATURE = 17.7588
FOCAL_PLANE_TEMPERATURE = 6.9521
INST_CMPRS_NAME = "DISCRETE COSINE TRANSFORMATION (DCT)"
INST_CMPRS_RATIO = 12.2709
INST_CMPRS_QUALITY = 0
INST_CMPRS_QUANTZ_TBL_ID = 0
INSTRUMENT_TEMPERATURE = 11.4379
LENS_TEMPERATURE = 8.5833
MACROPIXEL_SIZE = 4
MISSING_FRAMES = 0
PIXEL_SUBSAMPLING_FLAG = N
SIGNAL_CHAIN_ID = 2
/* RADIOMETRIC DATA ELEMENTS */
BANDWIDTH = 81.0
CENTER_FILTER_WAVELENGTH = 955.5
RADIANCE_OFFSET = 0.282884
RADIANCE_SCALING_FACTOR = 0.00388272
REFLECTANCE_SCALING_FACTOR = 0.000410582
MEX:REFLECTANCE_OFFSET = 0.0299138
/* IMAGE OBJECT DEFINITIONS */
OBJECT = IMAGE
  INTERCHANGE_FORMAT = BINARY
  LINES = 27758
  LINE_SAMPLES = 8949
  SAMPLE_TYPE = UNSIGNED_INTEGER
  SAMPLE_BITS = 8
  BANDS = 1
  BAND_STORAGE_TYPE = BAND_SEQUENTIAL
  MAXIMUM = 158
  MEAN = 79.768
  MINIMUM = 27
  STANDARD_DEVIATION = 24.3089
END_OBJECT = IMAGE
/* MAP OBJECT DEFINITIONS */
OBJECT = IMAGE_MAP_PROJECTION
  ^DATA_SET_MAP_PROJECTION_CATALOG= "DSMAP.CAT"
  A_AXIS_RADIUS = 3396.0
  B_AXIS_RADIUS = 3396.0
  C_AXIS_RADIUS = 3396.0
  CENTER_LATITUDE = 0.0
  CENTER_LONGITUDE = 79.0
  COORDINATE_SYSTEM_NAME = PLANETOGRAPHIC
  COORDINATE_SYSTEM_TYPE = "BODY-FIXED ROTATING"
  EASTERNMOST_LONGITUDE = 86.50700000000001
  FIRST_STANDARD_PARALLEL = "N/A"
  LINE_FIRST_PIXEL = 1
  LINE_LAST_PIXEL = 27758
  LINE_PROJECTION_OFFSET = 96965.875
  MAP_PROJECTION_ROTATION = 0.0
  MAP_PROJECTION_TYPE = SINUSOIDAL
  MAP_RESOLUTION = 1185.42760773333
  MAP_SCALE = 0.05
  MAXIMUM_LATITUDE = 81.50700000000001
  MINIMUM_LATITUDE = 58.4619
  POSITIVE_LONGITUDE_DIRECTION = EAST
  REFERENCE_LATITUDE = "N/A"
  REFERENCE_LONGITUDE = "N/A"
  SAMPLE_FIRST_PIXEL = 1
  SAMPLE_LAST_PIXEL = 8949
  SAMPLE_PROJECTION_OFFSET = 4290.875
  SECOND_STANDARD_PARALLEL = "N/A"
  WESTERNMOST_LONGITUDE = 56.4883
END_OBJECT = IMAGE_MAP_PROJECTION
/* The JPEG2000 image data file associated with this label. */
OBJECT = COMPRESSED_FILE
  FILE_NAME = "H1475_0000_IR3.JP2"
  RECORD_TYPE = UNDEFINED
  FILE_RECORDS = UNK
  ENCODING_TYPE = "JP2"
  INTERCHANGE_FORMAT = BINARY
  UNCOMPRESSED_FILE_NAME = "H1475_0000_IR3.IMG"
  REQUIRED_STORAGE_BYTES = "248442138"
  ^DESCRIPTION = "JP2INFO.TXT"
END_OBJECT = COMPRESSED_FILE
END
