PDS_VERSION_ID = PDS3
/* FILE DATA ELEMENTS */
RECORD_TYPE = STREAM
/* POINTERS TO DATA OBJECTS */
^COMPRESSED_FILE = "H1475_0000_RE3.JP2"
/* IDENTIFICATION DATA ELEMENTS */
DATA_SET_ID = "MEX-M-HRSC-5-REFDR-MAPPROJECTED-V3.0"
DATA_SET_NAME = "MARS EXPRESS HRSC MAP PROJECTED REFDR V3.0"
DETECTOR_ID = MEX_HRSC_RED
EVENT_TYPE = "MARS-REGIONAL-MAPPING-Te-Gl-Eo"
INSTRUMENT_HOST_ID = MEX
INSTRUMENT_HOST_NAME = "MARS EXPRESS"
INSTRUMENT_ID = HRSC
INSTRUMENT_NAME = "HIGH RESOLUTION STEREO CAMERA"
MISSION_NAME = "MARS EXPRESS"
MISSION_PHASE_NAME = MR_Phase_5
PROCESSING_LEVEL_ID = 3
PRODUCT_CREATION_TIME = 2016-03-05T14:51:22.000Z
PRODUCT_ID = "H1475_0000_RE3.JP2"
RELEASE_ID = 0019
REVISION_ID = 0000
/* QUALITY DATA ELEMENTS */
DATA_QUALITY_ID = 1
DATA_QUALITY_DESC = "Data calculated based on original SPICE kernels"
/* TIME DATA ELEMENTS */
SPACECRAFT_CLOCK_START_COUNT = "1/0058645547.56480"
SPACECRAFT_CLOCK_STOP_COUNT = "1/0058645996.23578"
START_TIME = 2005-03-11T18:26:00.835Z
STOP_TIME = 2005-03-11T18:32:08.440Z
/* ORBITAL DATA ELEMENTS */
ASCENDING_NODE_LONGITUDE = 197.59
MAXIMUM_RESOLUTION = 56.1
FOOTPRINT_POINT_LATITUDE = (81.137,81.4887,81.7263,81.8061,81.4097 ,81.0129,80.6138,80.2081,79.7977, 79.3828,78.9646,78.3303,77.9037,77.4743 ,77.0423,76.6081,76.1718,75.7337, 75.2934,74.6305,74.187,73.7408,73.0707, 72.3977,71.9478,71.2715,70.5767,70.109, 69.6407,69.1721,68.7028,68.2326,67.7623 ,67.0562,66.3487,65.6407,65.1687, 64.4602,63.9875,63.5152,63.0425,62.5091 ,62.2361,61.9628,61.6897,61.4165, 61.1435,60.8709,60.5974,60.3242,59.7784 ,59.233,58.5758,58.4901,58.3693,58.5785 ,59.121,59.6625,60.2045,60.747,61.2891, 61.8312,62.1023,62.6397,63.3423,63.8105 ,64.2785,64.7465,65.4471,65.914,66.3801 ,67.0783,67.5428,68.0073,68.4699, 69.1639,69.8548,70.3146,70.7693,71.2127 ,71.6537,72.0943,72.752,73.4066,74.0555 ,74.4861,74.9145,75.3399,75.9735, 76.3923,76.8079,77.2197,77.8308,78.4312 ,78.8254,79.4077,79.7865,80.1599, 80.5204,81.137)
FOOTPRINT_POINT_LONGITUDE = (56.0057,58.4643,60.326,62.2281,63.9059 ,65.3978,66.7658,68.0217,69.178,70.2449 ,71.2323,72.5801,73.4003,74.1645,74.878 ,75.5455,76.1709,76.758,77.3095,78.0777 ,78.554,79.0025,79.6319,80.2121,80.5744 ,81.0848,81.5698,81.8759,82.1676, 82.4459,82.7115,82.9647,83.207,83.551, 83.8727,84.1748,84.3662,84.6389,84.8117 ,84.9781,85.1379,85.311,85.397,85.481, 85.5633,85.6439,85.7228,85.8003,85.8755 ,85.9494,86.0929,86.2308,85.905,85.1129 ,84.0815,83.5074,83.3559,83.1952, 83.0276,82.8529,82.6691,82.4765,82.3769 ,82.1724,81.8889,81.6898,81.4822, 81.2663,80.9229,80.6818,80.4292,80.0286 ,79.7457,79.4507,79.1394,78.6473,78.116 ,77.7406,77.3477,76.9464,76.5219, 76.0772,75.3646,74.5941,73.7544,73.1553 ,72.5213,71.8478,70.7605,69.9785, 69.1462,68.2585,66.815,65.2171,64.0566, 62.1582,60.7701,59.2796,57.6642, 56.0057)
ORBIT_NUMBER = 1475
ORBITAL_ECCENTRICITY = 0.566
ORBITAL_INCLINATION = 86.61
ORBITAL_SEMIMAJOR_AXIS = 8535.72
PERIAPSIS_ALTITUDE = 325.73
PERIAPSIS_ARGUMENT_ANGLE = 100.8
PERIAPSIS_TIME = 2005-03-11T18:27:26.000Z
SPACECRAFT_ORIENTATION = (0.0,1.0,0.0)
^MEX_ORIENTATION_DESC = "MEX_ORIENTATION_DESC.TXT"
SPACECRAFT_POINTING_MODE = ACROSSTRACK
^MEX_POINTING_DESC = "MEX_POINTING_DESC.TXT"
RIGHT_ASCENSION = -1e+32
DECLINATION = -1e+32
OFFSET_ANGLE = -1.603
SPACECRAFT_SOLAR_DISTANCE = 2.21395e+08
TARGET_NAME = MARS
/* CAMERA DATA ELEMENTS */
DETECTOR_TEMPERATURE = 18.5744
FOCAL_PLANE_TEMPERATURE = 6.9521
INST_CMPRS_NAME = "DISCRETE COSINE TRANSFORMATION (DCT)"
INST_CMPRS_RATIO = 34.4454
INST_CMPRS_QUALITY = 0
INST_CMPRS_QUANTZ_TBL_ID = 0
INSTRUMENT_TEMPERATURE = 11.4379
LENS_TEMPERATURE = 8.5833
MACROPIXEL_SIZE = 4
MISSING_FRAMES = 0
PIXEL_SUBSAMPLING_FLAG = N
SIGNAL_CHAIN_ID = 2
/* RADIOMETRIC DATA ELEMENTS */
BANDWIDTH = 48.0
CENTER_FILTER_WAVELENGTH = 748.0
RADIANCE_OFFSET = 0.466248
RADIANCE_SCALING_FACTOR = 0.00352306
REFLECTANCE_SCALING_FACTOR = 0.00039408
MEX:REFLECTANCE_OFFSET = 0.0521532
/* IMAGE OBJECT DEFINITIONS */
OBJECT = IMAGE
  INTERCHANGE_FORMAT = BINARY
  LINES = 27758
  LINE_SAMPLES = 8949
  SAMPLE_TYPE = UNSIGNED_INTEGER
  SAMPLE_BITS = 8
  BANDS = 1
  BAND_STORAGE_TYPE = BAND_SEQUENTIAL
  MAXIMUM = 139
  MEAN = 78.4885
  MINIMUM = 41
  STANDARD_DEVIATION = 19.1809
END_OBJECT = IMAGE
/* MAP OBJECT DEFINITIONS */
OBJECT = IMAGE_MAP_PROJECTION
  ^DATA_SET_MAP_PROJECTION_CATALOG= "DSMAP.CAT"
  A_AXIS_RADIUS = 3396.0
  B_AXIS_RADIUS = 3396.0
  C_AXIS_RADIUS = 3396.0
  CENTER_LATITUDE = 0.0
  CENTER_LONGITUDE = 79.0
  COORDINATE_SYSTEM_NAME = PLANETOGRAPHIC
  COORDINATE_SYSTEM_TYPE = "BODY-FIXED ROTATING"
  EASTERNMOST_LONGITUDE = 86.2308
  FIRST_STANDARD_PARALLEL = "N/A"
  LINE_FIRST_PIXEL = 1
  LINE_LAST_PIXEL = 27758
  LINE_PROJECTION_OFFSET = 96965.875
  MAP_PROJECTION_ROTATION = 0.0
  MAP_PROJECTION_TYPE = SINUSOIDAL
  MAP_RESOLUTION = 1185.42760773333
  MAP_SCALE = 0.05
  MAXIMUM_LATITUDE = 81.8061
  MINIMUM_LATITUDE = 58.3693
  POSITIVE_LONGITUDE_DIRECTION = EAST
  REFERENCE_LATITUDE = "N/A"
  REFERENCE_LONGITUDE = "N/A"
  SAMPLE_FIRST_PIXEL = 1
  SAMPLE_LAST_PIXEL = 8949
  SAMPLE_PROJECTION_OFFSET = 4290.875
  SECOND_STANDARD_PARALLEL = "N/A"
  WESTERNMOST_LONGITUDE = 56.0057
END_OBJECT = IMAGE_MAP_PROJECTION
/* The JPEG2000 image data file associated with this label. */
OBJECT = COMPRESSED_FILE
  FILE_NAME = "H1475_0000_RE3.JP2"
  RECORD_TYPE = UNDEFINED
  FILE_RECORDS = UNK
  ENCODING_TYPE = "JP2"
  INTERCHANGE_FORMAT = BINARY
  UNCOMPRESSED_FILE_NAME = "H1475_0000_RE3.IMG"
  REQUIRED_STORAGE_BYTES = "248442138"
  ^DESCRIPTION = "JP2INFO.TXT"
END_OBJECT = COMPRESSED_FILE
END
