PDS_VERSION_ID = PDS3
/* FILE DATA ELEMENTS */
RECORD_TYPE = STREAM
/* POINTERS TO DATA OBJECTS */
^COMPRESSED_FILE = "H1475_0000_S23.JP2"
/* IDENTIFICATION DATA ELEMENTS */
DATA_SET_ID = "MEX-M-HRSC-5-REFDR-MAPPROJECTED-V3.0"
DATA_SET_NAME = "MARS EXPRESS HRSC MAP PROJECTED REFDR V3.0"
DETECTOR_ID = MEX_HRSC_S2
EVENT_TYPE = "MARS-REGIONAL-MAPPING-Te-Gl-Eo"
INSTRUMENT_HOST_ID = MEX
INSTRUMENT_HOST_NAME = "MARS EXPRESS"
INSTRUMENT_ID = HRSC
INSTRUMENT_NAME = "HIGH RESOLUTION STEREO CAMERA"
MISSION_NAME = "MARS EXPRESS"
MISSION_PHASE_NAME = MR_Phase_5
PROCESSING_LEVEL_ID = 3
PRODUCT_CREATION_TIME = 2016-03-05T14:51:22.000Z
PRODUCT_ID = "H1475_0000_S23.JP2"
RELEASE_ID = 0019
REVISION_ID = 0000
/* QUALITY DATA ELEMENTS */
DATA_QUALITY_ID = 1
DATA_QUALITY_DESC = "Data calculated based on original SPICE kernels"
/* TIME DATA ELEMENTS */
SPACECRAFT_CLOCK_START_COUNT = "1/0058645547.56480"
SPACECRAFT_CLOCK_STOP_COUNT = "1/0058645996.23578"
START_TIME = 2005-03-11T18:25:55.431Z
STOP_TIME = 2005-03-11T18:32:02.390Z
/* ORBITAL DATA ELEMENTS */
ASCENDING_NODE_LONGITUDE = 197.59
MAXIMUM_RESOLUTION = 28.6
FOOTPRINT_POINT_LATITUDE = (81.1361,81.479,81.7352,81.8123,81.4144 ,81.0103,80.6115,80.2059,79.7956, 79.3808,78.9626,78.5405,78.115,77.6868, 77.2559,76.8223,76.3864,75.9485,75.5089 ,75.0673,74.6239,74.1796,73.7322, 73.0603,72.6106,72.1596,71.7078,71.0292 ,70.568,70.0985,69.6282,69.1574,68.686, 68.2135,67.7408,67.0309,66.3191,65.607, 64.8937,64.1807,63.7051,63.2288,62.7527 ,62.2276,61.9522,61.4015,60.8512, 60.5754,60.0243,59.1988,58.6482,58.5407 ,58.41,58.3338,58.5526,59.1001,59.6466, 60.1932,60.7404,61.2869,61.8335,62.3581 ,62.8298,63.3017,63.7731,64.2442, 64.7152,65.4203,65.89,66.3587,67.0608, 67.5276,67.9944,68.6916,69.1559,69.8498 ,70.3112,70.7566,71.2017,71.6439, 72.0857,72.7452,73.4013,74.0514,74.4826 ,74.9116,75.3373,75.9715,76.3905, 76.8063,77.2181,77.8291,78.4291,78.8229 ,79.2133,79.5947,79.9697,80.335,80.7054 ,81.1361)
FOOTPRINT_POINT_LONGITUDE = (55.9627,58.2533,60.1707,62.2339, 63.9192,65.435,66.7984,68.0509,69.2044, 70.269,71.2542,72.1676,73.0163,73.8067, 74.5441,75.2333,75.8785,76.4838,77.0526 ,77.5876,78.0918,78.5679,79.0165, 79.6459,80.0379,80.4097,80.763,81.2616, 81.5777,81.8844,82.1765,82.4553,82.7213 ,82.975,83.2178,83.5625,83.8848,84.1876 ,84.4719,84.74,84.91,85.0732,85.2303, 85.3968,85.4813,85.6451,85.8023,85.878, 86.0251,86.2352,86.3681,85.648,84.5746, 83.9927,83.5127,83.3593,83.1975,83.0279 ,82.8515,82.6658,82.4716,82.2767, 82.0921,81.9005,81.7002,81.4915,81.2742 ,80.9293,80.687,80.4331,80.0307,79.7463 ,79.4497,78.9758,78.6418,78.1086, 77.7313,77.3464,76.9439,76.5178,76.0716 ,75.3569,74.5841,73.7424,73.1417, 72.5063,71.831,70.7418,69.9584,69.1249, 68.236,66.7911,65.192,64.0312,62.7896, 61.4514,60.0132,58.4623,56.7385, 55.9627)
ORBIT_NUMBER = 1475
ORBITAL_ECCENTRICITY = 0.566
ORBITAL_INCLINATION = 86.61
ORBITAL_SEMIMAJOR_AXIS = 8535.72
PERIAPSIS_ALTITUDE = 325.73
PERIAPSIS_ARGUMENT_ANGLE = 100.8
PERIAPSIS_TIME = 2005-03-11T18:27:26.000Z
SPACECRAFT_ORIENTATION = (0.0,1.0,0.0)
^MEX_ORIENTATION_DESC = "MEX_ORIENTATION_DESC.TXT"
SPACECRAFT_POINTING_MODE = ACROSSTRACK
^MEX_POINTING_DESC = "MEX_POINTING_DESC.TXT"
RIGHT_ASCENSION = -1e+32
DECLINATION = -1e+32
OFFSET_ANGLE = -1.603
SPACECRAFT_SOLAR_DISTANCE = 2.21395e+08
TARGET_NAME = MARS
/* CAMERA DATA ELEMENTS */
DETECTOR_TEMPERATURE = 18.5744
FOCAL_PLANE_TEMPERATURE = 6.9521
INST_CMPRS_NAME = "DISCRETE COSINE TRANSFORMATION (DCT)"
INST_CMPRS_RATIO = 15.1558
INST_CMPRS_QUALITY = 0
INST_CMPRS_QUANTZ_TBL_ID = 0
INSTRUMENT_TEMPERATURE = 11.4379
LENS_TEMPERATURE = 8.5833
MACROPIXEL_SIZE = 2
MISSING_FRAMES = 0
PIXEL_SUBSAMPLING_FLAG = N
SIGNAL_CHAIN_ID = 1
/* RADIOMETRIC DATA ELEMENTS */
BANDWIDTH = 178.0
CENTER_FILTER_WAVELENGTH = 679.0
RADIANCE_OFFSET = 1.99339
RADIANCE_SCALING_FACTOR = 0.0127628
REFLECTANCE_SCALING_FACTOR = 0.000331294
MEX:REFLECTANCE_OFFSET = 0.051744
/* IMAGE OBJECT DEFINITIONS */
OBJECT = IMAGE
  INTERCHANGE_FORMAT = BINARY
  LINES = 55515
  LINE_SAMPLES = 17897
  SAMPLE_TYPE = UNSIGNED_INTEGER
  SAMPLE_BITS = 8
  BANDS = 1
  BAND_STORAGE_TYPE = BAND_SEQUENTIAL
  MAXIMUM = 140
  MEAN = 88.0583
  MINIMUM = 46
  STANDARD_DEVIATION = 19.8013
END_OBJECT = IMAGE
/* MAP OBJECT DEFINITIONS */
OBJECT = IMAGE_MAP_PROJECTION
  ^DATA_SET_MAP_PROJECTION_CATALOG= "DSMAP.CAT"
  A_AXIS_RADIUS = 3396.0
  B_AXIS_RADIUS = 3396.0
  C_AXIS_RADIUS = 3396.0
  CENTER_LATITUDE = 0.0
  CENTER_LONGITUDE = 79.0
  COORDINATE_SYSTEM_NAME = PLANETOGRAPHIC
  COORDINATE_SYSTEM_TYPE = "BODY-FIXED ROTATING"
  EASTERNMOST_LONGITUDE = 86.3681
  FIRST_STANDARD_PARALLEL = "N/A"
  LINE_FIRST_PIXEL = 1
  LINE_LAST_PIXEL = 55515
  LINE_PROJECTION_OFFSET = 193932.25
  MAP_PROJECTION_ROTATION = 0.0
  MAP_PROJECTION_TYPE = SINUSOIDAL
  MAP_RESOLUTION = 2370.85521546667
  MAP_SCALE = 0.025
  MAXIMUM_LATITUDE = 81.81229999999999
  MINIMUM_LATITUDE = 58.3338
  POSITIVE_LONGITUDE_DIRECTION = EAST
  REFERENCE_LATITUDE = "N/A"
  REFERENCE_LONGITUDE = "N/A"
  SAMPLE_FIRST_PIXEL = 1
  SAMPLE_LAST_PIXEL = 17897
  SAMPLE_PROJECTION_OFFSET = 8582.25
  SECOND_STANDARD_PARALLEL = "N/A"
  WESTERNMOST_LONGITUDE = 55.9627
END_OBJECT = IMAGE_MAP_PROJECTION
/* The JPEG2000 image data file associated with this label. */
OBJECT = COMPRESSED_FILE
  FILE_NAME = "H1475_0000_S23.JP2"
  RECORD_TYPE = UNDEFINED
  FILE_RECORDS = UNK
  ENCODING_TYPE = "JP2"
  INTERCHANGE_FORMAT = BINARY
  UNCOMPRESSED_FILE_NAME = "H1475_0000_S23.IMG"
  REQUIRED_STORAGE_BYTES = "993605646"
  ^DESCRIPTION = "JP2INFO.TXT"
END_OBJECT = COMPRESSED_FILE
END
